0.30000000000000
0.00000000000000
0.00000000000000
-0.30000000000000
782500.150000
3167499.850000
