0.30000000000000
0.00000000000000
0.00000000000000
-0.30000000000000
792500.150000
3172499.850000
