0.30000000000000
0.00000000000000
0.00000000000000
-0.30000000000000
212500.150000
3164999.850000
