0.30000000000000
0.00000000000000
0.00000000000000
-0.30000000000000
252500.150000
3192499.850000
