0.30000000000000
0.00000000000000
0.00000000000000
-0.30000000000000
255000.150000
3192499.850000
