0.30000000000000
0.00000000000000
0.00000000000000
-0.30000000000000
257500.150000
3194999.850000
