0.30000000000000
0.00000000000000
0.00000000000000
-0.30000000000000
267500.150000
3202499.850000
