0.30000000000000
0.00000000000000
0.00000000000000
-0.30000000000000
272500.150000
3197499.850000
