0.30000000000000
0.00000000000000
0.00000000000000
-0.30000000000000
280000.150000
3204999.850000
