0.30000000000000
0.00000000000000
0.00000000000000
-0.30000000000000
290000.150000
3224999.850000
