0.30000000000000
0.00000000000000
0.00000000000000
-0.30000000000000
315000.150000
3254999.850000
