0.30000000000000
0.00000000000000
0.00000000000000
-0.30000000000000
322500.150000
3242499.850000
