0.30000000000000
0.00000000000000
0.00000000000000
-0.30000000000000
332500.150000
3249999.850000
