0.30000000000000
0.00000000000000
0.00000000000000
-0.30000000000000
340000.150000
3247499.850000
