0.30000000000000
0.00000000000000
0.00000000000000
-0.30000000000000
342500.150000
3257499.850000
