0.30000000000000
0.00000000000000
0.00000000000000
-0.30000000000000
357500.150000
3264999.850000
