0.2500000000
0.0000000000
0.0000000000
-0.2500000000
540000.2500000000
6779999.7500000000
