0.2500000000
0.0000000000
0.0000000000
-0.2500000000
543000.2500000000
6770999.7500000000
