<?xml version="1.0" encoding="utf-8"?>
<metadata>
  <idinfo>
    <citation>
      <citeinfo>
        <origin>Department of Commerce (DOC), National Oceanic and Atmospheric Administration (NOAA), National Ocean Service (NOS), Office for Coastal Management (OCM)</origin>
        <pubdate>202601</pubdate>
        <title>NOAA Office for Coastal Management Coastal Inundation Digital Elevation Model: North Carolina Southern 1 - Brunswick, New Hanover, and Pender Counties</title>
        <geoform>Raster</geoform>
        <pubinfo>
          <pubplace>Charleston, SC</pubplace>
          <publish>NOAA's Ocean Service, Office for Coastal Management (OCM)</publish>
        </pubinfo>
        <onlink>https://coast.noaa.gov/slr</onlink>
        <onlink>https://coast.noaa.gov/digitalcoast/tools/slr</onlink>
        <onlink>https://coast.noaa.gov/slrdata</onlink>
        <onlink>https://coast.noaa.gov</onlink>
      </citeinfo>
    </citation>
    <descript>
      <abstract>These data were created as part of the National Oceanic and Atmospheric Administration Office for Coastal Management's efforts to create an online mapping viewer called the Sea Level Rise and Coastal Flooding Impacts Viewer. It depicts potential sea level rise and its associated impacts on the nation's coastal areas. The purpose of the mapping viewer is to provide coastal managers and scientists with a preliminary look at sea level rise and coastal flooding impacts. The viewer is a screening-level tool that uses nationally consistent data sets and analyses. Data and maps provided can be used at several scales to help gauge trends and prioritize actions for different scenarios. The Sea Level Rise and Coastal Flooding Impacts Viewer may be accessed at: https://coast.noaa.gov/slr.
      
      This metadata record describes the North Carolina Southern 1 digital elevation model (DEM), which is a part of a series of DEMs produced for the National Oceanic and Atmospheric Administration Office for Coastal Management's Sea Level Rise and Coastal Flooding Impacts Viewer described above. This DEM includes the best available lidar known to exist at the time of DEM creation that met project specifications. This DEM includes data for Brunswick, New Hanover, and Pender Counties.
    
      The DEM was produced from the following lidar data sets:
      1. 2020 NOAA NC Topobathy
      2. 2020 USGS Hurricane Florence

      The DEM is referenced vertically to the North American Vertical Datum of 1988 (NAVD88, Geoid12B) with vertical units of meters and horizontally to the North American Datum of 1983, realization 2011 (NAD83(2011)). The resolution of the DEM is approximately 3 meters.</abstract>
      <purpose>The NOAA Office for Coastal Management has developed high-resolution digital elevation models (DEMs) for use in the Office's Sea Level Rise internet mapping application. These DEMs serve as source datasets used to derive data to visualize the impacts of inundation resulting from sea level rise along the coastal United States and its territories.</purpose>
      <supplinf>Source data and their associated metadata are available at the following URLs:
      	1. 2020 NOAA NGS Topobathy Lidar DEM: Hurricane Michael (NW Florida)
      	Metadata: https://prd-tnm.s3.amazonaws.com/index.html?prefix=StagedProducts/Elevation/metadata/NC_HurricaneFlorence_2020_D20/
      	Data Download: https://rockyweb.usgs.gov/vdelivery/Datasets/Staged/Elevation/OPR/Projects/NC_HurricaneFlorence_2020_D20/
        2. 2020 USGS Hurricane Florence
        Metadata: https://prd-tnm.s3.amazonaws.com/index.html?prefix=StagedProducts/Elevation/metadata/NC_HurricaneFlorence_2020_D20/
      	Data Download: https://rockyweb.usgs.gov/vdelivery/Datasets/Staged/Elevation/OPR/Projects/NC_HurricaneFlorence_2020_D20/
      
        </supplinf>
    </descript>
    <timeperd>
      <timeinfo>
        <rngdates>
          <begdate>2020</begdate>
          <enddate>2020</enddate>
        </rngdates>
      </timeinfo>
      <current>ground condition</current>
    </timeperd>
    <status>
      <progress>Complete</progress>
      <update>None planned</update>
    </status>
    <spdom>
      <bounding>      
        <westbc>-78.651808</westbc>
        <eastbc>-77.483460</eastbc>
        <northbc>34.733178</northbc>
        <southbc>33.751974</southbc>
      </bounding>
    </spdom>
    <keywords>
      <theme>
        <themekt>ISO 19115 Topic Category</themekt>
        <themekey>elevation</themekey>
      </theme>
      <theme>
        <themekt>None</themekt>
        <themekey>Bathymetry/Topography</themekey>
        <themekey>elevation</themekey>
        <themekey>Digital Elevation Model</themekey>
        <themekey>DEM</themekey>
        <themekey>lidar</themekey>
        <themekey>inundation</themekey>
        <themekey>flooding</themekey>
        <themekey>lidar</themekey>
        <themekey>topography</themekey>
        <themekey>sea level rise</themekey>
      </theme>
      <place>
        <placekt>None</placekt>
        <placekey>US</placekey>
        <placekey>North Carolina</placekey>Camden, Chowan, Currituck, Gates, Pasquotank, and Perquimans
        <placekey>Brunswick County</placekey>
        <placekey>New Hanover County</placekey>
        <placekey>Pender County</placekey>
    </keywords>
    <accconst>None</accconst>
    <useconst>The dataset is provided as is, without warranty to its performance, merchantable state, or fitness for any particular purpose. The entire risk associated with the results and performance of this dataset is assumed by the user. This dataset should be used strictly as a planning reference and not for navigation, permitting, or other legal purposes.</useconst>
    <datacred>Acknowledgment of the NOAA Office for Coastal Management as a data source would be appreciated in products developed from these data, and such acknowledgment, as is standard for citation and legal practices for data source, is expected.</datacred>
  </idinfo>
  <dataqual>
    <logic>Data covers the tile scheme provided for the project area. Elevation data checked for anomalous elevation values outside expected range.</logic>
    <complete>A visual qualitative check was performed to ensure data completeness. All available lidar data known at the time of DEM creation that meets project specifications has been used to develop the DEM. Known data gaps may exist where lidar coverage was incomplete.</complete>
    <posacc>
      <horizpa>
        <horizpar>The DEM is derived from the source lidar data. Horizontal accuracy testing is not performed on the DEM. Lidar source data assumed to meet 1 meter horizontal accuracy.</horizpar>
      </horizpa>
      <vertacc>
        <vertaccr>The DEM is derived from the source lidar data. Vertical accuracy is not tested on the DEM. Project specifications require all source lidar data used in constructing the DEM to meet FEMA Specifications for Flood Hazard Mapping.</vertaccr>
      </vertacc>
    </posacc>
    <lineage>
      <procstep>
        <procdesc>The source elevation datasets listed above were identified, downloaded, edited, and finalized.</procdesc>
        <procdate>2025</procdate>
      </procstep>
      <procstep>
        <procdesc>Source elevation data and their associated hydro-breaklines, where available, were downloaded. Data were then reviewed and edited to meet the project's requirements. The major requirements were delineating streams 10m or greater in width, removing bridges over streams greater than 10m wide, flattening inland water bodies, and converting data referenced to an older geoid to the current geoid, Geoid12B. NOAA's VDatum datum conversion tool was used to convert geoids. Ocean-connected water areas were removed from data prior to final mosaicking. Data were then mosaicked together based on date, with the most recent data taking priority. Ocean-connected water areas were given a value of -99 to standardize this area's value across sources, to flatten water for mapping, and to make it easy for users to remove ocean-connected water if desired.</procdesc>
        <procdate>2025</procdate>
      </procstep>
    </lineage>
  </dataqual>
  <spdoinfo>
    <direct>Raster</direct>
    <rastinfo>
      <rasttype>Grid Cell</rasttype>
      <rowcount>21539</rowcount>
      <colcount>46235</colcount>
      <vrtcount>1</vrtcount>
    </rastinfo>
  </spdoinfo>
  <spref>
    <horizsys>
      <geograph>
        <latres>0.000027</latres>
        <longres>0.000027</longres>
        <geogunit>Decimal degrees</geogunit>
      </geograph>
      <geodetic>
        <horizdn>North American Datum of 1983 (2011)</horizdn>
        <ellips>Geodetic Reference System 80</ellips>
        <semiaxis>6378137.000000</semiaxis>
        <denflat>298.257222101</denflat>
      </geodetic>
    </horizsys>
    <vertdef>
      <altsys>
        <altdatum>North American Vertical Datum of 1988</altdatum>
        <altres>0.001</altres>
        <altunits>meters</altunits>
        <altenc>Explicit elevation coordinate included with horizontal coordinates</altenc>
      </altsys>
    </vertdef>
  </spref>
  <distinfo>
    <distrib>
      <cntinfo>
        <cntorgp>
          <cntorg>NOAA Office for Coastal Management</cntorg>
        </cntorgp>
        <cntaddr>
          <addrtype>mailing and physical</addrtype>
          <address>2234 South Hobson Ave.</address>
          <city>Charleston</city>
          <state>SC</state>
          <postal>29405-2413</postal>
        </cntaddr>
        <cntvoice>843-740-1202</cntvoice>
        <cntemail>coastal.info@noaa.gov</cntemail>
      </cntinfo>
    </distrib>
    <resdesc>Downloadable Data</resdesc>
    <distliab>Any conclusions drawn from the analysis of this information are not the responsibility of the NOAA Office for Coastal Management or its partners.</distliab>
  </distinfo>
  <metainfo>
    <metd>20251123</metd>
    <metc>
      <cntinfo>
        <cntorgp>
          <cntorg>NOAA Office for Coastal Management</cntorg>
        </cntorgp>
        <cntaddr>
          <addrtype>mailing and physical</addrtype>
          <address>2234 South Hobson Avenue</address>
          <city>Charleston</city>
          <state>SC</state>
          <postal>29405-2413</postal>
        </cntaddr>
        <cntvoice>843-740-1202</cntvoice>
        <cntemail>coastal.info@noaa.gov</cntemail>
      </cntinfo>
    </metc>
    <metstdn>FGDC Content Standards for Digital Geospatial Metadata</metstdn>
    <metstdv>FGDC-STD-001-1998</metstdv>
  </metainfo>
</metadata>