<VRTDataset rasterXSize="11566438" rasterYSize="3134372">
  <SRS dataAxisToSRSAxisMapping="2,1">GEOGCS["NAD83(2011)",DATUM["NAD83_National_Spatial_Reference_System_2011",SPHEROID["GRS 1980",6378137,298.257222101,AUTHORITY["EPSG","7019"]],AUTHORITY["EPSG","1116"]],PRIMEM["Greenwich",0,AUTHORITY["EPSG","8901"]],UNIT["degree",0.0174532925199433,AUTHORITY["EPSG","9122"]],AXIS["Latitude",NORTH],AXIS["Longitude",EAST],AUTHORITY["EPSG","6318"]]</SRS>
  <GeoTransform> -1.7186248258519666e+02,  2.7471377788423400e-05,  0.0000000000000000e+00,  7.1473003831020492e+01,  0.0000000000000000e+00, -2.7471377788423376e-05</GeoTransform>
  <VRTRasterBand dataType="Float32" band="1">
    <NoDataValue>3.39999995214436425e+38</NoDataValue>
    <ColorInterp>Gray</ColorInterp>
    <ComplexSource>
      <SourceFilename relativeToVRT="1">_groups/SLR_Depth_0_0ft_6318_init.vrt</SourceFilename>
      <SourceBand>1</SourceBand>
      <SourceProperties RasterXSize="11665056" RasterYSize="2147714" DataType="Float32" BlockXSize="128" BlockYSize="128" />
      <SrcRect xOff="0" yOff="0" xSize="11665056" ySize="2147714" />
      <DstRect xOff="45351.5562761522" yOff="0" xSize="11521086.0141905" ySize="2121206.93873061" />
      <NODATA>3.39999995214436425e+38</NODATA>
    </ComplexSource>
    <ComplexSource>
      <SourceFilename relativeToVRT="1">_groups/SLR_Depth_0_0ft_4269_proj.vrt</SourceFilename>
      <SourceBand>1</SourceBand>
      <SourceProperties RasterXSize="3212741" RasterYSize="773414" DataType="Float32" BlockXSize="512" BlockYSize="128" />
      <SrcRect xOff="0" yOff="0" xSize="3212741" ySize="773414" />
      <DstRect xOff="492415.598028358" yOff="1071414.95590701" xSize="3150495.98779516" ySize="758429.547823683" />
      <NODATA>3.39999995214436425e+38</NODATA>
    </ComplexSource>
    <ComplexSource>
      <SourceFilename relativeToVRT="1">_groups/SLR_Depth_0_0ft_26904_proj.vrt</SourceFilename>
      <SourceBand>1</SourceBand>
      <SourceProperties RasterXSize="138616" RasterYSize="62289" DataType="Float32" BlockXSize="512" BlockYSize="128" />
      <SrcRect xOff="0" yOff="0" xSize="138616" ySize="62289" />
      <DstRect xOff="437407.757813776" yOff="1790510.66085243" xSize="144287.771379115" ySize="64837.6882281532" />
      <NODATA>3.39999995214436425e+38</NODATA>
    </ComplexSource>
    <ComplexSource>
      <SourceFilename relativeToVRT="1">_groups/SLR_Depth_0_0ft_6636_proj.vrt</SourceFilename>
      <SourceBand>1</SourceBand>
      <SourceProperties RasterXSize="101425" RasterYSize="19508" DataType="Float32" BlockXSize="512" BlockYSize="128" />
      <SrcRect xOff="0" yOff="0" xSize="101425" ySize="19508" />
      <DstRect xOff="35085.1157165742" yOff="3114637.61972376" xSize="102601.356349405" ySize="19734.2594001893" />
      <NODATA>3.39999995214436425e+38</NODATA>
    </ComplexSource>
    <ComplexSource>
      <SourceFilename relativeToVRT="1">_groups/SLR_Depth_0_0ft_6318_1_proj.vrt</SourceFilename>
      <SourceBand>1</SourceBand>
      <SourceProperties RasterXSize="781633" RasterYSize="362227" DataType="Float32" BlockXSize="512" BlockYSize="128" />
      <SrcRect xOff="0" yOff="0" xSize="781633" ySize="362227" />
      <DstRect xOff="0" yOff="277032.134755621" xSize="765375.798342535" ySize="354693.032799563" />
      <NODATA>3.39999995214436425e+38</NODATA>
    </ComplexSource>
  </VRTRasterBand>
</VRTDataset>
