<VRTDataset rasterXSize="11484416" rasterYSize="3112145">
  <SRS dataAxisToSRSAxisMapping="2,1">GEOGCS["NAD83(2011)",DATUM["NAD83_National_Spatial_Reference_System_2011",SPHEROID["GRS 1980",6378137,298.257222101,AUTHORITY["EPSG","7019"]],AUTHORITY["EPSG","1116"]],PRIMEM["Greenwich",0,AUTHORITY["EPSG","8901"]],UNIT["degree",0.0174532925199433,AUTHORITY["EPSG","9122"]],AXIS["Latitude",NORTH],AXIS["Longitude",EAST],AUTHORITY["EPSG","6318"]]</SRS>
  <GeoTransform> -1.7186248258519666e+02,  2.7667577183171206e-05,  0.0000000000000000e+00,  7.1473003831020492e+01,  0.0000000000000000e+00, -2.7667577183171183e-05</GeoTransform>
  <VRTRasterBand dataType="Float32" band="1">
    <NoDataValue>3.39999995214436425e+38</NoDataValue>
    <ColorInterp>Gray</ColorInterp>
    <ComplexSource>
      <SourceFilename relativeToVRT="1">_groups/SLR_Depth_7_5ft_4269_proj.vrt</SourceFilename>
      <SourceBand>1</SourceBand>
      <SourceProperties RasterXSize="3360429" RasterYSize="1027218" DataType="Float32" BlockXSize="512" BlockYSize="128" />
      <SrcRect xOff="0" yOff="0" xSize="3360429" ySize="1027218" />
      <DstRect xOff="488923.725875696" yOff="909838.422387867" xSize="3391103.69588794" ySize="1036594.65987308" />
      <NODATA>3.39999995214436425e+38</NODATA>
    </ComplexSource>
    <ComplexSource>
      <SourceFilename relativeToVRT="1">_groups/SLR_Depth_7_5ft_6318_init.vrt</SourceFilename>
      <SourceBand>1</SourceBand>
      <SourceProperties RasterXSize="11665056" RasterYSize="2147714" DataType="Float32" BlockXSize="128" BlockYSize="128" />
      <SrcRect xOff="0" yOff="0" xSize="11665055.6284559" ySize="2147714" />
      <DstRect xOff="45029.9542857306" yOff="0" xSize="11439386.0457143" ySize="2106164.80060776" />
      <NODATA>3.39999995214436425e+38</NODATA>
    </ComplexSource>
    <ComplexSource>
      <SourceFilename relativeToVRT="1">_groups/SLR_Depth_7_5ft_26904_proj.vrt</SourceFilename>
      <SourceBand>1</SourceBand>
      <SourceProperties RasterXSize="138616" RasterYSize="62289" DataType="Float32" BlockXSize="512" BlockYSize="128" />
      <SrcRect xOff="0" yOff="0" xSize="138616" ySize="62289" />
      <DstRect xOff="434305.963364161" yOff="1777813.59288645" xSize="143264.581917071" ySize="64377.9040156436" />
      <NODATA>3.39999995214436425e+38</NODATA>
    </ComplexSource>
    <ComplexSource>
      <SourceFilename relativeToVRT="1">_groups/SLR_Depth_7_5ft_6636_proj.vrt</SourceFilename>
      <SourceBand>1</SourceBand>
      <SourceProperties RasterXSize="101425" RasterYSize="19508" DataType="Float32" BlockXSize="512" BlockYSize="128" />
      <SrcRect xOff="0" yOff="0" xSize="101425" ySize="19507.9270203538" />
      <DstRect xOff="34836.3162491443" yOff="3092550.75567337" xSize="101873.778221303" ySize="19594.2443266343" />
      <NODATA>3.39999995214436425e+38</NODATA>
    </ComplexSource>
    <ComplexSource>
      <SourceFilename relativeToVRT="1">_groups/SLR_Depth_7_5ft_6318_1_proj.vrt</SourceFilename>
      <SourceBand>1</SourceBand>
      <SourceProperties RasterXSize="781633" RasterYSize="362227" DataType="Float32" BlockXSize="512" BlockYSize="128" />
      <SrcRect xOff="0" yOff="0" xSize="781633" ySize="362227" />
      <DstRect xOff="0" yOff="275067.613727817" xSize="759948.280515612" ySize="352177.794190276" />
      <NODATA>3.39999995214436425e+38</NODATA>
    </ComplexSource>
  </VRTRasterBand>
</VRTDataset>
