<VRTDataset rasterXSize="11686936" rasterYSize="3167026">
  <SRS dataAxisToSRSAxisMapping="2,1">GEOGCS["NAD83(2011)",DATUM["NAD83_National_Spatial_Reference_System_2011",SPHEROID["GRS 1980",6378137,298.257222101,AUTHORITY["EPSG","7019"]],AUTHORITY["EPSG","1116"]],PRIMEM["Greenwich",0,AUTHORITY["EPSG","8901"]],UNIT["degree",0.0174532925199433,AUTHORITY["EPSG","9122"]],AXIS["Latitude",NORTH],AXIS["Longitude",EAST],AUTHORITY["EPSG","6318"]]</SRS>
  <GeoTransform> -1.7186248258519666e+02,  2.7188133117740892e-05,  0.0000000000000000e+00,  7.1473003831020492e+01,  0.0000000000000000e+00, -2.7188133117740865e-05</GeoTransform>
  <VRTRasterBand dataType="Float32" band="1">
    <NoDataValue>3.39999995214436425e+38</NoDataValue>
    <ColorInterp>Gray</ColorInterp>
    <ComplexSource>
      <SourceFilename relativeToVRT="1">_groups/SLR_Depth_8_0ft_6318_init.vrt</SourceFilename>
      <SourceBand>1</SourceBand>
      <SourceProperties RasterXSize="11665056" RasterYSize="2147714" DataType="Float32" BlockXSize="128" BlockYSize="128" />
      <SrcRect xOff="0" yOff="0" xSize="11665055.8356947" ySize="2147714" />
      <DstRect xOff="45824.0266207231" yOff="0" xSize="11641111.9733793" ySize="2143305.57118207" />
      <NODATA>3.39999995214436425e+38</NODATA>
    </ComplexSource>
    <ComplexSource>
      <SourceFilename relativeToVRT="1">_groups/SLR_Depth_8_0ft_4269_proj.vrt</SourceFilename>
      <SourceBand>1</SourceBand>
      <SourceProperties RasterXSize="1956780" RasterYSize="655188" DataType="Float32" BlockXSize="512" BlockYSize="128" />
      <SrcRect xOff="0" yOff="0" xSize="1956780" ySize="655188" />
      <DstRect xOff="1742646.10388819" yOff="1082576.90386129" xSize="1938216.60856834" ySize="648972.425788628" />
      <NODATA>3.39999995214436425e+38</NODATA>
    </ComplexSource>
    <ComplexSource>
      <SourceFilename relativeToVRT="1">_groups/SLR_Depth_8_0ft_6636_proj.vrt</SourceFilename>
      <SourceBand>1</SourceBand>
      <SourceProperties RasterXSize="101425" RasterYSize="19508" DataType="Float32" BlockXSize="512" BlockYSize="128" />
      <SrcRect xOff="0" yOff="0" xSize="101425" ySize="19508" />
      <DstRect xOff="35450.6307743372" yOff="3147085.76550389" xSize="103670.25237345" ySize="19939.849970927" />
      <NODATA>3.39999995214436425e+38</NODATA>
    </ComplexSource>
    <ComplexSource>
      <SourceFilename relativeToVRT="1">_groups/SLR_Depth_8_0ft_6318_1_proj.vrt</SourceFilename>
      <SourceBand>1</SourceBand>
      <SourceProperties RasterXSize="781633" RasterYSize="362227" DataType="Float32" BlockXSize="512" BlockYSize="128" />
      <SrcRect xOff="0" yOff="0" xSize="781633" ySize="362227" />
      <DstRect xOff="0" yOff="279918.242287813" xSize="773349.446809352" ySize="358388.207853827" />
      <NODATA>3.39999995214436425e+38</NODATA>
    </ComplexSource>
  </VRTRasterBand>
</VRTDataset>
