<VRTDataset rasterXSize="11665056" rasterYSize="2147714">
  <SRS dataAxisToSRSAxisMapping="2,1">GEOGCS["NAD83(2011)",DATUM["NAD83_National_Spatial_Reference_System_2011",SPHEROID["GRS 1980",6378137,298.257222101,AUTHORITY["EPSG","7019"]],AUTHORITY["EPSG","1116"]],PRIMEM["Greenwich",0,AUTHORITY["EPSG","8901"]],UNIT["degree",0.0174532925199433,AUTHORITY["EPSG","9122"]],AXIS["Latitude",NORTH],AXIS["Longitude",EAST],AUTHORITY["EPSG","6318"]]</SRS>
  <GeoTransform> -1.7061661284944154e+02,  2.7132326362492221e-05,  0.0000000000000000e+00,  7.1473003831020492e+01,  0.0000000000000000e+00, -2.7132326362492224e-05</GeoTransform>
  <VRTRasterBand dataType="Float32" band="1">
    <NoDataValue>3.39999995214436425e+38</NoDataValue>
    <ColorInterp>Gray</ColorInterp>
    <ComplexSource>
      <SourceFilename relativeToVRT="0">./BulkDownload/Depth_Rasters/CA/CA_Catalina_slr_depth_0_5ft.tif</SourceFilename>
      <SourceBand>1</SourceBand>
      <SourceProperties RasterXSize="15850" RasterYSize="10547" DataType="Float32" BlockXSize="512" BlockYSize="512" />
      <SrcRect xOff="0" yOff="0" xSize="15850" ySize="10547" />
      <DstRect xOff="1914631.52470839" yOff="1398357.12575909" xSize="15743.1733605171" ySize="10475.9147907492" />
      <NODATA>3.39999995214436425e+38</NODATA>
    </ComplexSource>
    <ComplexSource>
      <SourceFilename relativeToVRT="0">./BulkDownload/Depth_Rasters/CA/CA_Delta_slr_depth_0_5ft.tif</SourceFilename>
      <SourceBand>1</SourceBand>
      <SourceProperties RasterXSize="75586" RasterYSize="80621" DataType="Float32" BlockXSize="512" BlockYSize="512" />
      <SrcRect xOff="0" yOff="0" xSize="75586" ySize="80621" />
      <DstRect xOff="1776235.89652797" yOff="1185539.29140805" xSize="75076.5616169095" ySize="80077.6264667643" />
      <NODATA>3.39999995214436425e+38</NODATA>
    </ComplexSource>
    <ComplexSource>
      <SourceFilename relativeToVRT="0">./BulkDownload/Depth_Rasters/CA/CA_North2_slr_depth_0_5ft.tif</SourceFilename>
      <SourceBand>1</SourceBand>
      <SourceProperties RasterXSize="48827" RasterYSize="46240" DataType="Float32" BlockXSize="512" BlockYSize="512" />
      <SrcRect xOff="0" yOff="0" xSize="48827" ySize="46240" />
      <DstRect xOff="1713106.08169779" yOff="1159857.61546805" xSize="48497.9132917321" ySize="45928.3492864539" />
      <NODATA>3.39999995214436425e+38</NODATA>
    </ComplexSource>
    <ComplexSource>
      <SourceFilename relativeToVRT="0">./BulkDownload/Depth_Rasters/CA/CA_South_slr_depth_0_5ft.tif</SourceFilename>
      <SourceBand>1</SourceBand>
      <SourceProperties RasterXSize="172751" RasterYSize="96017" DataType="Float32" BlockXSize="512" BlockYSize="512" />
      <SrcRect xOff="0" yOff="0" xSize="172751" ySize="96017" />
      <DstRect xOff="1838439.36386659" yOff="1340005.23301184" xSize="171586.683987547" ySize="95369.8597196678" />
      <NODATA>3.39999995214436425e+38</NODATA>
    </ComplexSource>
    <ComplexSource>
      <SourceFilename relativeToVRT="0">./BulkDownload/Depth_Rasters/CA/CA_Central_slr_depth_0_5ft.tif</SourceFilename>
      <SourceBand>1</SourceBand>
      <SourceProperties RasterXSize="105657" RasterYSize="88709" DataType="Float32" BlockXSize="512" BlockYSize="512" />
      <SrcRect xOff="0" yOff="0" xSize="105657" ySize="88709" />
      <DstRect xOff="1780083.53390334" yOff="1259964.35903835" xSize="104944.887555339" ySize="88111.1145512982" />
      <NODATA>3.39999995214436425e+38</NODATA>
    </ComplexSource>
    <ComplexSource>
      <SourceFilename relativeToVRT="0">./BulkDownload/Depth_Rasters/CA/CA_SFBay_slr_depth_0_5ft.tif</SourceFilename>
      <SourceBand>1</SourceBand>
      <SourceProperties RasterXSize="90042" RasterYSize="73171" DataType="Float32" BlockXSize="512" BlockYSize="512" />
      <SrcRect xOff="0" yOff="0" xSize="90042" ySize="73171" />
      <DstRect xOff="1731623.16152538" yOff="1201807.64621424" xSize="89435.1303298199" ySize="72677.8383572473" />
      <NODATA>3.39999995214436425e+38</NODATA>
    </ComplexSource>
    <ComplexSource>
      <SourceFilename relativeToVRT="0">./BulkDownload/Depth_Rasters/MA/MA_slr_depth_0_5ft.tif</SourceFilename>
      <SourceBand>1</SourceBand>
      <SourceProperties RasterXSize="75782" RasterYSize="63138" DataType="Float32" BlockXSize="512" BlockYSize="512" />
      <SrcRect xOff="0" yOff="0" xSize="75782" ySize="63138" />
      <DstRect xOff="3638341.61972564" yOff="1053551.98145712" xSize="75271.2406060993" ySize="62712.4592830474" />
      <NODATA>3.39999995214436425e+38</NODATA>
    </ComplexSource>
    <ComplexSource>
      <SourceFilename relativeToVRT="0">./BulkDownload/Depth_Rasters/ME/ME_West_slr_depth_0_5ft.tif</SourceFilename>
      <SourceBand>1</SourceBand>
      <SourceProperties RasterXSize="87637" RasterYSize="63494" DataType="Float32" BlockXSize="512" BlockYSize="512" />
      <SrcRect xOff="0" yOff="0" xSize="87637" ySize="63494" />
      <DstRect xOff="3677309.36211943" yOff="989434.353285631" xSize="87046.3396716471" ySize="63066.0598960663" />
      <NODATA>3.39999995214436425e+38</NODATA>
    </ComplexSource>
    <ComplexSource>
      <SourceFilename relativeToVRT="0">./BulkDownload/Depth_Rasters/ME/ME_East_slr_depth_0_5ft.tif</SourceFilename>
      <SourceBand>1</SourceBand>
      <SourceProperties RasterXSize="88020" RasterYSize="43242" DataType="Float32" BlockXSize="512" BlockYSize="512" />
      <SrcRect xOff="0" yOff="0" xSize="88020" ySize="43242" />
      <DstRect xOff="3735790.63901533" yOff="968589.38285797" xSize="87426.7583086865" ySize="42950.5553599661" />
      <NODATA>3.39999995214436425e+38</NODATA>
    </ComplexSource>
    <ComplexSource>
      <SourceFilename relativeToVRT="0">./BulkDownload/Depth_Rasters/RI/RI_slr_depth_0_5ft.tif</SourceFilename>
      <SourceBand>1</SourceBand>
      <SourceProperties RasterXSize="30467" RasterYSize="34315" DataType="Float32" BlockXSize="512" BlockYSize="512" />
      <SrcRect xOff="0" yOff="0" xSize="30467" ySize="34315" />
      <DstRect xOff="3638027.97583391" yOff="1085542.91447915" xSize="30261.6569574049" ySize="34083.7220104817" />
      <NODATA>3.39999995214436425e+38</NODATA>
    </ComplexSource>
    <ComplexSource>
      <SourceFilename relativeToVRT="0">./BulkDownload/Depth_Rasters/WA/WA_South_slr_depth_0_5ft.tif</SourceFilename>
      <SourceBand>1</SourceBand>
      <SourceProperties RasterXSize="160209" RasterYSize="46481" DataType="Float32" BlockXSize="512" BlockYSize="512" />
      <SrcRect xOff="0" yOff="0" xSize="160209" ySize="46481" />
      <DstRect xOff="1711393.90118095" yOff="909531.770079272" xSize="159129.215199686" ySize="46167.7249823454" />
      <NODATA>3.39999995214436425e+38</NODATA>
    </ComplexSource>
    <ComplexSource>
      <SourceFilename relativeToVRT="0">./BulkDownload/Depth_Rasters/WA/WA_PugetSound_West_slr_depth_0_5ft.tif</SourceFilename>
      <SourceBand>1</SourceBand>
      <SourceProperties RasterXSize="42544" RasterYSize="39033" DataType="Float32" BlockXSize="512" BlockYSize="512" />
      <SrcRect xOff="0" yOff="0" xSize="42544" ySize="39033" />
      <DstRect xOff="1724725.10728308" yOff="851444.177351688" xSize="51905.1378904567" ySize="47621.5975761139" />
      <NODATA>3.39999995214436425e+38</NODATA>
    </ComplexSource>
    <ComplexSource>
      <SourceFilename relativeToVRT="0">./BulkDownload/Depth_Rasters/WA/WA_PugetSound_SE_slr_depth_0_5ft.tif</SourceFilename>
      <SourceBand>1</SourceBand>
      <SourceProperties RasterXSize="64737" RasterYSize="32567" DataType="Float32" BlockXSize="512" BlockYSize="512" />
      <SrcRect xOff="0" yOff="0" xSize="64737" ySize="32567" />
      <DstRect xOff="1747379.51533856" yOff="872640.103806637" xSize="79031.4760935284" ySize="39758.0685224515" />
      <NODATA>3.39999995214436425e+38</NODATA>
    </ComplexSource>
    <ComplexSource>
      <SourceFilename relativeToVRT="0">./BulkDownload/Depth_Rasters/WA/WA_PugetSound_NE_slr_depth_0_5ft.tif</SourceFilename>
      <SourceBand>1</SourceBand>
      <SourceProperties RasterXSize="99092" RasterYSize="45604" DataType="Float32" BlockXSize="512" BlockYSize="512" />
      <SrcRect xOff="0" yOff="0" xSize="99092" ySize="45604" />
      <DstRect xOff="1743043.58496805" yOff="828149.037214067" xSize="98424.1346776231" ySize="45296.6358317353" />
      <NODATA>3.39999995214436425e+38</NODATA>
    </ComplexSource>
    <ComplexSource>
      <SourceFilename relativeToVRT="0">./BulkDownload/Depth_Rasters/FL/FL_Pan_East_slr_depth_0_5ft.tif</SourceFilename>
      <SourceBand>1</SourceBand>
      <SourceProperties RasterXSize="88978" RasterYSize="48105" DataType="Float32" BlockXSize="512" BlockYSize="512" />
      <SrcRect xOff="0" yOff="0" xSize="88978" ySize="48105" />
      <DstRect xOff="3118628.08123677" yOff="1497901.50348443" xSize="88378.3015313602" ySize="47780.7794642055" />
      <NODATA>3.39999995214436425e+38</NODATA>
    </ComplexSource>
    <ComplexSource>
      <SourceFilename relativeToVRT="0">./BulkDownload/Depth_Rasters/FL/FL_Pan_West_slr_depth_0_5ft.tif</SourceFilename>
      <SourceBand>1</SourceBand>
      <SourceProperties RasterXSize="66506" RasterYSize="29252" DataType="Float32" BlockXSize="512" BlockYSize="512" />
      <SrcRect xOff="0" yOff="0" xSize="66506" ySize="29252" />
      <DstRect xOff="3058367.53503118" yOff="1491671.14681038" xSize="66057.7594646391" ySize="29054.8458764566" />
      <NODATA>3.39999995214436425e+38</NODATA>
    </ComplexSource>
    <ComplexSource>
      <SourceFilename relativeToVRT="0">./BulkDownload/Depth_Rasters/GU/Guam_slr_depth_0_5ft.tif</SourceFilename>
      <SourceBand>1</SourceBand>
      <SourceProperties RasterXSize="15114" RasterYSize="18081" DataType="Float32" BlockXSize="512" BlockYSize="512" />
      <SrcRect xOff="0" yOff="0" xSize="15114" ySize="18081" />
      <DstRect xOff="11617158.3811649" yOff="2129754.53770627" xSize="15012.1338909049" ySize="17959.1367527757" />
      <NODATA>3.39999995214436425e+38</NODATA>
    </ComplexSource>
    <ComplexSource>
      <SourceFilename relativeToVRT="0">./BulkDownload/Depth_Rasters/NH/NH_slr_depth_0_5ft.tif</SourceFilename>
      <SourceBand>1</SourceBand>
      <SourceProperties RasterXSize="32604" RasterYSize="27773" DataType="Float32" BlockXSize="512" BlockYSize="512" />
      <SrcRect xOff="0" yOff="0" xSize="32604" ySize="27773" />
      <DstRect xOff="3654831.39550422" yOff="1031531.08393622" xSize="32384.2538956651" ySize="27585.8141161915" />
      <NODATA>3.39999995214436425e+38</NODATA>
    </ComplexSource>
    <ComplexSource>
      <SourceFilename relativeToVRT="0">./BulkDownload/Depth_Rasters/AK/AK_Teller_slr_depth_0_5ft.tif</SourceFilename>
      <SourceBand>1</SourceBand>
      <SourceProperties RasterXSize="42630" RasterYSize="14662" DataType="Float32" BlockXSize="512" BlockYSize="512" />
      <SrcRect xOff="0" yOff="0" xSize="42630" ySize="14662" />
      <DstRect xOff="127615.195939357" yOff="223720.292356984" xSize="42342.6801488214" ySize="14563.1803035897" />
      <NODATA>3.39999995214436425e+38</NODATA>
    </ComplexSource>
    <ComplexSource>
      <SourceFilename relativeToVRT="0">./BulkDownload/Depth_Rasters/AK/AK_ScammonBay_slr_depth_0_5ft.tif</SourceFilename>
      <SourceBand>1</SourceBand>
      <SourceProperties RasterXSize="17058" RasterYSize="6650" DataType="Float32" BlockXSize="512" BlockYSize="512" />
      <SrcRect xOff="0" yOff="0" xSize="17058" ySize="6650" />
      <DstRect xOff="173302.224437584" yOff="350702.020050603" xSize="16943.0316204222" ySize="6605.17999037457" />
      <NODATA>3.39999995214436425e+38</NODATA>
    </ComplexSource>
    <ComplexSource>
      <SourceFilename relativeToVRT="0">./BulkDownload/Depth_Rasters/AK/AK_POWI_slr_depth_0_5ft.tif</SourceFilename>
      <SourceBand>1</SourceBand>
      <SourceProperties RasterXSize="74973" RasterYSize="63401" DataType="Float32" BlockXSize="512" BlockYSize="512" />
      <SrcRect xOff="0" yOff="0" xSize="74973" ySize="63401" />
      <DstRect xOff="1352468.45513657" yOff="553306.89664702" xSize="74467.6931456164" ySize="62973.6867022158" />
      <NODATA>3.39999995214436425e+38</NODATA>
    </ComplexSource>
    <ComplexSource>
      <SourceFilename relativeToVRT="0">./BulkDownload/Depth_Rasters/AK/AK_PointHope_slr_depth_0_5ft.tif</SourceFilename>
      <SourceBand>1</SourceBand>
      <SourceProperties RasterXSize="56506" RasterYSize="18206" DataType="Float32" BlockXSize="512" BlockYSize="512" />
      <SrcRect xOff="0" yOff="0" xSize="56506" ySize="18206" />
      <DstRect xOff="116763.440985736" yOff="108851.691921316" xSize="56125.1579753534" ySize="18083.2942713924" />
      <NODATA>3.39999995214436425e+38</NODATA>
    </ComplexSource>
    <ComplexSource>
      <SourceFilename relativeToVRT="0">./BulkDownload/Depth_Rasters/AK/AK_Metlakatla_slr_depth_0_5ft.tif</SourceFilename>
      <SourceBand>1</SourceBand>
      <SourceProperties RasterXSize="21911" RasterYSize="15855" DataType="Float32" BlockXSize="512" BlockYSize="512" />
      <SrcRect xOff="0" yOff="0" xSize="21911" ySize="15855" />
      <DstRect xOff="1427902.6119285" yOff="592860.426677747" xSize="21763.3231231724" ySize="15748.1396612612" />
      <NODATA>3.39999995214436425e+38</NODATA>
    </ComplexSource>
    <ComplexSource>
      <SourceFilename relativeToVRT="0">./BulkDownload/Depth_Rasters/AK/AK_Mekoryuk_slr_depth_0_5ft.tif</SourceFilename>
      <SourceBand>1</SourceBand>
      <SourceProperties RasterXSize="13661" RasterYSize="5657" DataType="Float32" BlockXSize="512" BlockYSize="512" />
      <SrcRect xOff="0" yOff="0" xSize="13661" ySize="5657" />
      <DstRect xOff="152679.487644803" yOff="404654.976359651" xSize="13568.9268945119" ySize="5618.87266248845" />
      <NODATA>3.39999995214436425e+38</NODATA>
    </ComplexSource>
    <ComplexSource>
      <SourceFilename relativeToVRT="0">./BulkDownload/Depth_Rasters/AK/AK_Kotlik_slr_depth_0_5ft.tif</SourceFilename>
      <SourceBand>1</SourceBand>
      <SourceProperties RasterXSize="24579" RasterYSize="6613" DataType="Float32" BlockXSize="512" BlockYSize="512" />
      <SrcRect xOff="0" yOff="0" xSize="24579" ySize="6613" />
      <DstRect xOff="256289.78997979" yOff="306236.501859794" xSize="24413.3412005136" ySize="6568.42936486406" />
      <NODATA>3.39999995214436425e+38</NODATA>
    </ComplexSource>
    <ComplexSource>
      <SourceFilename relativeToVRT="0">./BulkDownload/Depth_Rasters/AK/AK_Kake_SecurityBay_slr_depth_0_5ft.tif</SourceFilename>
      <SourceBand>1</SourceBand>
      <SourceProperties RasterXSize="34615" RasterYSize="14994" DataType="Float32" BlockXSize="512" BlockYSize="512" />
      <SrcRect xOff="0" yOff="0" xSize="34615" ySize="14994" />
      <DstRect xOff="1334235.45469537" yOff="529318.817123999" xSize="34381.7000551598" ySize="14892.9426730339" />
      <NODATA>3.39999995214436425e+38</NODATA>
    </ComplexSource>
    <ComplexSource>
      <SourceFilename relativeToVRT="0">./BulkDownload/Depth_Rasters/AK/AK_Kachemak_slr_depth_0_5ft.tif</SourceFilename>
      <SourceBand>1</SourceBand>
      <SourceProperties RasterXSize="34308" RasterYSize="16596" DataType="Float32" BlockXSize="512" BlockYSize="512" />
      <SrcRect xOff="0" yOff="0" xSize="34308" ySize="16596" />
      <DstRect xOff="693262.788787546" yOff="429184.092597621" xSize="34076.7691894387" ySize="16484.1454316173" />
      <NODATA>3.39999995214436425e+38</NODATA>
    </ComplexSource>
    <ComplexSource>
      <SourceFilename relativeToVRT="0">./BulkDownload/Depth_Rasters/AK/AK_HooperBaytoNewtok_slr_depth_0_5ft.tif</SourceFilename>
      <SourceBand>1</SourceBand>
      <SourceProperties RasterXSize="78569" RasterYSize="47561" DataType="Float32" BlockXSize="512" BlockYSize="512" />
      <SrcRect xOff="0" yOff="0" xSize="78569" ySize="47561" />
      <DstRect xOff="154635.86563472" yOff="355225.022375912" xSize="78039.4566411624" ySize="47240.4459431879" />
      <NODATA>3.39999995214436425e+38</NODATA>
    </ComplexSource>
    <ComplexSource>
      <SourceFilename relativeToVRT="0">./BulkDownload/Depth_Rasters/AK/AK_Emmonak_slr_depth_0_5ft.tif</SourceFilename>
      <SourceBand>1</SourceBand>
      <SourceProperties RasterXSize="16028" RasterYSize="9763" DataType="Float32" BlockXSize="512" BlockYSize="512" />
      <SrcRect xOff="0" yOff="0" xSize="16028" ySize="9763" />
      <DstRect xOff="214440.007491589" yOff="318246.549341922" xSize="15919.9736670258" ySize="9697.19883398872" />
      <NODATA>3.39999995214436425e+38</NODATA>
    </ComplexSource>
    <ComplexSource>
      <SourceFilename relativeToVRT="0">./BulkDownload/Depth_Rasters/AK/AK_Anchorage_slr_depth_0_5ft.tif</SourceFilename>
      <SourceBand>1</SourceBand>
      <SourceProperties RasterXSize="59950" RasterYSize="28562" DataType="Float32" BlockXSize="512" BlockYSize="512" />
      <SrcRect xOff="0" yOff="0" xSize="59950" ySize="28562" />
      <DstRect xOff="745878.990359586" yOff="367608.860764781" xSize="59436.6652698578" ySize="28317.4317504199" />
      <NODATA>3.39999995214436425e+38</NODATA>
    </ComplexSource>
    <ComplexSource>
      <SourceFilename relativeToVRT="0">./BulkDownload/Depth_Rasters/AK/AK_Chefornak_slr_depth_0_5ft.tif</SourceFilename>
      <SourceBand>1</SourceBand>
      <SourceProperties RasterXSize="7488" RasterYSize="4511" DataType="Float32" BlockXSize="512" BlockYSize="512" />
      <SrcRect xOff="0" yOff="0" xSize="7488" ySize="4511" />
      <DstRect xOff="228251.296165214" yOff="415622.881302212" xSize="7423.88239433965" ySize="4472.37359520104" />
      <NODATA>3.39999995214436425e+38</NODATA>
    </ComplexSource>
    <ComplexSource>
      <SourceFilename relativeToVRT="0">./BulkDownload/Depth_Rasters/AK/AK_Kivalina_slr_depth_0_5ft.tif</SourceFilename>
      <SourceBand>1</SourceBand>
      <SourceProperties RasterXSize="17802" RasterYSize="7751" DataType="Float32" BlockXSize="512" BlockYSize="512" />
      <SrcRect xOff="0" yOff="0" xSize="17802" ySize="7751" />
      <DstRect xOff="215429.73211114" yOff="133521.479927651" xSize="17649.5665576984" ySize="7684.63040044495" />
      <NODATA>3.39999995214436425e+38</NODATA>
    </ComplexSource>
    <ComplexSource>
      <SourceFilename relativeToVRT="0">./BulkDownload/Depth_Rasters/AK/AK_Kwigillingok_slr_depth_0_5ft.tif</SourceFilename>
      <SourceBand>1</SourceBand>
      <SourceProperties RasterXSize="4824" RasterYSize="4596" DataType="Float32" BlockXSize="512" BlockYSize="512" />
      <SrcRect xOff="0" yOff="0" xSize="4824" ySize="4596" />
      <DstRect xOff="272131.128078114" yOff="426339.778518406" xSize="4782.69346558403" ySize="4556.64576447428" />
      <NODATA>3.39999995214436425e+38</NODATA>
    </ComplexSource>
    <ComplexSource>
      <SourceFilename relativeToVRT="0">./BulkDownload/Depth_Rasters/AK/AK_Levelock_slr_depth_0_5ft.tif</SourceFilename>
      <SourceBand>1</SourceBand>
      <SourceProperties RasterXSize="5564" RasterYSize="3013" DataType="Float32" BlockXSize="512" BlockYSize="512" />
      <SrcRect xOff="0" yOff="0" xSize="5564" ySize="3013" />
      <DstRect xOff="502784.36464278" yOff="453641.789932743" xSize="5516.35705690579" ySize="2987.20054141927" />
      <NODATA>3.39999995214436425e+38</NODATA>
    </ComplexSource>
    <ComplexSource>
      <SourceFilename relativeToVRT="0">./BulkDownload/Depth_Rasters/AK/AK_Savoonga_slr_depth_0_5ft.tif</SourceFilename>
      <SourceBand>1</SourceBand>
      <SourceProperties RasterXSize="9317" RasterYSize="5541" DataType="Float32" BlockXSize="512" BlockYSize="512" />
      <SrcRect xOff="0" yOff="0" xSize="9317" ySize="5541" />
      <DstRect xOff="0" yOff="284601.099350933" xSize="9237.22118964552" ySize="5493.55399933729" />
      <NODATA>3.39999995214436425e+38</NODATA>
    </ComplexSource>
    <ComplexSource>
      <SourceFilename relativeToVRT="0">./BulkDownload/Depth_Rasters/AK/AK_Shaktoolik_slr_depth_0_5ft.tif</SourceFilename>
      <SourceBand>1</SourceBand>
      <SourceProperties RasterXSize="17460" RasterYSize="9711" DataType="Float32" BlockXSize="512" BlockYSize="512" />
      <SrcRect xOff="0" yOff="0" xSize="17460" ySize="9711" />
      <DstRect xOff="341427.905568846" yOff="260125.215287172" xSize="17310.4950060337" ySize="9627.84748016" />
      <NODATA>3.39999995214436425e+38</NODATA>
    </ComplexSource>
    <ComplexSource>
      <SourceFilename relativeToVRT="0">./BulkDownload/Depth_Rasters/AK/AK_Tuntutuliak_slr_depth_0_5ft.tif</SourceFilename>
      <SourceBand>1</SourceBand>
      <SourceProperties RasterXSize="5227" RasterYSize="2499" DataType="Float32" BlockXSize="512" BlockYSize="512" />
      <SrcRect xOff="0" yOff="0" xSize="5227" ySize="2499" />
      <DstRect xOff="289774.212490377" yOff="408391.885273145" xSize="5182.24269166894" ySize="2477.60177663678" />
      <NODATA>3.39999995214436425e+38</NODATA>
    </ComplexSource>
    <ComplexSource>
      <SourceFilename relativeToVRT="0">./BulkDownload/Depth_Rasters/AK/AK_Tununak_Toksook_Bay_slr_depth_0_5ft.tif</SourceFilename>
      <SourceBand>1</SourceBand>
      <SourceProperties RasterXSize="19548" RasterYSize="11099" DataType="Float32" BlockXSize="512" BlockYSize="512" />
      <SrcRect xOff="0" yOff="0" xSize="19548" ySize="11099" />
      <DstRect xOff="190376.730929255" yOff="395265.105879691" xSize="19380.6160583018" ySize="11003.9624325298" />
      <NODATA>3.39999995214436425e+38</NODATA>
    </ComplexSource>
    <ComplexSource>
      <SourceFilename relativeToVRT="0">./BulkDownload/Depth_Rasters/AK/AK_Tyonek_slr_depth_0_5ft.tif</SourceFilename>
      <SourceBand>1</SourceBand>
      <SourceProperties RasterXSize="22945" RasterYSize="14473" DataType="Float32" BlockXSize="512" BlockYSize="512" />
      <SrcRect xOff="0" yOff="0" xSize="22945" ySize="14473" />
      <DstRect xOff="703345.675238251" yOff="374992.676573189" xSize="22748.5285173795" ySize="14349.0718340393" />
      <NODATA>3.39999995214436425e+38</NODATA>
    </ComplexSource>
    <ComplexSource>
      <SourceFilename relativeToVRT="0">./BulkDownload/Depth_Rasters/AK/AK_Dillingham_slr_depth_0_5ft.tif</SourceFilename>
      <SourceBand>1</SourceBand>
      <SourceProperties RasterXSize="17115" RasterYSize="16809" DataType="Float32" BlockXSize="512" BlockYSize="512" />
      <SrcRect xOff="0" yOff="0" xSize="17115" ySize="16809" />
      <DstRect xOff="432896.863366601" yOff="444723.316113097" xSize="16968.4491425118" ySize="16665.0693331277" />
      <NODATA>3.39999995214436425e+38</NODATA>
    </ComplexSource>
    <ComplexSource>
      <SourceFilename relativeToVRT="0">./BulkDownload/Depth_Rasters/AK/AK_Ekuk_slr_depth_0_5ft.tif</SourceFilename>
      <SourceBand>1</SourceBand>
      <SourceProperties RasterXSize="11647" RasterYSize="8602" DataType="Float32" BlockXSize="512" BlockYSize="512" />
      <SrcRect xOff="0" yOff="0" xSize="11647" ySize="8602" />
      <DstRect xOff="441422.34260852" yOff="460168.325802277" xSize="11568.5009545697" ySize="8544.02380108246" />
      <NODATA>3.39999995214436425e+38</NODATA>
    </ComplexSource>
    <ComplexSource>
      <SourceFilename relativeToVRT="0">./BulkDownload/Depth_Rasters/AK/AK_Goodnews_Bay_slr_depth_0_5ft.tif</SourceFilename>
      <SourceBand>1</SourceBand>
      <SourceProperties RasterXSize="10140" RasterYSize="4167" DataType="Float32" BlockXSize="512" BlockYSize="512" />
      <SrcRect xOff="0" yOff="0" xSize="10140" ySize="4167" />
      <DstRect xOff="328128.256167266" yOff="453328.993785605" xSize="10071.6579101351" ySize="4138.9150405852" />
      <NODATA>3.39999995214436425e+38</NODATA>
    </ComplexSource>
    <ComplexSource>
      <SourceFilename relativeToVRT="0">./BulkDownload/Depth_Rasters/AK/AK_Manokotak_slr_depth_0_5ft.tif</SourceFilename>
      <SourceBand>1</SourceBand>
      <SourceProperties RasterXSize="24372" RasterYSize="11102" DataType="Float32" BlockXSize="512" BlockYSize="512" />
      <SrcRect xOff="0" yOff="0" xSize="24372" ySize="11102" />
      <DstRect xOff="415371.896351296" yOff="455159.13990266" xSize="24207.7363496846" ySize="11027.1741734037" />
      <NODATA>3.39999995214436425e+38</NODATA>
