<VRTDataset rasterXSize="101217" rasterYSize="19338">
  <SRS dataAxisToSRSAxisMapping="1,2">PROJCS["NAD83(PA11) / UTM zone 2S",GEOGCS["NAD83(PA11)",DATUM["NAD83_National_Spatial_Reference_System_PA11",SPHEROID["GRS 1980",6378137,298.257222101,AUTHORITY["EPSG","7019"]],AUTHORITY["EPSG","1117"]],PRIMEM["Greenwich",0,AUTHORITY["EPSG","8901"]],UNIT["degree",0.0174532925199433,AUTHORITY["EPSG","9122"]],AUTHORITY["EPSG","6322"]],PROJECTION["Transverse_Mercator"],PARAMETER["latitude_of_origin",0],PARAMETER["central_meridian",-171],PARAMETER["scale_factor",0.9996],PARAMETER["false_easting",500000],PARAMETER["false_northing",10000000],UNIT["metre",1,AUTHORITY["EPSG","9001"]],AXIS["Easting",EAST],AXIS["Northing",NORTH],AUTHORITY["EPSG","6636"]]</SRS>
  <GeoTransform>  5.1094016000000009e+05,  3.0000000000000013e+00,  0.0000000000000000e+00,  8.4403295037977193e+06,  0.0000000000000000e+00, -3.0000000000000000e+00</GeoTransform>
  <VRTRasterBand dataType="Float32" band="1">
    <NoDataValue>3.39999995214436425e+38</NoDataValue>
    <ColorInterp>Gray</ColorInterp>
    <ComplexSource>
      <SourceFilename relativeToVRT="0">./BulkDownload/Depth_Rasters/AS/AS_Tutuila_slr_depth_10_0ft.tif</SourceFilename>
      <SourceBand>1</SourceBand>
      <SourceProperties RasterXSize="14545" RasterYSize="9035" DataType="Float32" BlockXSize="512" BlockYSize="512" />
      <SrcRect xOff="0" yOff="0" xSize="14545" ySize="9035" />
      <DstRect xOff="0" yOff="2637.05059923977" xSize="14545" ySize="9035" />
      <NODATA>3.39999995214436425e+38</NODATA>
    </ComplexSource>
    <ComplexSource>
      <SourceFilename relativeToVRT="0">./BulkDownload/Depth_Rasters/AS/AS_Tau_Ofu_Olosega_slr_depth_10_0ft.tif</SourceFilename>
      <SourceBand>1</SourceBand>
      <SourceProperties RasterXSize="13675" RasterYSize="8469" DataType="Float32" BlockXSize="512" BlockYSize="512" />
      <SrcRect xOff="0" yOff="0" xSize="13675" ySize="8469" />
      <DstRect xOff="41683.3722719701" yOff="0" xSize="13675" ySize="8469" />
      <NODATA>3.39999995214436425e+38</NODATA>
    </ComplexSource>
    <ComplexSource>
      <SourceFilename relativeToVRT="0">./BulkDownload/Depth_Rasters/AS/AS_RoseAtoll_slr_depth_10_0ft.tif</SourceFilename>
      <SourceBand>1</SourceBand>
      <SourceProperties RasterXSize="5321" RasterYSize="5224" DataType="Float32" BlockXSize="512" BlockYSize="512" />
      <SrcRect xOff="0" yOff="0" xSize="5320.91891717945" ySize="5223.80288855048" />
      <DstRect xOff="95896.0810828206" yOff="14114.1971114495" xSize="5320.91891717944" ySize="5223.80288855048" />
      <NODATA>3.39999995214436425e+38</NODATA>
    </ComplexSource>
  </VRTRasterBand>
  <OverviewList resampling="nearest">2 4 8 16 32</OverviewList>
</VRTDataset>
