<VRTDataset rasterXSize="1956780" rasterYSize="655188">
  <SRS dataAxisToSRSAxisMapping="2,1">GEOGCS["NAD83",DATUM["North_American_Datum_1983",SPHEROID["GRS 1980",6378137,298.257222101004,AUTHORITY["EPSG","7019"]],AUTHORITY["EPSG","6269"]],PRIMEM["Greenwich",0],UNIT["degree",0.0174532925199433,AUTHORITY["EPSG","9122"]],AXIS["Latitude",NORTH],AXIS["Longitude",EAST],AUTHORITY["EPSG","4269"]]</SRS>
  <GeoTransform> -1.2448317888738656e+02,  2.6930206882795750e-05,  0.0000000000000000e+00,  4.2039753071105565e+01,  0.0000000000000000e+00, -2.6930206882795730e-05</GeoTransform>
  <VRTRasterBand dataType="Float32" band="1">
    <NoDataValue>3.39999995214436425e+38</NoDataValue>
    <ColorInterp>Gray</ColorInterp>
    <ComplexSource>
      <SourceFilename relativeToVRT="0">./BulkDownload/Depth_Rasters/CA/CA_North1_slr_depth_7_0ft.tif</SourceFilename>
      <SourceBand>1</SourceBand>
      <SourceProperties RasterXSize="40087" RasterYSize="74409" DataType="Float32" BlockXSize="512" BlockYSize="512" />
      <SrcRect xOff="0" yOff="0" xSize="40087" ySize="74409" />
      <DstRect xOff="0" yOff="1403.91979397671" xSize="40042.0354991363" ySize="74325.5374424436" />
      <NODATA>3.39999995214436425e+38</NODATA>
    </ComplexSource>
    <ComplexSource>
      <SourceFilename relativeToVRT="0">./BulkDownload/Depth_Rasters/CT/CT_slr_depth_7_0ft.tif</SourceFilename>
      <SourceBand>1</SourceBand>
      <SourceProperties RasterXSize="72204" RasterYSize="40510" DataType="Float32" BlockXSize="512" BlockYSize="512" />
      <SrcRect xOff="0" yOff="0" xSize="72203.6145483695" ySize="40510" />
      <DstRect xOff="1884657.37428813" yOff="0" xSize="72122.6257118708" ySize="40464.5610315069" />
      <NODATA>3.39999995214436425e+38</NODATA>
    </ComplexSource>
    <ComplexSource>
      <SourceFilename relativeToVRT="0">./BulkDownload/Depth_Rasters/GA/GA_North_slr_depth_7_0ft.tif</SourceFilename>
      <SourceBand>1</SourceBand>
      <SourceProperties RasterXSize="45733" RasterYSize="48484" DataType="Float32" BlockXSize="512" BlockYSize="512" />
      <SrcRect xOff="0" yOff="0" xSize="45733" ySize="48484" />
      <DstRect xOff="1578165.60552666" yOff="350662.551324593" xSize="45765.6932240843" ySize="48518.6598359282" />
      <NODATA>3.39999995214436425e+38</NODATA>
    </ComplexSource>
    <ComplexSource>
      <SourceFilename relativeToVRT="0">./BulkDownload/Depth_Rasters/GA/GA_South_slr_depth_7_0ft.tif</SourceFilename>
      <SourceBand>1</SourceBand>
      <SourceProperties RasterXSize="46011" RasterYSize="54747" DataType="Float32" BlockXSize="512" BlockYSize="512" />
      <SrcRect xOff="0" yOff="0" xSize="46011" ySize="54747" />
      <DstRect xOff="1561877.85477522" yOff="379113.780984605" xSize="46043.8919583962" ySize="54786.1370769234" />
      <NODATA>3.39999995214436425e+38</NODATA>
    </ComplexSource>
    <ComplexSource>
      <SourceFilename relativeToVRT="0">./BulkDownload/Depth_Rasters/NC/NC_Middle1_slr_depth_7_0ft.tif</SourceFilename>
      <SourceBand>1</SourceBand>
      <SourceProperties RasterXSize="62648" RasterYSize="44623" DataType="Float32" BlockXSize="512" BlockYSize="512" />
      <SrcRect xOff="0" yOff="0" xSize="62648" ySize="44623" />
      <DstRect xOff="1743727.86441113" yOff="203920.727972396" xSize="62577.7294372214" ySize="44572.9475909386" />
      <NODATA>3.39999995214436425e+38</NODATA>
    </ComplexSource>
    <ComplexSource>
      <SourceFilename relativeToVRT="0">./BulkDownload/Depth_Rasters/NC/NC_Middle2_slr_depth_7_0ft.tif</SourceFilename>
      <SourceBand>1</SourceBand>
      <SourceProperties RasterXSize="44853" RasterYSize="46125" DataType="Float32" BlockXSize="512" BlockYSize="512" />
      <SrcRect xOff="0" yOff="0" xSize="44853" ySize="46125" />
      <DstRect xOff="1777840.85882767" yOff="215143.868664758" xSize="44802.6896061756" ySize="46073.2628382683" />
      <NODATA>3.39999995214436425e+38</NODATA>
    </ComplexSource>
    <ComplexSource>
      <SourceFilename relativeToVRT="0">./BulkDownload/Depth_Rasters/NC/NC_Northern_slr_depth_7_0ft.tif</SourceFilename>
      <SourceBand>1</SourceBand>
      <SourceProperties RasterXSize="46235" RasterYSize="21539" DataType="Float32" BlockXSize="512" BlockYSize="512" />
      <SrcRect xOff="0" yOff="0" xSize="46235" ySize="21539" />
      <DstRect xOff="1764988.37827742" yOff="203739.931230824" xSize="46183.1394542512" ySize="21514.8402877716" />
      <NODATA>3.39999995214436425e+38</NODATA>
    </ComplexSource>
    <ComplexSource>
      <SourceFilename relativeToVRT="0">./BulkDownload/Depth_Rasters/NC/NC_Southern1_slr_depth_7_0ft.tif</SourceFilename>
      <SourceBand>1</SourceBand>
      <SourceProperties RasterXSize="43433" RasterYSize="36476" DataType="Float32" BlockXSize="512" BlockYSize="512" />
      <SrcRect xOff="0" yOff="0" xSize="43433" ySize="36476" />
      <DstRect xOff="1701857.37696333" yOff="271315.221972793" xSize="43384.2823816698" ySize="36435.0858599172" />
      <NODATA>3.39999995214436425e+38</NODATA>
    </ComplexSource>
    <ComplexSource>
      <SourceFilename relativeToVRT="0">./BulkDownload/Depth_Rasters/NC/NC_Southern2_slr_depth_7_0ft.tif</SourceFilename>
      <SourceBand>1</SourceBand>
      <SourceProperties RasterXSize="64168" RasterYSize="50670" DataType="Float32" BlockXSize="512" BlockYSize="512" />
      <SrcRect xOff="0" yOff="0" xSize="64168" ySize="50670" />
      <DstRect xOff="1736028.78364687" yOff="233118.08769821" xSize="64096.0244944395" ySize="50613.1648350151" />
      <NODATA>3.39999995214436425e+38</NODATA>
    </ComplexSource>
    <ComplexSource>
      <SourceFilename relativeToVRT="0">./BulkDownload/Depth_Rasters/FL/FL_East_1_slr_depth_7_0ft.tif</SourceFilename>
      <SourceBand>1</SourceBand>
      <SourceProperties RasterXSize="60781" RasterYSize="68152" DataType="Float32" BlockXSize="512" BlockYSize="512" />
      <SrcRect xOff="0" yOff="0" xSize="60781" ySize="68152" />
      <DstRect xOff="1590163.24149169" yOff="491918.07605294" xSize="60824.4506123158" ySize="68200.7199310729" />
      <NODATA>3.39999995214436425e+38</NODATA>
    </ComplexSource>
    <ComplexSource>
      <SourceFilename relativeToVRT="0">./BulkDownload/Depth_Rasters/FL/FL_East_2_slr_depth_7_0ft.tif</SourceFilename>
      <SourceBand>1</SourceBand>
      <SourceProperties RasterXSize="69568" RasterYSize="55521" DataType="Float32" BlockXSize="512" BlockYSize="512" />
      <SrcRect xOff="0" yOff="0" xSize="69568" ySize="55521" />
      <DstRect xOff="1557579.34803298" yOff="452994.30703633" xSize="69617.7321892958" ySize="55560.6903875617" />
      <NODATA>-3.40282306073709653e+38</NODATA>
    </ComplexSource>
    <ComplexSource>
      <SourceFilename relativeToVRT="0">./BulkDownload/Depth_Rasters/FL/FL_Keys_slr_depth_7_0ft.tif</SourceFilename>
      <SourceBand>1</SourceBand>
      <SourceProperties RasterXSize="106365" RasterYSize="35616" DataType="Float32" BlockXSize="512" BlockYSize="512" />
      <SrcRect xOff="0" yOff="0" xSize="106365" ySize="35615.7751899164" />
      <DstRect xOff="1539811.31830756" yOff="619546.764102953" xSize="106441.037320527" ySize="35641.235897047" />
      <NODATA>-3.40282306073709653e+38</NODATA>
    </ComplexSource>
    <ComplexSource>
      <SourceFilename relativeToVRT="0">./BulkDownload/Depth_Rasters/FL/FL_NE_slr_depth_7_0ft.tif</SourceFilename>
      <SourceBand>1</SourceBand>
      <SourceProperties RasterXSize="33461" RasterYSize="44868" DataType="Float32" BlockXSize="512" BlockYSize="512" />
      <SrcRect xOff="0" yOff="0" xSize="33461" ySize="44868" />
      <DstRect xOff="1575615.52053286" yOff="416226.68021451" xSize="33484.9203194868" ySize="44900.0748601277" />
      <NODATA>-3.40282306073709653e+38</NODATA>
    </ComplexSource>
    <ComplexSource>
      <SourceFilename relativeToVRT="0">./BulkDownload/Depth_Rasters/FL/FL_SE_slr_depth_7_0ft.tif</SourceFilename>
      <SourceBand>1</SourceBand>
      <SourceProperties RasterXSize="33913" RasterYSize="69200" DataType="Float32" BlockXSize="512" BlockYSize="512" />
      <SrcRect xOff="0" yOff="0" xSize="33913" ySize="69200" />
      <DstRect xOff="1618849.14883607" yOff="559513.596492027" xSize="33937.2434414614" ySize="69249.4691165373" />
      <NODATA>3.39999995214436425e+38</NODATA>
    </ComplexSource>
    <ComplexSource>
      <SourceFilename relativeToVRT="0">./BulkDownload/Depth_Rasters/FL/FL_SW_slr_depth_7_0ft.tif</SourceFilename>
      <SourceBand>1</SourceBand>
      <SourceProperties RasterXSize="54882" RasterYSize="68442" DataType="Float32" BlockXSize="512" BlockYSize="512" />
      <SrcRect xOff="0" yOff="0" xSize="54882" ySize="68442" />
      <DstRect xOff="1565050.59723723" yOff="560341.027026186" xSize="54921.2335845928" ySize="68490.927243845" />
      <NODATA>3.39999995214436425e+38</NODATA>
    </ComplexSource>
    <ComplexSource>
      <SourceFilename relativeToVRT="0">./BulkDownload/Depth_Rasters/FL/FL_West_1_slr_depth_7_0ft.tif</SourceFilename>
      <SourceBand>1</SourceBand>
      <SourceProperties RasterXSize="51478" RasterYSize="64406" DataType="Float32" BlockXSize="512" BlockYSize="512" />
      <SrcRect xOff="0" yOff="0" xSize="51478" ySize="64406" />
      <DstRect xOff="1542628.6800172" yOff="503079.77374184" xSize="51514.1887209533" ySize="64451.2770263358" />
      <NODATA>-3.40282306073709653e+38</NODATA>
    </ComplexSource>
    <ComplexSource>
      <SourceFilename relativeToVRT="0">./BulkDownload/Depth_Rasters/FL/FL_West_2_slr_depth_7_0ft.tif</SourceFilename>
      <SourceBand>1</SourceBand>
      <SourceProperties RasterXSize="59490" RasterYSize="43037" DataType="Float32" BlockXSize="512" BlockYSize="512" />
      <SrcRect xOff="0" yOff="0" xSize="59490" ySize="43037" />
      <DstRect xOff="1531450.89850478" yOff="462214.683425317" xSize="59532.5277130465" ySize="43067.7659301796" />
      <NODATA>-3.40282306073709653e+38</NODATA>
    </ComplexSource>
    <ComplexSource>
      <SourceFilename relativeToVRT="0">./BulkDownload/Depth_Rasters/FL/FL_West_3_slr_depth_7_0ft.tif</SourceFilename>
      <SourceBand>1</SourceBand>
      <SourceProperties RasterXSize="49932" RasterYSize="39148" DataType="Float32" BlockXSize="512" BlockYSize="512" />
      <SrcRect xOff="0" yOff="0" xSize="49932" ySize="39148" />
      <DstRect xOff="1503228.60740314" yOff="435742.594917323" xSize="49967.6949700429" ySize="39175.9857944252" />
      <NODATA>-3.40282306073709653e+38</NODATA>
    </ComplexSource>
  </VRTRasterBand>
</VRTDataset>
