<VRTDataset rasterXSize="781633" rasterYSize="362227">
  <SRS dataAxisToSRSAxisMapping="2,1,3">COMPD_CS["NAD83(2011) + unknown",GEOGCS["NAD83(2011)",DATUM["NAD83_National_Spatial_Reference_System_2011",SPHEROID["GRS 1980",6378137,298.257222101,AUTHORITY["EPSG","7019"]],AUTHORITY["EPSG","1116"]],PRIMEM["Greenwich",0,AUTHORITY["EPSG","8901"]],UNIT["degree",0.0174532925199433,AUTHORITY["EPSG","9122"]],AXIS["Latitude",NORTH],AXIS["Longitude",EAST],AUTHORITY["EPSG","6318"]],VERT_CS["unknown",VERT_DATUM["unknown",2005],UNIT["metre",1,AUTHORITY["EPSG","9001"]],AXIS["Up",UP]]]</SRS>
  <GeoTransform> -1.7186248258519666e+02,  2.6900000008167444e-05,  0.0000000000000000e+00,  6.3862549397615403e+01,  0.0000000000000000e+00, -2.6900000008167329e-05</GeoTransform>
  <VRTRasterBand dataType="Float32" band="1">
    <NoDataValue>3.39999995214436425e+38</NoDataValue>
    <ColorInterp>Gray</ColorInterp>
    <ComplexSource>
      <SourceFilename relativeToVRT="0">./BulkDownload/Depth_Rasters/AK/AK_Eek_slr_depth_8_0ft.tif</SourceFilename>
      <SourceBand>1</SourceBand>
      <SourceProperties RasterXSize="2883" RasterYSize="1364" DataType="Float32" BlockXSize="512" BlockYSize="512" />
      <SrcRect xOff="0" yOff="0" xSize="2883" ySize="1364" />
      <DstRect xOff="364101.730111817" yOff="134975.69078693" xSize="2883" ySize="1364" />
      <NODATA>3.39999995214436425e+38</NODATA>
    </ComplexSource>
    <ComplexSource>
      <SourceFilename relativeToVRT="0">./BulkDownload/Depth_Rasters/AK/AK_Quinhagak_slr_depth_8_0ft.tif</SourceFilename>
      <SourceBand>1</SourceBand>
      <SourceProperties RasterXSize="11945" RasterYSize="5165" DataType="Float32" BlockXSize="512" BlockYSize="512" />
      <SrcRect xOff="0" yOff="0" xSize="11945" ySize="5165" />
      <DstRect xOff="365151.95934646" yOff="150957.674566583" xSize="11945" ySize="5165" />
      <NODATA>3.39999995214436425e+38</NODATA>
    </ComplexSource>
    <ComplexSource>
      <SourceFilename relativeToVRT="0">./BulkDownload/Depth_Rasters/AK/AK_Seldovia_slr_depth_8_0ft.tif</SourceFilename>
      <SourceBand>1</SourceBand>
      <SourceProperties RasterXSize="43453" RasterYSize="15782" DataType="Float32" BlockXSize="512" BlockYSize="512" />
      <SrcRect xOff="0" yOff="0" xSize="43453" ySize="15782" />
      <DstRect xOff="738179.555263727" yOff="156805.229191773" xSize="43453" ySize="15782" />
      <NODATA>3.39999995214436425e+38</NODATA>
    </ComplexSource>
    <ComplexSource>
      <SourceFilename relativeToVRT="0">./BulkDownload/Depth_Rasters/AK/AK_Togiak_Twin_Hills_slr_depth_8_0ft.tif</SourceFilename>
      <SourceBand>1</SourceBand>
      <SourceProperties RasterXSize="18902" RasterYSize="11023" DataType="Float32" BlockXSize="512" BlockYSize="512" />
      <SrcRect xOff="0" yOff="0" xSize="18902" ySize="11023" />
      <DstRect xOff="413587.309130239" yOff="172899.890290527" xSize="18902" ySize="11023" />
      <NODATA>3.39999995214436425e+38</NODATA>
    </ComplexSource>
    <ComplexSource>
      <SourceFilename relativeToVRT="0">./BulkDownload/Depth_Rasters/AK/AK_Gambell_slr_depth_8_0ft.tif</SourceFilename>
      <SourceBand>1</SourceBand>
      <SourceProperties RasterXSize="8788" RasterYSize="6945" DataType="Float32" BlockXSize="512" BlockYSize="512" />
      <SrcRect xOff="0" yOff="0" xSize="8788" ySize="6945" />
      <DstRect xOff="0" yOff="0" xSize="8788" ySize="6945" />
      <NODATA>3.39999995214436425e+38</NODATA>
    </ComplexSource>
    <ComplexSource>
      <SourceFilename relativeToVRT="0">./BulkDownload/Depth_Rasters/AK/AK_Akutan_slr_depth_8_0ft.tif</SourceFilename>
      <SourceBand>1</SourceBand>
      <SourceProperties RasterXSize="2930" RasterYSize="2538" DataType="Float32" BlockXSize="512" BlockYSize="512" />
      <SrcRect xOff="0" yOff="0" xSize="2930" ySize="2538" />
      <DstRect xOff="230700.194282255" yOff="359689" xSize="2930" ySize="2538" />
      <NODATA>3.39999995214436425e+38</NODATA>
    </ComplexSource>
  </VRTRasterBand>
  <OverviewList resampling="nearest">2 4 8 16 32</OverviewList>
</VRTDataset>
