<VRTDataset rasterXSize="3360429" rasterYSize="1027218">
  <SRS dataAxisToSRSAxisMapping="2,1">GEOGCS["NAD83",DATUM["North_American_Datum_1983",SPHEROID["GRS 1980",6378137,298.257222101004,AUTHORITY["EPSG","7019"]],AUTHORITY["EPSG","6269"]],PRIMEM["Greenwich",0],UNIT["degree",0.0174532925199433,AUTHORITY["EPSG","9122"]],AXIS["Latitude",NORTH],AXIS["Longitude",EAST],AUTHORITY["EPSG","4269"]]</SRS>
  <GeoTransform> -1.5833514766284719e+02,  2.7920132590843860e-05,  0.0000000000000000e+00,  4.6299973940355009e+01,  0.0000000000000000e+00, -2.7920132590843863e-05</GeoTransform>
  <VRTRasterBand dataType="Float32" band="1">
    <NoDataValue>3.39999995214436425e+38</NoDataValue>
    <ColorInterp>Gray</ColorInterp>
    <ComplexSource>
      <SourceFilename relativeToVRT="0">./BulkDownload/Depth_Rasters/AL/AL_slr_depth_9_5ft.tif</SourceFilename>
      <SourceBand>1</SourceBand>
      <SourceProperties RasterXSize="57910" RasterYSize="68600" DataType="Float32" BlockXSize="512" BlockYSize="512" />
      <SrcRect xOff="0" yOff="0" xSize="57910" ySize="68600" />
      <DstRect xOff="2502483.41739384" yOff="512451.577953305" xSize="55896.6952618501" ySize="66215.0456736819" />
      <NODATA>3.39999995214436425e+38</NODATA>
    </ComplexSource>
    <ComplexSource>
      <SourceFilename relativeToVRT="0">./BulkDownload/Depth_Rasters/CA/CA_North1_slr_depth_9_5ft.tif</SourceFilename>
      <SourceBand>1</SourceBand>
      <SourceProperties RasterXSize="40087" RasterYSize="74409" DataType="Float32" BlockXSize="512" BlockYSize="512" />
      <SrcRect xOff="0" yOff="0" xSize="40087" ySize="74409" />
      <DstRect xOff="1212457.30711759" yOff="153940.125669661" xSize="38622.3201659732" ySize="71690.2791735449" />
      <NODATA>3.39999995214436425e+38</NODATA>
    </ComplexSource>
    <ComplexSource>
      <SourceFilename relativeToVRT="0">./BulkDownload/Depth_Rasters/CT/CT_slr_depth_9_5ft.tif</SourceFilename>
      <SourceBand>1</SourceBand>
      <SourceProperties RasterXSize="72204" RasterYSize="40510" DataType="Float32" BlockXSize="512" BlockYSize="512" />
      <SrcRect xOff="0" yOff="0" xSize="72204" ySize="40510" />
      <DstRect xOff="3030292.97919496" yOff="152585.982727265" xSize="69565.8444199846" ySize="39029.8647921664" />
      <NODATA>3.39999995214436425e+38</NODATA>
    </ComplexSource>
    <ComplexSource>
      <SourceFilename relativeToVRT="0">./BulkDownload/Depth_Rasters/DE/DE_slr_depth_9_5ft.tif</SourceFilename>
      <SourceBand>1</SourceBand>
      <SourceProperties RasterXSize="29940" RasterYSize="51766" DataType="Float32" BlockXSize="512" BlockYSize="512" />
      <SrcRect xOff="0" yOff="0" xSize="29940" ySize="51766" />
      <DstRect xOff="2956476.82225328" yOff="231187.764490212" xSize="28899.1030243447" ySize="49966.2981682774" />
      <NODATA>3.39999995214436425e+38</NODATA>
    </ComplexSource>
    <ComplexSource>
      <SourceFilename relativeToVRT="0">./BulkDownload/Depth_Rasters/GA/GA_North_slr_depth_9_5ft.tif</SourceFilename>
      <SourceBand>1</SourceBand>
      <SourceProperties RasterXSize="45733" RasterYSize="48484" DataType="Float32" BlockXSize="512" BlockYSize="512" />
      <SrcRect xOff="0" yOff="0" xSize="45733" ySize="48484" />
      <DstRect xOff="2734668.06717979" yOff="490815.57467115" xSize="44143.0420378209" ySize="46798.4005020818" />
      <NODATA>3.39999995214436425e+38</NODATA>
    </ComplexSource>
    <ComplexSource>
      <SourceFilename relativeToVRT="0">./BulkDownload/Depth_Rasters/GA/GA_South_slr_depth_9_5ft.tif</SourceFilename>
      <SourceBand>1</SourceBand>
      <SourceProperties RasterXSize="46011" RasterYSize="54747" DataType="Float32" BlockXSize="512" BlockYSize="512" />
      <SrcRect xOff="0" yOff="0" xSize="46011" ySize="54747" />
      <DstRect xOff="2718957.80878597" yOff="518258.048245408" xSize="44411.3770625625" ySize="52843.6604299865" />
      <NODATA>3.39999995214436425e+38</NODATA>
    </ComplexSource>
    <ComplexSource>
      <SourceFilename relativeToVRT="0">./BulkDownload/Depth_Rasters/HI/HI_Hawaii_slr_depth_9_5ft.tif</SourceFilename>
      <SourceBand>1</SourceBand>
      <SourceProperties RasterXSize="51527" RasterYSize="54138" DataType="Float32" BlockXSize="512" BlockYSize="512" />
      <SrcRect xOff="0" yOff="0" xSize="51527" ySize="54138" />
      <DstRect xOff="78053.4444333521" yOff="929378.00419386" xSize="52372.946379472" ySize="55026.8125660693" />
      <NODATA>3.39999995214436425e+38</NODATA>
    </ComplexSource>
    <ComplexSource>
      <SourceFilename relativeToVRT="0">./BulkDownload/Depth_Rasters/HI/HI_Lanai_slr_depth_9_5ft.tif</SourceFilename>
      <SourceBand>1</SourceBand>
      <SourceProperties RasterXSize="13322" RasterYSize="10992" DataType="Float32" BlockXSize="512" BlockYSize="512" />
      <SrcRect xOff="0" yOff="0" xSize="13322" ySize="10992" />
      <DstRect xOff="43450.0872934833" yOff="906672.142103814" xSize="13503.4680516396" ySize="11141.7295318738" />
      <NODATA>3.39999995214436425e+38</NODATA>
    </ComplexSource>
    <ComplexSource>
      <SourceFilename relativeToVRT="0">./BulkDownload/Depth_Rasters/HI/HI_Oahu_slr_depth_9_5ft.tif</SourceFilename>
      <SourceBand>1</SourceBand>
      <SourceProperties RasterXSize="27300" RasterYSize="20607" DataType="Float32" BlockXSize="512" BlockYSize="512" />
      <SrcRect xOff="0" yOff="0" xSize="27300" ySize="20607" />
      <DstRect xOff="0" yOff="878823.405768052" xSize="26497.9394341793" ySize="20001.5764805909" />
      <NODATA>3.39999995214436425e+38</NODATA>
    </ComplexSource>
    <ComplexSource>
      <SourceFilename relativeToVRT="0">./BulkDownload/Depth_Rasters/NC/NC_Middle1_slr_depth_9_5ft.tif</SourceFilename>
      <SourceBand>1</SourceBand>
      <SourceProperties RasterXSize="62648" RasterYSize="44623" DataType="Float32" BlockXSize="512" BlockYSize="512" />
      <SrcRect xOff="0" yOff="0" xSize="62648" ySize="44623" />
      <DstRect xOff="2894360.21295433" yOff="349276.57415332" xSize="60358.9970254169" ySize="42992.5859447256" />
      <NODATA>3.39999995214436425e+38</NODATA>
    </ComplexSource>
    <ComplexSource>
      <SourceFilename relativeToVRT="0">./BulkDownload/Depth_Rasters/NC/NC_Middle2_slr_depth_9_5ft.tif</SourceFilename>
      <SourceBand>1</SourceBand>
      <SourceProperties RasterXSize="44853" RasterYSize="46125" DataType="Float32" BlockXSize="512" BlockYSize="512" />
      <SrcRect xOff="0" yOff="0" xSize="44853" ySize="46125" />
      <DstRect xOff="2927263.70988581" yOff="360101.791395273" xSize="43214.1823135778" ySize="44439.7065795771" />
      <NODATA>3.39999995214436425e+38</NODATA>
    </ComplexSource>
    <ComplexSource>
      <SourceFilename relativeToVRT="0">./BulkDownload/Depth_Rasters/NC/NC_Northern_slr_depth_9_5ft.tif</SourceFilename>
      <SourceBand>1</SourceBand>
      <SourceProperties RasterXSize="46235" RasterYSize="21539" DataType="Float32" BlockXSize="512" BlockYSize="512" />
      <SrcRect xOff="0" yOff="0" xSize="46235" ySize="21539" />
      <DstRect xOff="2914866.92204644" yOff="349102.187672939" xSize="44545.6874516369" ySize="20752.0182117618" />
      <NODATA>3.39999995214436425e+38</NODATA>
    </ComplexSource>
    <ComplexSource>
      <SourceFilename relativeToVRT="0">./BulkDownload/Depth_Rasters/NC/NC_Southern1_slr_depth_9_5ft.tif</SourceFilename>
      <SourceBand>1</SourceBand>
      <SourceProperties RasterXSize="43433" RasterYSize="36476" DataType="Float32" BlockXSize="512" BlockYSize="512" />
      <SrcRect xOff="0" yOff="0" xSize="43433" ySize="36476" />
      <DstRect xOff="2853974.26974349" yOff="414281.554351272" xSize="41846.0656015347" ySize="35143.2571749954" />
      <NODATA>3.39999995214436425e+38</NODATA>
    </ComplexSource>
    <ComplexSource>
      <SourceFilename relativeToVRT="0">./BulkDownload/Depth_Rasters/NC/NC_Southern2_slr_depth_9_5ft.tif</SourceFilename>
      <SourceBand>1</SourceBand>
      <SourceProperties RasterXSize="64168" RasterYSize="50670" DataType="Float32" BlockXSize="512" BlockYSize="512" />
      <SrcRect xOff="0" yOff="0" xSize="64168" ySize="50670" />
      <DstRect xOff="2886934.10789863" yOff="377438.723286717" xSize="61823.4599847876" ySize="48818.6435205895" />
      <NODATA>3.39999995214436425e+38</NODATA>
    </ComplexSource>
    <ComplexSource>
      <SourceFilename relativeToVRT="0">./BulkDownload/Depth_Rasters/NJ/NJ_Middle_slr_depth_9_5ft.tif</SourceFilename>
      <SourceBand>1</SourceBand>
      <SourceProperties RasterXSize="43704" RasterYSize="39040" DataType="Float32" BlockXSize="512" BlockYSize="512" />
      <SrcRect xOff="0" yOff="0" xSize="43704" ySize="39040" />
      <DstRect xOff="2982559.61850191" yOff="206788.707002709" xSize="42184.5824507665" ySize="37682.7315320776" />
      <NODATA>3.39999995214436425e+38</NODATA>
    </ComplexSource>
    <ComplexSource>
      <SourceFilename relativeToVRT="0">./BulkDownload/Depth_Rasters/NJ/NJ_Northern_slr_depth_9_5ft.tif</SourceFilename>
      <SourceBand>1</SourceBand>
      <SourceProperties RasterXSize="33615" RasterYSize="35384" DataType="Float32" BlockXSize="512" BlockYSize="512" />
      <SrcRect xOff="0" yOff="0" xSize="33615" ySize="35384" />
      <DstRect xOff="2991979.34351358" yOff="182527.10910907" xSize="32446.3376140062" ySize="34153.8363865534" />
      <NODATA>3.39999995214436425e+38</NODATA>
    </ComplexSource>
    <ComplexSource>
      <SourceFilename relativeToVRT="0">./BulkDownload/Depth_Rasters/NJ/NJ_Southern_slr_depth_9_5ft.tif</SourceFilename>
      <SourceBand>1</SourceBand>
      <SourceProperties RasterXSize="49776" RasterYSize="44875" DataType="Float32" BlockXSize="512" BlockYSize="512" />
      <SrcRect xOff="0" yOff="0" xSize="49776" ySize="44875" />
      <DstRect xOff="2964269.93784985" yOff="225746.112357693" xSize="48045.4827033992" ySize="43314.8713499486" />
      <NODATA>3.39999995214436425e+38</NODATA>
    </ComplexSource>
    <ComplexSource>
      <SourceFilename relativeToVRT="0">./BulkDownload/Depth_Rasters/NY/NY_HU_slr_depth_9_5ft.tif</SourceFilename>
      <SourceBand>1</SourceBand>
      <SourceProperties RasterXSize="18540" RasterYSize="56496" DataType="Float32" BlockXSize="512" BlockYSize="512" />
      <SrcRect xOff="0" yOff="0" xSize="18540" ySize="56496" />
      <DstRect xOff="3016238.17167719" yOff="125459.350527548" xSize="17895.4365421291" ySize="54531.8545244943" />
      <NODATA>3.39999995214436425e+38</NODATA>
    </ComplexSource>
    <ComplexSource>
      <SourceFilename relativeToVRT="0">./BulkDownload/Depth_Rasters/NY/NY_M_slr_depth_9_5ft.tif</SourceFilename>
      <SourceBand>1</SourceBand>
      <SourceProperties RasterXSize="31106" RasterYSize="31916" DataType="Float32" BlockXSize="512" BlockYSize="512" />
      <SrcRect xOff="0" yOff="0" xSize="31106" ySize="31916" />
      <DstRect xOff="3011263.66275839" yOff="177770.823168152" xSize="30024.565754017" ySize="30806.4052145954" />
      <NODATA>3.39999995214436425e+38</NODATA>
    </ComplexSource>
    <ComplexSource>
      <SourceFilename relativeToVRT="0">./BulkDownload/Depth_Rasters/NY/NY_SK_slr_depth_9_5ft.tif</SourceFilename>
      <SourceBand>1</SourceBand>
      <SourceProperties RasterXSize="64001" RasterYSize="28866" DataType="Float32" BlockXSize="512" BlockYSize="512" />
      <SrcRect xOff="0" yOff="0" xSize="64001" ySize="28866" />
      <DstRect xOff="3038454.714316" yOff="178677.04009731" xSize="61775.9349586198" ySize="27862.4418136516" />
      <NODATA>3.39999995214436425e+38</NODATA>
    </ComplexSource>
    <ComplexSource>
      <SourceFilename relativeToVRT="0">./BulkDownload/Depth_Rasters/PA/PA_slr_depth_9_5ft.tif</SourceFilename>
      <SourceBand>1</SourceBand>
      <SourceProperties RasterXSize="32742" RasterYSize="20105" DataType="Float32" BlockXSize="512" BlockYSize="512" />
      <SrcRect xOff="0" yOff="0" xSize="32742" ySize="20105" />
      <DstRect xOff="2963181.92654903" yOff="213367.928163892" xSize="31603.688417605" ySize="19406.0275986792" />
      <NODATA>3.39999995214436425e+38</NODATA>
    </ComplexSource>
    <ComplexSource>
      <SourceFilename relativeToVRT="0">./BulkDownload/Depth_Rasters/TX/TX_Central_slr_depth_9_5ft.tif</SourceFilename>
      <SourceBand>1</SourceBand>
      <SourceProperties RasterXSize="67214" RasterYSize="46118" DataType="Float32" BlockXSize="512" BlockYSize="512" />
      <SrcRect xOff="0" yOff="0" xSize="67214" ySize="46118" />
      <DstRect xOff="2185813.64820813" yOff="610140.229630965" xSize="64877.2314782638" ySize="44514.6570850502" />
      <NODATA>3.39999995214436425e+38</NODATA>
    </ComplexSource>
    <ComplexSource>
      <SourceFilename relativeToVRT="0">./BulkDownload/Depth_Rasters/TX/TX_North1_slr_depth_9_5ft.tif</SourceFilename>
      <SourceBand>1</SourceBand>
      <SourceProperties RasterXSize="45518" RasterYSize="62416" DataType="Float32" BlockXSize="512" BlockYSize="512" />
      <SrcRect xOff="0" yOff="0" xSize="45518" ySize="62416" />
      <DstRect xOff="2277975.26186192" yOff="541275.026639258" xSize="43935.5167819756" ySize="60246.0392693834" />
      <NODATA>3.39999995214436425e+38</NODATA>
    </ComplexSource>
    <ComplexSource>
      <SourceFilename relativeToVRT="0">./BulkDownload/Depth_Rasters/TX/TX_North2_slr_depth_9_5ft.tif</SourceFilename>
      <SourceBand>1</SourceBand>
      <SourceProperties RasterXSize="59722" RasterYSize="64054" DataType="Float32" BlockXSize="512" BlockYSize="512" />
      <SrcRect xOff="0" yOff="0" xSize="59722" ySize="64054" />
      <DstRect xOff="2233991.262144" yOff="566097.550883772" xSize="57645.6990941301" ySize="61827.0923575132" />
      <NODATA>3.39999995214436425e+38</NODATA>
    </ComplexSource>
    <ComplexSource>
      <SourceFilename relativeToVRT="0">./BulkDownload/Depth_Rasters/TX/TX_South1_slr_depth_9_5ft.tif</SourceFilename>
      <SourceBand>1</SourceBand>
      <SourceProperties RasterXSize="43825" RasterYSize="37044" DataType="Float32" BlockXSize="512" BlockYSize="512" />
      <SrcRect xOff="0" yOff="0" xSize="43825" ySize="37044" />
      <DstRect xOff="2163026.55072821" yOff="635534.674584579" xSize="42301.3757243874" ySize="35756.1246396853" />
      <NODATA>3.39999995214436425e+38</NODATA>
    </ComplexSource>
    <ComplexSource>
      <SourceFilename relativeToVRT="0">./BulkDownload/Depth_Rasters/TX/TX_South2_slr_depth_9_5ft.tif</SourceFilename>
      <SourceBand>1</SourceBand>
      <SourceProperties RasterXSize="36085" RasterYSize="66805" DataType="Float32" BlockXSize="512" BlockYSize="512" />
      <SrcRect xOff="0" yOff="0" xSize="36085" ySize="66805" />
      <DstRect xOff="2158812.64144188" yOff="668447.27110933" xSize="34830.4653581382" ySize="64482.4508313821" />
      <NODATA>3.39999995214436425e+38</NODATA>
    </ComplexSource>
    <ComplexSource>
      <SourceFilename relativeToVRT="0">./BulkDownload/Depth_Rasters/VI/USVI_slr_depth_9_5ft.tif</SourceFilename>
      <SourceBand>1</SourceBand>
      <SourceProperties RasterXSize="23301" RasterYSize="31432" DataType="Float32" BlockXSize="512" BlockYSize="512" />
      <SrcRect xOff="0" yOff="0" xSize="23301" ySize="31431.700988344" />
      <DstRect xOff="3337937.92127783" yOff="996879.056610136" xSize="22490.915149307" ySize="30338.9433898644" />
      <NODATA>3.39999995214436425e+38</NODATA>
    </ComplexSource>
    <ComplexSource>
      <SourceFilename relativeToVRT="0">./BulkDownload/Depth_Rasters/DC/DC_slr_depth_9_5ft.tif</SourceFilename>
      <SourceBand>1</SourceBand>
      <SourceProperties RasterXSize="7879" RasterYSize="7583" DataType="Float32" BlockXSize="512" BlockYSize="512" />
      <SrcRect xOff="0" yOff="0" xSize="7879" ySize="7583" />
      <DstRect xOff="2908821.46851908" yOff="261587.537077744" xSize="7605.077913454" ySize="7319.3686784772" />
      <NODATA>3.39999995214436425e+38</NODATA>
    </ComplexSource>
    <ComplexSource>
      <SourceFilename relativeToVRT="0">./BulkDownload/Depth_Rasters/FL/FL_East_1_slr_depth_9_5ft.tif</SourceFilename>
      <SourceBand>1</SourceBand>
      <SourceProperties RasterXSize="60781" RasterYSize="68152" DataType="Float32" BlockXSize="512" BlockYSize="512" />
      <SrcRect xOff="0" yOff="0" xSize="60781" ySize="68152" />
      <DstRect xOff="2746240.31948164" yOff="627062.796703316" xSize="58667.8817943446" ySize="65782.6208856085" />
      <NODATA>3.39999995214436425e+38</NODATA>
    </ComplexSource>
    <ComplexSource>
      <SourceFilename relativeToVRT="0">./BulkDownload/Depth_Rasters/FL/FL_East_2_slr_depth_9_5ft.tif</SourceFilename>
      <SourceBand>1</SourceBand>
      <SourceProperties RasterXSize="69568" RasterYSize="55521" DataType="Float32" BlockXSize="512" BlockYSize="512" />
      <SrcRect xOff="0" yOff="0" xSize="69568" ySize="55521" />
      <DstRect xOff="2714811.70828021" yOff="589519.094184539" xSize="67149.392090768" ySize="53590.7514700944" />
      <NODATA>-3.40282306073709653e+38</NODATA>
    </ComplexSource>
    <ComplexSource>
      <SourceFilename relativeToVRT="0">./BulkDownload/Depth_Rasters/FL/FL_Keys_slr_depth_9_5ft.tif</SourceFilename>
      <SourceBand>1</SourceBand>
      <SourceProperties RasterXSize="106365" RasterYSize="35616" DataType="Float32" BlockXSize="512" BlockYSize="512" />
      <SrcRect xOff="0" yOff="0" xSize="106365" ySize="35616" />
      <DstRect xOff="2697673.65512634" yOff="750166.330047345" xSize="102667.103980775" ySize="34377.7706518053" />
      <NODATA>-3.40282306073709653e+38</NODATA>
    </ComplexSource>
    <ComplexSource>
      <SourceFilename relativeToVRT="0">./BulkDownload/Depth_Rasters/FL/FL_NE_slr_depth_9_5ft.tif</SourceFilename>
      <SourceBand>1</SourceBand>
      <SourceProperties RasterXSize="33461" RasterYSize="44868" DataType="Float32" BlockXSize="512" BlockYSize="512" />
      <SrcRect xOff="0" yOff="0" xSize="33461" ySize="44868" />
      <DstRect xOff="2732208.39703931" yOff="554055.086494771" xSize="32297.6915931062" ySize="43308.1147126353" />
      <NODATA>-3.40282306073709653e+38</NODATA>
    </ComplexSource>
    <ComplexSource>
      <SourceFilename relativeToVRT="0">./BulkDownload/Depth_Rasters/FL/FL_SE_slr_depth_9_5ft.tif</SourceFilename>
      <SourceBand>1</SourceBand>
      <SourceProperties RasterXSize="33913" RasterYSize="69200" DataType="Float32" BlockXSize="512" BlockYSize="512" />
      <SrcRect xOff="0" yOff="0" xSize="33913" ySize="69200" />
      <DstRect xOff="2773909.15009666" yOff="692261.675822244" xSize="32733.9773167866" ySize="66794.1860148508" />
      <NODATA>3.39999995214436425e+38</NODATA>
    </ComplexSource>
    <ComplexSource>
      <SourceFilename relativeToVRT="0">./BulkDownload/Depth_Rasters/FL/FL_SW_slr_depth_9_5ft.tif</SourceFilename>
      <SourceBand>1</SourceBand>
      <SourceProperties RasterXSize="54882" RasterYSize="68442" DataType="Float32" BlockXSize="512" BlockYSize="512" />
      <SrcRect xOff="0" yOff="0" xSize="54882" ySize="68442" />
      <DstRect xOff="2722018.05968591" yOff="693059.769290946" xSize="52973.9670067495" ySize="66062.5387171741" />
      <NODATA>3.39999995214436425e+38</NODATA>
    </ComplexSource>
    <ComplexSource>
      <SourceFilename relativeToVRT="0">./BulkDownload/Depth_Rasters/FL/FL_West_1_slr_depth_9_5ft.tif</SourceFilename>
      <SourceBand>1</SourceBand>
      <SourceProperties RasterXSize="51478" RasterYSize="64406" DataType="Float32" BlockXSize="512" BlockYSize="512" />
      <SrcRect xOff="0" yOff="0" xSize="51478" ySize="64406" />
      <DstRect xOff="2700391.12552005" yOff="637828.749441803" xSize="49687.7210429009" ySize="62166.1168166803" />
      <NODATA>-3.40282306073709653e+38</NODATA>
    </ComplexSource>
    <ComplexSource>
      <SourceFilename relativeToVRT="0">./BulkDownload/Depth_Rasters/FL/FL_West_2_slr_depth_9_5ft.tif</SourceFilename>
      <SourceBand>1</SourceBand>
      <SourceProperties RasterXSize="59490" RasterYSize="43037" DataType="Float32" BlockXSize="512" BlockYSize="512" />
      <SrcRect xOff="0" yOff="0" xSize="59490" ySize="43037" />
      <DstRect xOff="2689609.65922004" yOff="598412.556380134" xSize="57421.764826929" ySize="41540.7714381668" />
      <NODATA>-3.40282306073709653e+38</NODATA>
    </ComplexSource>
    <ComplexSource>
      <SourceFilename relativeToVRT="0">./BulkDownload/Depth_Rasters/FL/FL_West_3_slr_depth_9_5ft.tif</SourceFilename>
      <SourceBand>1</SourceBand>
      <SourceProperties RasterXSize="49932" RasterYSize="39148" DataType="Float32" BlockXSize="512" BlockYSize="512" />
      <SrcRect xOff="0" yOff="0" xSize="49932" ySize="39148" />
      <DstRect xOff="2662388.00704483" yOff="572879.052274435" xSize="48196.0591921035" ySize="37786.9767934884" />
      <NODATA>-3.40282306073709653e+38</NODATA>
    </ComplexSource>
    <ComplexSource>
      <SourceFilename relativeToVRT="0">./BulkDownload/Depth_Rasters/LA/LA_Central_slr_depth_9_5ft.tif</SourceFilename>
      <SourceBand>1</SourceBand>
      <SourceProperties RasterXSize="61525" RasterYSize="46752" DataType="Float32" BlockXSize="512" BlockYSize="512" />
      <SrcRect xOff="0" yOff="0" xSize="61525" ySize="46752" />
      <DstRect xOff="2349398.19353072" yOff="565947.678743312" xSize="59386.0158173949" ySize="45126.6153839065" />
      <NODATA>3.39999995214436425e+38</NODATA>
    </ComplexSource>
    <ComplexSource>
      <SourceFilename relativeToVRT="0">./BulkDownload/Depth_Rasters/LA/LA_CentralEast_slr_depth_9_5ft.tif</SourceFilename>
      <SourceBand>1</SourceBand>
      <SourceProperties RasterXSize="63242" RasterYSize="62075" DataType="Float32" BlockXSize="512" BlockYSize="512" />
      <SrcRect xOff="0" yOff="0" xSize="63242" ySize="62075" />
      <DstRect xOff="2386553.43263277" yOff="560232.424138017" xSize="61043.3224270406" ySize="59916.8944634664" />
      <NODATA>3.39999995214436425e+38</NODATA>
    </ComplexSource>
    <ComplexSource>
      <SourceFilename relativeToVRT="0">./BulkDownload/Depth_Rasters/LA/LA_Delta_slr_depth_9_5ft.tif</SourceFilename>
      <SourceBand>1</SourceBand>
      <SourceProperties RasterXSize="71705" RasterYSize="50422" DataType="Float32" BlockXSize="512" BlockYSize="512" />
      <SrcRect xOff="0" yOff="0" xSize="71705" ySize="50422" />
      <DstRect xOff="2422817.37123662" yOff="576176.128855385" xSize="69212.0969392324" ySize="48669.0238040579" />
      <NODATA>3.39999995214436425e+38</NODATA>
    </ComplexSource>
    <ComplexSource>
      <SourceFilename relativeToVRT="0">./BulkDownload/Depth_Rasters/LA/LA_CentralNorth_slr_depth_9_5ft.tif</SourceFilename>
      <SourceBand>1</SourceBand>
      <SourceProperties RasterXSize="49220" RasterYSize="26515" DataType="Float32" BlockXSize="512" BlockYSize="512" />
      <SrcRect xOff="0" yOff="0" xSize="49220" ySize="26515" />
      <DstRect xOff="2353150.12845486" yOff="547541.666594031" xSize="47508.8126539159" ySize="25593.1769101703" />
      <NODATA>3.39999995214436425e+38</NODATA>
    </ComplexSource>
    <ComplexSource>
      <SourceFilename relativeToVRT="0">./BulkDownload/Depth_Rasters/LA/LA_LP_slr_depth_9_5ft.tif</SourceFilename>
      <SourceBand>1</SourceBand>
      <SourceProperties RasterXSize="80111" RasterYSize="40487" DataType="Float32" BlockXSize="512" BlockYSize="512" />
      <SrcRect xOff="0" yOff="0" xSize="80111" ySize="40487" />
      <DstRect xOff="2387969.62181997" yOff="547979.334299676" xSize="77325.8531190135" ySize="39079.4249881977" />
      <NODATA>3.39999995214436425e+38</NODATA>
    </ComplexSource>
    <ComplexSource>
      <SourceFilename relativeToVRT="0">./BulkDownload/Depth_Rasters/LA/LA_West_slr_depth_9_5ft.tif</SourceFilename>
      <SourceBand>1</SourceBand>
      <SourceProperties RasterXSize="50040" RasterYSize="45013" DataType="Float32" BlockXSize="512" BlockYSize="512" />
      <SrcRect xOff="0" yOff="0" xSize="50040" ySize="45013" />
      <DstRect xOff="2306755.03257396" yOff="557281.342100975" xSize="48300.3044535135" ySize="43448.0736284174" />
      <NODATA>3.39999995214436425e+38</NODATA>
    </ComplexSource>
    <ComplexSource>
