<VRTDataset rasterXSize="3363465" rasterYSize="1011849">
  <SRS dataAxisToSRSAxisMapping="2,1">GEOGCS["NAD83(2011)",DATUM["NAD83_National_Spatial_Reference_System_2011",SPHEROID["GRS 1980",6378137,298.257222101,AUTHORITY["EPSG","7019"]],AUTHORITY["EPSG","1116"]],PRIMEM["Greenwich",0,AUTHORITY["EPSG","8901"]],UNIT["degree",0.0174532925199433,AUTHORITY["EPSG","9122"]],AXIS["Latitude",NORTH],AXIS["Longitude",EAST],AUTHORITY["EPSG","6318"]]</SRS>
  <GeoTransform> -1.5984628882270721e+02,  2.8344212698636470e-05,  0.0000000000000000e+00,  4.6299979062321583e+01,  0.0000000000000000e+00, -2.8344212698636470e-05</GeoTransform>
  <VRTRasterBand dataType="Byte" band="1">
    <NoDataValue>0</NoDataValue>
    <ColorInterp>Gray</ColorInterp>
    <ComplexSource>
      <SourceFilename relativeToVRT="1">_groups/SLR_Extent_3_4269_proj.vrt</SourceFilename>
      <SourceBand>1</SourceBand>
      <SourceProperties RasterXSize="3363465" RasterYSize="1011849" DataType="Byte" BlockXSize="512" BlockYSize="128" />
      <SrcRect xOff="0" yOff="0" xSize="3363465" ySize="1011849" />
      <DstRect xOff="0" yOff="0" xSize="3363465" ySize="1011849" />
      <NODATA>0</NODATA>
    </ComplexSource>
  </VRTRasterBand>
</VRTDataset>
