<VRTDataset rasterXSize="11686500" rasterYSize="3166907">
  <SRS dataAxisToSRSAxisMapping="2,1">GEOGCS["NAD83(2011)",DATUM["NAD83_National_Spatial_Reference_System_2011",SPHEROID["GRS 1980",6378137,298.257222101,AUTHORITY["EPSG","7019"]],AUTHORITY["EPSG","1116"]],PRIMEM["Greenwich",0,AUTHORITY["EPSG","8901"]],UNIT["degree",0.0174532925199433,AUTHORITY["EPSG","9122"]],AXIS["Latitude",NORTH],AXIS["Longitude",EAST],AUTHORITY["EPSG","6318"]]</SRS>
  <GeoTransform> -1.7186248258519666e+02,  2.7189148223247695e-05,  0.0000000000000000e+00,  7.1473003831020492e+01,  0.0000000000000000e+00, -2.7189148223247671e-05</GeoTransform>
  <VRTRasterBand dataType="Byte" band="1">
    <NoDataValue>255</NoDataValue>
    <ColorInterp>Gray</ColorInterp>
    <ComplexSource>
      <SourceFilename relativeToVRT="1">_groups/SLR_Extent_6_0_6636_proj.vrt</SourceFilename>
      <SourceBand>1</SourceBand>
      <SourceProperties RasterXSize="101425" RasterYSize="19508" DataType="Byte" BlockXSize="512" BlockYSize="128" />
      <SrcRect xOff="0" yOff="0" xSize="101425" ySize="19507.6333722775" />
      <DstRect xOff="35449.3072267872" yOff="3146968.26921218" xSize="103666.381849695" ySize="19938.7307878174" />
      <NODATA>255</NODATA>
    </ComplexSource>
    <ComplexSource>
      <SourceFilename relativeToVRT="1">_groups/SLR_Extent_6_0_6318_init.vrt</SourceFilename>
      <SourceBand>1</SourceBand>
      <SourceProperties RasterXSize="11663746" RasterYSize="2115972" DataType="Byte" BlockXSize="128" BlockYSize="128" />
      <SrcRect xOff="0" yOff="0" xSize="11663745.9690542" ySize="2115972" />
      <DstRect xOff="45822.3157829512" yOff="0" xSize="11640677.684217" ySize="2111787.07991234" />
      <NODATA>255</NODATA>
    </ComplexSource>
    <ComplexSource>
      <SourceFilename relativeToVRT="1">_groups/SLR_Extent_6_0_4269_proj.vrt</SourceFilename>
      <SourceBand>1</SourceBand>
      <SourceProperties RasterXSize="10006023" RasterYSize="1070847" DataType="Byte" BlockXSize="512" BlockYSize="128" />
      <SrcRect xOff="0" yOff="0" xSize="10006023" ySize="1070847" />
      <DstRect xOff="1742581.04218479" yOff="1082536.52873363" xSize="9911101.45884657" ySize="1060688.47372243" />
      <NODATA>255</NODATA>
    </ComplexSource>
    <ComplexSource>
      <SourceFilename relativeToVRT="1">_groups/SLR_Extent_6_0_6318_1_proj.vrt</SourceFilename>
      <SourceBand>1</SourceBand>
      <SourceProperties RasterXSize="781633" RasterYSize="362227" DataType="Byte" BlockXSize="512" BlockYSize="128" />
      <SrcRect xOff="0" yOff="0" xSize="781633" ySize="362227" />
      <DstRect xOff="0" yOff="279907.791554054" xSize="773320.57384593" ySize="358374.827447777" />
      <NODATA>255</NODATA>
    </ComplexSource>
  </VRTRasterBand>
</VRTDataset>
