<VRTDataset rasterXSize="3363989" rasterYSize="1012009">
  <SRS dataAxisToSRSAxisMapping="2,1">GEOGCS["NAD83",DATUM["North_American_Datum_1983",SPHEROID["GRS 1980",6378137,298.257222101004,AUTHORITY["EPSG","7019"]],AUTHORITY["EPSG","6269"]],PRIMEM["Greenwich",0],UNIT["degree",0.0174532925199433,AUTHORITY["EPSG","9122"]],AXIS["Latitude",NORTH],AXIS["Longitude",EAST],AUTHORITY["EPSG","4269"]]</SRS>
  <GeoTransform> -1.5984628882270721e+02,  2.8339794758844396e-05,  0.0000000000000000e+00,  4.6300018940354583e+01,  0.0000000000000000e+00, -2.8339794758844396e-05</GeoTransform>
  <VRTRasterBand dataType="Byte" band="1">
    <NoDataValue>0</NoDataValue>
    <ColorInterp>Gray</ColorInterp>
    <ComplexSource>
      <SourceFilename relativeToVRT="0">./BulkDownload/Extent_Rasters/AL/AL_connectRaster_10.tif</SourceFilename>
      <SourceBand>1</SourceBand>
      <SourceProperties RasterXSize="57910" RasterYSize="68600" DataType="Byte" BlockXSize="512" BlockYSize="512" />
      <SrcRect xOff="0" yOff="0" xSize="57910" ySize="68600" />
      <DstRect xOff="2518748.30383545" yOff="504864.665555765" xSize="55068.9642032004" ySize="65234.5181201787" />
      <NODATA>0</NODATA>
    </ComplexSource>
    <ComplexSource>
      <SourceFilename relativeToVRT="0">./BulkDownload/Extent_Rasters/DC/DC_connectRaster_10.tif</SourceFilename>
      <SourceBand>1</SourceBand>
      <SourceProperties RasterXSize="7879" RasterYSize="7583" DataType="Byte" BlockXSize="512" BlockYSize="512" />
      <SrcRect xOff="0" yOff="0" xSize="7879" ySize="7583" />
      <DstRect xOff="2919069.20808551" yOff="257715.476822327" xSize="7492.46017884684" ySize="7210.98179162276" />
      <NODATA>0</NODATA>
    </ComplexSource>
    <ComplexSource>
      <SourceFilename relativeToVRT="0">./BulkDownload/Extent_Rasters/DE/DE_connectRaster_10.tif</SourceFilename>
      <SourceBand>1</SourceBand>
      <SourceProperties RasterXSize="29940" RasterYSize="51766" DataType="Byte" BlockXSize="512" BlockYSize="512" />
      <SrcRect xOff="0" yOff="0" xSize="29940" ySize="51766" />
      <DstRect xOff="2966018.87043292" yOff="227765.871026029" xSize="28471.1584915184" ySize="49226.3857873059" />
      <NODATA>0</NODATA>
    </ComplexSource>
    <ComplexSource>
      <SourceFilename relativeToVRT="0">./BulkDownload/Extent_Rasters/HI/HI_Hawaii_connectRaster_10.tif</SourceFilename>
      <SourceBand>1</SourceBand>
      <SourceProperties RasterXSize="51527" RasterYSize="54138" DataType="Byte" BlockXSize="512" BlockYSize="512" />
      <SrcRect xOff="0" yOff="0" xSize="51527" ySize="54138" />
      <DstRect xOff="130219.844886476" yOff="915617.149838671" xSize="51597.3958008876" ySize="54211.9629295021" />
      <NODATA>0</NODATA>
    </ComplexSource>
    <ComplexSource>
      <SourceFilename relativeToVRT="0">./BulkDownload/Extent_Rasters/HI/HI_Kauai_connectRaster_10.tif</SourceFilename>
      <SourceBand>1</SourceBand>
      <SourceProperties RasterXSize="21620" RasterYSize="16703" DataType="Byte" BlockXSize="512" BlockYSize="512" />
      <SrcRect xOff="0" yOff="0" xSize="21620" ySize="16703" />
      <DstRect xOff="0" yOff="847394.415402842" xSize="21491.6033890481" ySize="16603.8044129173" />
      <NODATA>0</NODATA>
    </ComplexSource>
    <ComplexSource>
      <SourceFilename relativeToVRT="0">./BulkDownload/Extent_Rasters/HI/HI_Lanai_connectRaster_10.tif</SourceFilename>
      <SourceBand>1</SourceBand>
      <SourceProperties RasterXSize="13322" RasterYSize="10992" DataType="Byte" BlockXSize="512" BlockYSize="512" />
      <SrcRect xOff="0" yOff="0" xSize="13322" ySize="10992" />
      <DstRect xOff="96128.9021801264" yOff="893247.521352012" xSize="13303.5056056763" ySize="10976.7402505324" />
      <NODATA>0</NODATA>
    </ComplexSource>
    <ComplexSource>
      <SourceFilename relativeToVRT="0">./BulkDownload/Extent_Rasters/HI/HI_Maui_connectRaster_10.tif</SourceFilename>
      <SourceBand>1</SourceBand>
      <SourceProperties RasterXSize="30175" RasterYSize="20866" DataType="Byte" BlockXSize="512" BlockYSize="512" />
      <SrcRect xOff="0" yOff="0" xSize="30175" ySize="20866" />
      <DstRect xOff="108732.260750072" yOff="889323.068988848" xSize="30247.7877956514" ySize="20916.3327305406" />
      <NODATA>0</NODATA>
    </ComplexSource>
    <ComplexSource>
      <SourceFilename relativeToVRT="0">./BulkDownload/Extent_Rasters/HI/HI_Molokai_connectRaster_10.tif</SourceFilename>
      <SourceBand>1</SourceBand>
      <SourceProperties RasterXSize="25259" RasterYSize="10521" DataType="Byte" BlockXSize="512" BlockYSize="512" />
      <SrcRect xOff="0" yOff="0" xSize="25259" ySize="10521" />
      <DstRect xOff="87428.025232775" yOff="882720.246082429" xSize="25353.3865570838" ySize="10560.314342099" />
      <NODATA>0</NODATA>
    </ComplexSource>
    <ComplexSource>
      <SourceFilename relativeToVRT="0">./BulkDownload/Extent_Rasters/HI/HI_Oahu_connectRaster_10.tif</SourceFilename>
      <SourceBand>1</SourceBand>
      <SourceProperties RasterXSize="27300" RasterYSize="20607" DataType="Byte" BlockXSize="512" BlockYSize="512" />
      <SrcRect xOff="0" yOff="0" xSize="27300" ySize="20607" />
      <DstRect xOff="53322.2337253665" yOff="865811.175478714" xSize="26105.5518814422" ySize="19705.3885575413" />
      <NODATA>0</NODATA>
    </ComplexSource>
    <ComplexSource>
      <SourceFilename relativeToVRT="0">./BulkDownload/Extent_Rasters/LA/LA_Central_connectRaster_10.tif</SourceFilename>
      <SourceBand>1</SourceBand>
      <SourceProperties RasterXSize="61525" RasterYSize="46752" DataType="Byte" BlockXSize="512" BlockYSize="512" />
      <SrcRect xOff="0" yOff="0" xSize="61525" ySize="46752" />
      <DstRect xOff="2367930.00100976" yOff="557568.583839577" xSize="58506.6141012246" ySize="44458.3701334491" />
      <NODATA>0</NODATA>
    </ComplexSource>
    <ComplexSource>
      <SourceFilename relativeToVRT="0">./BulkDownload/Extent_Rasters/LA/LA_CentralEast_connectRaster_10.tif</SourceFilename>
      <SourceBand>1</SourceBand>
      <SourceProperties RasterXSize="63242" RasterYSize="62075" DataType="Byte" BlockXSize="512" BlockYSize="512" />
      <SrcRect xOff="0" yOff="0" xSize="63242" ySize="62075" />
      <DstRect xOff="2404535.03682605" yOff="551937.962032747" xSize="60139.3789352236" ySize="59029.6313747826" />
      <NODATA>0</NODATA>
    </ComplexSource>
    <ComplexSource>
      <SourceFilename relativeToVRT="0">./BulkDownload/Extent_Rasters/LA/LA_CentralNorth_connectRaster_10.tif</SourceFilename>
      <SourceBand>1</SourceBand>
      <SourceProperties RasterXSize="49220" RasterYSize="26515" DataType="Byte" BlockXSize="512" BlockYSize="512" />
      <SrcRect xOff="0" yOff="0" xSize="49220" ySize="26515" />
      <DstRect xOff="2371626.37642269" yOff="539435.13213149" xSize="46805.2912809797" ySize="25214.1872879963" />
      <NODATA>0</NODATA>
    </ComplexSource>
    <ComplexSource>
      <SourceFilename relativeToVRT="0">./BulkDownload/Extent_Rasters/LA/LA_Delta_connectRaster_10.tif</SourceFilename>
      <SourceBand>1</SourceBand>
      <SourceProperties RasterXSize="71705" RasterYSize="50422" DataType="Byte" BlockXSize="512" BlockYSize="512" />
      <SrcRect xOff="0" yOff="0" xSize="71705" ySize="50422" />
      <DstRect xOff="2440261.97072594" yOff="567645.568721015" xSize="68187.1883645393" ySize="47948.3217588285" />
      <NODATA>0</NODATA>
    </ComplexSource>
    <ComplexSource>
      <SourceFilename relativeToVRT="0">./BulkDownload/Extent_Rasters/LA/LA_LP_connectRaster_10.tif</SourceFilename>
      <SourceBand>1</SourceBand>
      <SourceProperties RasterXSize="80111" RasterYSize="40487" DataType="Byte" BlockXSize="512" BlockYSize="512" />
      <SrcRect xOff="0" yOff="0" xSize="80111" ySize="40487" />
      <DstRect xOff="2405930.25475958" yOff="539866.318753565" xSize="76180.7941855048" ySize="38500.7279173714" />
      <NODATA>0</NODATA>
    </ComplexSource>
    <ComplexSource>
      <SourceFilename relativeToVRT="0">./BulkDownload/Extent_Rasters/LA/LA_West_connectRaster_10.tif</SourceFilename>
      <SourceBand>1</SourceBand>
      <SourceProperties RasterXSize="50040" RasterYSize="45013" DataType="Byte" BlockXSize="512" BlockYSize="512" />
      <SrcRect xOff="0" yOff="0" xSize="50040" ySize="45013" />
      <DstRect xOff="2325918.30974181" yOff="549030.580294035" xSize="47585.0624888299" ySize="42804.6846085072" />
      <NODATA>0</NODATA>
    </ComplexSource>
    <ComplexSource>
      <SourceFilename relativeToVRT="0">./BulkDownload/Extent_Rasters/MD/MD_East_connectRaster_10.tif</SourceFilename>
      <SourceBand>1</SourceBand>
      <SourceProperties RasterXSize="28460" RasterYSize="44790" DataType="Byte" BlockXSize="512" BlockYSize="512" />
      <SrcRect xOff="0" yOff="0" xSize="28460" ySize="44790" />
      <DstRect xOff="2942154.21584806" yOff="248284.73639418" xSize="27063.7665553952" ySize="42592.624877588" />
      <NODATA>0</NODATA>
    </ComplexSource>
    <ComplexSource>
      <SourceFilename relativeToVRT="0">./BulkDownload/Extent_Rasters/MD/MD_North_connectRaster_10.tif</SourceFilename>
      <SourceBand>1</SourceBand>
      <SourceProperties RasterXSize="30270" RasterYSize="27139" DataType="Byte" BlockXSize="512" BlockYSize="512" />
      <SrcRect xOff="0" yOff="0" xSize="30270" ySize="27139" />
      <DstRect xOff="2938473.42119403" yOff="232077.6881345" xSize="28784.9688556533" ySize="25807.5741583605" />
      <NODATA>0</NODATA>
    </ComplexSource>
    <ComplexSource>
      <SourceFilename relativeToVRT="0">./BulkDownload/Extent_Rasters/MD/MD_Southeast_connectRaster_10.tif</SourceFilename>
      <SourceBand>1</SourceBand>
      <SourceProperties RasterXSize="46474" RasterYSize="25088" DataType="Byte" BlockXSize="512" BlockYSize="512" />
      <SrcRect xOff="0" yOff="0" xSize="46474" ySize="25088" />
      <DstRect xOff="2950222.27611923" yOff="273050.98381947" xSize="44194.0086751777" ySize="23857.1951982367" />
      <NODATA>0</NODATA>
    </ComplexSource>
    <ComplexSource>
      <SourceFilename relativeToVRT="0">./BulkDownload/Extent_Rasters/MD/MD_Southwest_connectRaster_10.tif</SourceFilename>
      <SourceBand>1</SourceBand>
      <SourceProperties RasterXSize="41701" RasterYSize="30425" DataType="Byte" BlockXSize="512" BlockYSize="512" />
      <SrcRect xOff="0" yOff="0" xSize="41701" ySize="30425" />
      <DstRect xOff="2911881.9759855" yOff="267909.586207397" xSize="39655.1696811891" ySize="28932.3646327469" />
      <NODATA>0</NODATA>
    </ComplexSource>
    <ComplexSource>
      <SourceFilename relativeToVRT="0">./BulkDownload/Extent_Rasters/MD/MD_West_connectRaster_10.tif</SourceFilename>
      <SourceBand>1</SourceBand>
      <SourceProperties RasterXSize="33461" RasterYSize="52619" DataType="Byte" BlockXSize="512" BlockYSize="512" />
      <SrcRect xOff="0" yOff="0" xSize="33461" ySize="52619" />
      <DstRect xOff="2916676.66268151" yOff="232105.289202938" xSize="31819.4199827889" ySize="50037.5380315702" />
      <NODATA>0</NODATA>
    </ComplexSource>
    <ComplexSource>
      <SourceFilename relativeToVRT="0">./BulkDownload/Extent_Rasters/MS/MS_connectRaster_10.tif</SourceFilename>
      <SourceBand>1</SourceBand>
      <SourceProperties RasterXSize="48533" RasterYSize="21958" DataType="Byte" BlockXSize="512" BlockYSize="512" />
      <SrcRect xOff="0" yOff="0" xSize="48533" ySize="21958" />
      <DstRect xOff="2475492.9651919" yOff="549159.5648416" xSize="46151.9951592802" ySize="20880.7514414414" />
      <NODATA>0</NODATA>
    </ComplexSource>
    <ComplexSource>
      <SourceFilename relativeToVRT="0">./BulkDownload/Extent_Rasters/NJ/NJ_Middle_connectRaster_10.tif</SourceFilename>
      <SourceBand>1</SourceBand>
      <SourceProperties RasterXSize="43704" RasterYSize="39040" DataType="Byte" BlockXSize="512" BlockYSize="512" />
      <SrcRect xOff="0" yOff="0" xSize="43704" ySize="39040" />
      <DstRect xOff="2991715.42666413" yOff="203728.120366945" xSize="41559.9034974385" ySize="37124.7170176642" />
      <NODATA>0</NODATA>
    </ComplexSource>
    <ComplexSource>
      <SourceFilename relativeToVRT="0">./BulkDownload/Extent_Rasters/NJ/NJ_Northern_connectRaster_10.tif</SourceFilename>
      <SourceBand>1</SourceBand>
      <SourceProperties RasterXSize="33615" RasterYSize="35384" DataType="Byte" BlockXSize="512" BlockYSize="512" />
      <SrcRect xOff="0" yOff="0" xSize="33615" ySize="35384" />
      <DstRect xOff="3000995.66223157" yOff="179825.793768594" xSize="31965.8648193851" ySize="33648.0785592479" />
      <NODATA>0</NODATA>
    </ComplexSource>
    <ComplexSource>
      <SourceFilename relativeToVRT="0">./BulkDownload/Extent_Rasters/NJ/NJ_Southern_connectRaster_10.tif</SourceFilename>
      <SourceBand>1</SourceBand>
      <SourceProperties RasterXSize="49776" RasterYSize="44875" DataType="Byte" BlockXSize="512" BlockYSize="512" />
      <SrcRect xOff="0" yOff="0" xSize="49776" ySize="44875" />
      <DstRect xOff="2973696.58378983" yOff="222404.800123927" xSize="47334.014197522" ySize="42673.4548198691" />
      <NODATA>0</NODATA>
    </ComplexSource>
    <ComplexSource>
      <SourceFilename relativeToVRT="0">./BulkDownload/Extent_Rasters/NY/NY_HU_connectRaster_10.tif</SourceFilename>
      <SourceBand>1</SourceBand>
      <SourceProperties RasterXSize="18540" RasterYSize="56496" DataType="Byte" BlockXSize="512" BlockYSize="512" />
      <SrcRect xOff="0" yOff="0" xSize="18540" ySize="56496" />
      <DstRect xOff="3024895.26011469" yOff="123603.107619425" xSize="17630.436821401" ySize="53724.3343399066" />
      <NODATA>0</NODATA>
    </ComplexSource>
    <ComplexSource>
      <SourceFilename relativeToVRT="0">./BulkDownload/Extent_Rasters/NY/NY_M_connectRaster_10.tif</SourceFilename>
      <SourceBand>1</SourceBand>
      <SourceProperties RasterXSize="31106" RasterYSize="31916" DataType="Byte" BlockXSize="512" BlockYSize="512" />
      <SrcRect xOff="0" yOff="0" xSize="31106" ySize="31916" />
      <DstRect xOff="3019994.41486267" yOff="175139.939998642" xSize="29579.955111462" ySize="30350.2169143388" />
      <NODATA>0</NODATA>
    </ComplexSource>
    <ComplexSource>
      <SourceFilename relativeToVRT="0">./BulkDownload/Extent_Rasters/NY/NY_SK_connectRaster_10.tif</SourceFilename>
      <SourceBand>1</SourceBand>
      <SourceProperties RasterXSize="64001" RasterYSize="28866" DataType="Byte" BlockXSize="512" BlockYSize="512" />
      <SrcRect xOff="0" yOff="0" xSize="64001" ySize="28866" />
      <DstRect xOff="3046782.81510456" yOff="176032.737460073" xSize="60861.1427727341" ySize="27449.8483973335" />
      <NODATA>0</NODATA>
    </ComplexSource>
    <ComplexSource>
      <SourceFilename relativeToVRT="0">./BulkDownload/Extent_Rasters/OR/OR_MFR_connectRaster_10.tif</SourceFilename>
      <SourceBand>1</SourceBand>
      <SourceProperties RasterXSize="60716" RasterYSize="43367" DataType="Byte" BlockXSize="512" BlockYSize="512" />
      <SrcRect xOff="0" yOff="0" xSize="60716" ySize="43367" />
      <DstRect xOff="1240005.46717944" yOff="83062.2492653632" xSize="96409.3079448755" ySize="68861.2961599153" />
      <NODATA>0</NODATA>
    </ComplexSource>
    <ComplexSource>
      <SourceFilename relativeToVRT="0">./BulkDownload/Extent_Rasters/OR/OR_PQR1_connectRaster_10.tif</SourceFilename>
      <SourceBand>1</SourceBand>
      <SourceProperties RasterXSize="13815" RasterYSize="42822" DataType="Byte" BlockXSize="512" BlockYSize="512" />
      <SrcRect xOff="0" yOff="0" xSize="13815" ySize="42822" />
      <DstRect xOff="1256705.99143845" yOff="18193.8922532515" xSize="21895.4049521445" ySize="67868.6232979177" />
      <NODATA>0</NODATA>
    </ComplexSource>
    <ComplexSource>
      <SourceFilename relativeToVRT="0">./BulkDownload/Extent_Rasters/OR/OR_PQR2_connectRaster_10.tif</SourceFilename>
      <SourceBand>1</SourceBand>
      <SourceProperties RasterXSize="52039" RasterYSize="19298" DataType="Byte" BlockXSize="512" BlockYSize="512" />
      <SrcRect xOff="0" yOff="0" xSize="52039" ySize="19298" />
      <DstRect xOff="1259198.42838663" yOff="0" xSize="82631.3323694478" ySize="30642.776611111" />
      <NODATA>0</NODATA>
    </ComplexSource>
    <ComplexSource>
      <SourceFilename relativeToVRT="0">./BulkDownload/Extent_Rasters/PA/PA_connectRaster_10.tif</SourceFilename>
      <SourceBand>1</SourceBand>
      <SourceProperties RasterXSize="32742" RasterYSize="20105" DataType="Byte" BlockXSize="512" BlockYSize="512" />
      <SrcRect xOff="0" yOff="0" xSize="32742" ySize="20105" />
      <DstRect xOff="2972624.6840094" yOff="210209.914915136" xSize="31135.6937651735" ySize="19118.658699799" />
      <NODATA>0</NODATA>
    </ComplexSource>
    <ComplexSource>
      <SourceFilename relativeToVRT="0">./BulkDownload/Extent_Rasters/PR/PR_connectRaster_10.tif</SourceFilename>
      <SourceBand>1</SourceBand>
      <SourceProperties RasterXSize="105419" RasterYSize="27559" DataType="Byte" BlockXSize="512" BlockYSize="512" />
      <SrcRect xOff="0" yOff="0" xSize="105419" ySize="27559" />
      <DstRect xOff="3240607.65394288" yOff="978484.348814412" xSize="100247.196293163" ySize="26206.9691672589" />
      <NODATA>0</NODATA>
    </ComplexSource>
    <ComplexSource>
      <SourceFilename relativeToVRT="0">./BulkDownload/Extent_Rasters/SC/SC_Central_connectRaster_10.tif</SourceFilename>
      <SourceBand>1</SourceBand>
      <SourceProperties RasterXSize="56857" RasterYSize="38086" DataType="Byte" BlockXSize="512" BlockYSize="512" />
      <SrcRect xOff="0" yOff="0" xSize="56857" ySize="38086" />
      <DstRect xOff="2789478.47089194" yOff="451377.492354413" xSize="54067.6238594607" ySize="36217.5197831651" />
      <NODATA>0</NODATA>
    </ComplexSource>
    <ComplexSource>
      <SourceFilename relativeToVRT="0">./BulkDownload/Extent_Rasters/SC/SC_North_connectRaster_10.tif</SourceFilename>
      <SourceBand>1</SourceBand>
      <SourceProperties RasterXSize="59540" RasterYSize="46739" DataType="Byte" BlockXSize="512" BlockYSize="512" />
      <SrcRect xOff="0" yOff="0" xSize="59540" ySize="46739" />
      <DstRect xOff="2813835.22438756" yOff="423134.006716329" xSize="56618.9972139278" ySize="44446.0079069831" />
      <NODATA>0</NODATA>
    </ComplexSource>
    <ComplexSource>
      <SourceFilename relativeToVRT="0">./BulkDownload/Extent_Rasters/SC/SC_South_connectRaster_10.tif</SourceFilename>
      <SourceBand>1</SourceBand>
      <SourceProperties RasterXSize="44753" RasterYSize="42656" DataType="Byte" BlockXSize="512" BlockYSize="512" />
      <SrcRect xOff="0" yOff="0" xSize="44753" ySize="42656" />
      <DstRect xOff="2767052.54604386" yOff="462880.082940947" xSize="42557.4400791888" ySize="40563.3178561857" />
      <NODATA>0</NODATA>
    </ComplexSource>
    <ComplexSource>
      <SourceFilename relativeToVRT="0">./BulkDownload/Extent_Rasters/TX/TX_North1_connectRaster_10.tif</SourceFilename>
      <SourceBand>1</SourceBand>
      <SourceProperties RasterXSize="45518" RasterYSize="62416" DataType="Byte" BlockXSize="512" BlockYSize="512" />
      <SrcRect xOff="0" yOff="0" xSize="45518" ySize="62416" />
      <DstRect xOff="2297564.71646241" yOff="533261.290015653" xSize="43284.9095922678" ySize="59353.9021290696" />
      <NODATA>0</NODATA>
    </ComplexSource>
    <ComplexSource>
      <SourceFilename relativeToVRT="0">./BulkDownload/Extent_Rasters/TX/TX_North2_connectRaster_10.tif</SourceFilename>
      <SourceBand>1</SourceBand>
      <SourceProperties RasterXSize="59722" RasterYSize="64054" DataType="Byte" BlockXSize="512" BlockYSize="512" />
      <SrcRect xOff="0" yOff="0" xSize="59722" ySize="64054" />
      <DstRect xOff="2254232.04188061" yOff="557716.236639075" xSize="56792.0683863707" ySize="60911.5426211543" />
      <NODATA>0</NODATA>
    </ComplexSource>
    <ComplexSource>
      <SourceFilename relativeToVRT="0">./BulkDownload/Extent_Rasters/TX/TX_South1_connectRaster_10.tif</SourceFilename>
      <SourceBand>1</SourceBand>
      <SourceProperties RasterXSize="43825" RasterYSize="37044" DataType="Byte" BlockXSize="512" BlockYSize="512" />
      <SrcRect xOff="0" yOff="0" xSize="43825" ySize="37044" />
      <DstRect xOff="2184318.19215586" yOff="626125.119517393" xSize="41674.9672695287" ySize="35226.6397611505" />
      <NODATA>0</NODATA>
    </ComplexSource>
    <ComplexSource>
      <SourceFilename relativeToVRT="0">./BulkDownload/Extent_Rasters/TX/TX_South2_connectRaster_10.tif</SourceFilename>
      <SourceBand>1</SourceBand>
      <SourceProperties RasterXSize="36085" RasterYSize="66805" DataType="Byte" BlockXSize="512" BlockYSize="512" />
      <SrcRect xOff="0" yOff="0" xSize="36085" ySize="66805" />
      <DstRect xOff="2180166.68340285" yOff="658550.338778842" xSize="34314.6878541356" ySize="63527.5799389088" />
      <NODATA>0</NODATA>
    </ComplexSource>
    <ComplexSource>
      <SourceFilename relativeToVRT="0">./BulkDownload/Extent_Rasters/VA/VA_ES_connectRaster_10.tif</SourceFilename>
      <SourceBand>1</SourceBand>
      <SourceProperties RasterXSize="39789" RasterYSize="38555" DataType="Byte" BlockXSize="512" BlockYSize="512" />
      <SrcRect xOff="0" yOff="0" xSize="39789" ySize="38555" />
      <DstRect xOff="2950222.28473753" yOff="291857.548102975" xSize="37836.9714502011" ySize="36663.5108764356" />
      <NODATA>0</NODATA>
    </ComplexSource>
    <ComplexSource>
      <SourceFilename relativeToVRT="0">./BulkDownload/Extent_Rasters/VA/VA_Mid_connectRaster_10.tif</SourceFilename>
      <SourceBand>1</SourceBand>
      <SourceProperties RasterXSize="51478" RasterYSize="51841" DataType="Byte" BlockXSize="512" BlockYSize="512" />
      <SrcRect xOff="0" yOff="0" xSize="51478" ySize="51841" />
      <DstRect xOff="2904973.60813942" yOff="281315.788236443" xSize="48952.5149240606" ySize="49297.7063246091" />
      <NODATA>0</NODATA>
    </ComplexSource>
    <ComplexSource>
      <SourceFilename relativeToVRT="0">./BulkDownload/Extent_Rasters/VA/VA_N_connectRaster_10.tif</SourceFilename>
      <SourceBand>1</SourceBand>
      <SourceProperties RasterXSize="50277" RasterYSize="50750" DataType="Byte" BlockXSize="512" BlockYSize="512" />
      <SrcRect xOff="0" yOff="0" xSize="50277" ySize="50750" />
      <DstRect xOff="2905478.89042384" yOff="259243.13716193" xSize="47810.4353867087" ySize="48260.2302419689" />
      <NODATA>0</NODATA>
    </ComplexSource>
    <ComplexSource>
      <SourceFilename relativeToVRT="0">./BulkDownload/Extent_Rasters/VA/VA_S_connectRaster_10.tif</SourceFilename>
      <SourceBand>1</SourceBand>
      <SourceProperties RasterXSize="63328" RasterYSize="38028" DataType="Byte" BlockXSize="512" BlockYSize="512" />
      <SrcRect xOff="0" yOff="0" xSize="63328" ySize="38028" />
      <DstRect xOff="2905569.91685722" yOff="308128.424566706" xSize="60221.159817998" ySize="36162.365234317" />
      <NODATA>0</NODATA>
    </ComplexSource>
    <ComplexSource>
      <SourceFilename relativeToVRT="0">./BulkDownload/Extent_Rasters/VI/USVI_connectRaster_10.tif</SourceFilename>
      <SourceBand>1</SourceBand>
      <SourceProperties RasterXSize="23301" RasterYSize="31432" DataType="Byte" BlockXSize="512" BlockYSize="512" />
      <SrcRect xOff="0" yOff="0" xSize="23300.9256389262" ySize="31432" />
      <DstRect xOff="3341831.20618354" yOff="982118.631219221" xSize="22157.7938164645" ySize="29889.9617136072" />
      <NODATA>0</NODATA>
    </ComplexSource>
  </VRTRasterBand>
</VRTDataset>
