<VRTDataset rasterXSize="11663746" rasterYSize="2115972">
  <SRS dataAxisToSRSAxisMapping="2,1">GEOGCS["NAD83(2011)",DATUM["NAD83_National_Spatial_Reference_System_2011",SPHEROID["GRS 1980",6378137,298.257222101,AUTHORITY["EPSG","7019"]],AUTHORITY["EPSG","1116"]],PRIMEM["Greenwich",0,AUTHORITY["EPSG","8901"]],UNIT["degree",0.0174532925199433,AUTHORITY["EPSG","9122"]],AXIS["Latitude",NORTH],AXIS["Longitude",EAST],AUTHORITY["EPSG","6318"]]</SRS>
  <GeoTransform> -1.7061661284944154e+02,  2.7135374159807341e-05,  0.0000000000000000e+00,  7.1473003831020492e+01,  0.0000000000000000e+00, -2.7135374159807358e-05</GeoTransform>
  <VRTRasterBand dataType="Byte" band="1">
    <NoDataValue>255</NoDataValue>
    <ColorInterp>Gray</ColorInterp>
    <ComplexSource>
      <SourceFilename relativeToVRT="0">./BulkDownload/Extent_Rasters/CA/CA_Catalina_connectRaster_1_5.tif</SourceFilename>
      <SourceBand>1</SourceBand>
      <SourceProperties RasterXSize="15850" RasterYSize="10547" DataType="Byte" BlockXSize="512" BlockYSize="512" />
      <SrcRect xOff="0" yOff="0" xSize="15850" ySize="10547" />
      <DstRect xOff="1914416.47667603" yOff="1398200.06475568" xSize="15741.4051150815" ySize="10474.7381544962" />
      <NODATA>255</NODATA>
    </ComplexSource>
    <ComplexSource>
      <SourceFilename relativeToVRT="0">./BulkDownload/Extent_Rasters/CA/CA_Delta_connectRaster_1_5.tif</SourceFilename>
      <SourceBand>1</SourceBand>
      <SourceProperties RasterXSize="75586" RasterYSize="80621" DataType="Byte" BlockXSize="512" BlockYSize="512" />
      <SrcRect xOff="0" yOff="0" xSize="75586" ySize="80621" />
      <DstRect xOff="1776036.39284821" yOff="1185406.13372804" xSize="75068.1291500646" ySize="80068.6322891457" />
      <NODATA>255</NODATA>
    </ComplexSource>
    <ComplexSource>
      <SourceFilename relativeToVRT="0">./BulkDownload/Extent_Rasters/CA/CA_North2_connectRaster_1_5.tif</SourceFilename>
      <SourceBand>1</SourceBand>
      <SourceProperties RasterXSize="48827" RasterYSize="46240" DataType="Byte" BlockXSize="512" BlockYSize="512" />
      <SrcRect xOff="0" yOff="0" xSize="48827" ySize="46240" />
      <DstRect xOff="1712913.66864737" yOff="1159727.34230854" xSize="48492.4660917396" ySize="45923.1906953537" />
      <NODATA>255</NODATA>
    </ComplexSource>
    <ComplexSource>
      <SourceFilename relativeToVRT="0">./BulkDownload/Extent_Rasters/CA/CA_SFBay_connectRaster_1_5.tif</SourceFilename>
      <SourceBand>1</SourceBand>
      <SourceProperties RasterXSize="90042" RasterYSize="73171" DataType="Byte" BlockXSize="512" BlockYSize="512" />
      <SrcRect xOff="0" yOff="0" xSize="90042" ySize="73171" />
      <DstRect xOff="1731428.66866925" yOff="1201672.66130134" xSize="89425.0851338889" ySize="72669.6753107637" />
      <NODATA>255</NODATA>
    </ComplexSource>
    <ComplexSource>
      <SourceFilename relativeToVRT="0">./BulkDownload/Extent_Rasters/CA/CA_Central_connectRaster_1_5.tif</SourceFilename>
      <SourceBand>1</SourceBand>
      <SourceProperties RasterXSize="105657" RasterYSize="88709" DataType="Byte" BlockXSize="512" BlockYSize="512" />
      <SrcRect xOff="0" yOff="0" xSize="105657" ySize="88709" />
      <DstRect xOff="1779883.59806375" yOff="1259822.84206615" xSize="104933.10033086" ySize="88101.2180664817" />
      <NODATA>255</NODATA>
    </ComplexSource>
    <ComplexSource>
      <SourceFilename relativeToVRT="0">./BulkDownload/Extent_Rasters/CA/CA_South_connectRaster_1_5.tif</SourceFilename>
      <SourceBand>1</SourceBand>
      <SourceProperties RasterXSize="172751" RasterYSize="96017" DataType="Byte" BlockXSize="512" BlockYSize="512" />
      <SrcRect xOff="0" yOff="0" xSize="172751" ySize="96017" />
      <DstRect xOff="1838232.87360321" yOff="1339854.72598999" xSize="171567.411674157" ySize="95359.1479454101" />
      <NODATA>255</NODATA>
    </ComplexSource>
    <ComplexSource>
      <SourceFilename relativeToVRT="0">./BulkDownload/Extent_Rasters/FL/FL_Pan_East_connectRaster_1_5.tif</SourceFilename>
      <SourceBand>1</SourceBand>
      <SourceProperties RasterXSize="88978" RasterYSize="48105" DataType="Byte" BlockXSize="512" BlockYSize="512" />
      <SrcRect xOff="0" yOff="0" xSize="88978" ySize="48105" />
      <DstRect xOff="3118277.80243697" yOff="1497733.26183226" xSize="88368.3750365739" ySize="47775.4128114184" />
      <NODATA>255</NODATA>
    </ComplexSource>
    <ComplexSource>
      <SourceFilename relativeToVRT="0">./BulkDownload/Extent_Rasters/FL/FL_Pan_West_connectRaster_1_5.tif</SourceFilename>
      <SourceBand>1</SourceBand>
      <SourceProperties RasterXSize="66506" RasterYSize="29252" DataType="Byte" BlockXSize="512" BlockYSize="512" />
      <SrcRect xOff="0" yOff="0" xSize="66506" ySize="29252" />
      <DstRect xOff="3058024.02458953" yOff="1491503.60494088" xSize="66050.3399737283" ySize="29051.5824874672" />
      <NODATA>255</NODATA>
    </ComplexSource>
    <ComplexSource>
      <SourceFilename relativeToVRT="0">./BulkDownload/Extent_Rasters/MA/MA_connectRaster_1_5.tif</SourceFilename>
      <SourceBand>1</SourceBand>
      <SourceProperties RasterXSize="75782" RasterYSize="63138" DataType="Byte" BlockXSize="512" BlockYSize="512" />
      <SrcRect xOff="0" yOff="0" xSize="75782" ySize="63138" />
      <DstRect xOff="3637932.96761881" yOff="1053433.64835873" xSize="75262.7862732542" ySize="62705.4155303465" />
      <NODATA>255</NODATA>
    </ComplexSource>
    <ComplexSource>
      <SourceFilename relativeToVRT="0">./BulkDownload/Extent_Rasters/ME/ME_East_connectRaster_1_5.tif</SourceFilename>
      <SourceBand>1</SourceBand>
      <SourceProperties RasterXSize="88020" RasterYSize="43242" DataType="Byte" BlockXSize="512" BlockYSize="512" />
      <SrcRect xOff="0" yOff="0" xSize="88020" ySize="43242" />
      <DstRect xOff="3735371.04160671" yOff="968480.592608638" xSize="87416.938689555" ySize="42945.731229422" />
      <NODATA>255</NODATA>
    </ComplexSource>
    <ComplexSource>
      <SourceFilename relativeToVRT="0">./BulkDownload/Extent_Rasters/ME/ME_West_connectRaster_1_5.tif</SourceFilename>
      <SourceBand>1</SourceBand>
      <SourceProperties RasterXSize="87637" RasterYSize="63494" DataType="Byte" BlockXSize="512" BlockYSize="512" />
      <SrcRect xOff="0" yOff="0" xSize="87637" ySize="63494" />
      <DstRect xOff="3676896.33322457" yOff="989323.221766025" xSize="87036.5627804652" ySize="63058.9764275688" />
      <NODATA>255</NODATA>
    </ComplexSource>
    <ComplexSource>
      <SourceFilename relativeToVRT="0">./BulkDownload/Extent_Rasters/NH/NH_connectRaster_1_5.tif</SourceFilename>
      <SourceBand>1</SourceBand>
      <SourceProperties RasterXSize="32604" RasterYSize="27773" DataType="Byte" BlockXSize="512" BlockYSize="512" />
      <SrcRect xOff="0" yOff="0" xSize="32604" ySize="27773" />
      <DstRect xOff="3654420.89129488" yOff="1031415.22418615" xSize="32380.6165534455" ySize="27582.7157262558" />
      <NODATA>255</NODATA>
    </ComplexSource>
    <ComplexSource>
      <SourceFilename relativeToVRT="0">./BulkDownload/Extent_Rasters/RI/RI_connectRaster_1_5.tif</SourceFilename>
      <SourceBand>1</SourceBand>
      <SourceProperties RasterXSize="30467" RasterYSize="34315" DataType="Byte" BlockXSize="512" BlockYSize="512" />
      <SrcRect xOff="0" yOff="0" xSize="30467" ySize="34315" />
      <DstRect xOff="3637619.35895501" yOff="1085420.98821565" xSize="30258.2580215257" ySize="34079.8937870041" />
      <NODATA>255</NODATA>
    </ComplexSource>
    <ComplexSource>
      <SourceFilename relativeToVRT="0">./BulkDownload/Extent_Rasters/WA/WA_PugetSound_NE_connectRaster_1_5.tif</SourceFilename>
      <SourceBand>1</SourceBand>
      <SourceProperties RasterXSize="99092" RasterYSize="45604" DataType="Byte" BlockXSize="512" BlockYSize="512" />
      <SrcRect xOff="0" yOff="0" xSize="99092" ySize="45604" />
      <DstRect xOff="1742847.80939012" yOff="828056.020976396" xSize="98413.0798525948" ySize="45291.5481935749" />
      <NODATA>255</NODATA>
    </ComplexSource>
    <ComplexSource>
      <SourceFilename relativeToVRT="0">./BulkDownload/Extent_Rasters/WA/WA_South_connectRaster_1_5.tif</SourceFilename>
      <SourceBand>1</SourceBand>
      <SourceProperties RasterXSize="160209" RasterYSize="46481" DataType="Byte" BlockXSize="512" BlockYSize="512" />
      <SrcRect xOff="0" yOff="0" xSize="160209" ySize="46481" />
      <DstRect xOff="1711201.68043963" yOff="909429.613076735" xSize="159111.342087195" ySize="46162.5395049896" />
      <NODATA>255</NODATA>
    </ComplexSource>
    <ComplexSource>
      <SourceFilename relativeToVRT="0">./BulkDownload/Extent_Rasters/WA/WA_PugetSound_SE_connectRaster_1_5.tif</SourceFilename>
      <SourceBand>1</SourceBand>
      <SourceProperties RasterXSize="64737" RasterYSize="32567" DataType="Byte" BlockXSize="512" BlockYSize="512" />
      <SrcRect xOff="0" yOff="0" xSize="64737" ySize="32567" />
      <DstRect xOff="1747183.25275659" yOff="872542.09041092" xSize="79022.5994176724" ySize="39753.6029663923" />
      <NODATA>255</NODATA>
    </ComplexSource>
    <ComplexSource>
      <SourceFilename relativeToVRT="0">./BulkDownload/Extent_Rasters/WA/WA_PugetSound_West_connectRaster_1_5.tif</SourceFilename>
      <SourceBand>1</SourceBand>
      <SourceProperties RasterXSize="42544" RasterYSize="39033" DataType="Byte" BlockXSize="512" BlockYSize="512" />
      <SrcRect xOff="0" yOff="0" xSize="42544" ySize="39033" />
      <DstRect xOff="1724531.38920423" yOff="851348.544645007" xSize="51899.3079970131" ySize="47616.2488023553" />
      <NODATA>255</NODATA>
    </ComplexSource>
    <ComplexSource>
      <SourceFilename relativeToVRT="0">./BulkDownload/Extent_Rasters/MP/CNMI_connectRaster_1_5.tif</SourceFilename>
      <SourceBand>1</SourceBand>
      <SourceProperties RasterXSize="30558" RasterYSize="47231" DataType="Byte" BlockXSize="512" BlockYSize="512" />
      <SrcRect xOff="0" yOff="0" xSize="30557.9575233719" ySize="47230.813326386" />
      <DstRect xOff="11633213.2917455" yOff="2068780.21230238" xSize="30532.7082544696" ySize="47191.78769762" />
      <NODATA>255</NODATA>
    </ComplexSource>
    <ComplexSource>
      <SourceFilename relativeToVRT="0">./BulkDownload/Extent_Rasters/AK/AK_Emmonak_connectRaster_1_5.tif</SourceFilename>
      <SourceBand>1</SourceBand>
      <SourceProperties RasterXSize="16028" RasterYSize="9763" DataType="Byte" BlockXSize="512" BlockYSize="512" />
      <SrcRect xOff="0" yOff="0" xSize="16028" ySize="9763" />
      <DstRect xOff="214415.921968565" yOff="318210.804451399" xSize="15918.185563692" ySize="9696.10966173716" />
      <NODATA>255</NODATA>
    </ComplexSource>
    <ComplexSource>
      <SourceFilename relativeToVRT="0">./BulkDownload/Extent_Rasters/AK/AK_HooperBaytoNewtok_connectRaster_1_5.tif</SourceFilename>
      <SourceBand>1</SourceBand>
      <SourceProperties RasterXSize="78569" RasterYSize="47561" DataType="Byte" BlockXSize="512" BlockYSize="512" />
      <SrcRect xOff="0" yOff="0" xSize="78569" ySize="47561" />
      <DstRect xOff="154618.497207319" yOff="355185.124128588" xSize="78030.6913871797" ySize="47235.1399797078" />
      <NODATA>255</NODATA>
    </ComplexSource>
    <ComplexSource>
      <SourceFilename relativeToVRT="0">./BulkDownload/Extent_Rasters/AK/AK_Kachemak_connectRaster_1_5.tif</SourceFilename>
      <SourceBand>1</SourceBand>
      <SourceProperties RasterXSize="34308" RasterYSize="16596" DataType="Byte" BlockXSize="512" BlockYSize="512" />
      <SrcRect xOff="0" yOff="0" xSize="34308" ySize="16596" />
      <DstRect xOff="693184.922735141" yOff="429135.887398112" xSize="34072.9417468897" ySize="16482.293961507" />
      <NODATA>255</NODATA>
    </ComplexSource>
    <ComplexSource>
      <SourceFilename relativeToVRT="0">./BulkDownload/Extent_Rasters/AK/AK_Kake_SecurityBay_connectRaster_1_5.tif</SourceFilename>
      <SourceBand>1</SourceBand>
      <SourceProperties RasterXSize="34615" RasterYSize="14994" DataType="Byte" BlockXSize="512" BlockYSize="512" />
      <SrcRect xOff="0" yOff="0" xSize="34615" ySize="14994" />
      <DstRect xOff="1334085.59572484" yOff="529259.364969031" xSize="34377.8383633143" ySize="14891.269924008" />
      <NODATA>255</NODATA>
    </ComplexSource>
    <ComplexSource>
      <SourceFilename relativeToVRT="0">./BulkDownload/Extent_Rasters/AK/AK_Kotlik_connectRaster_1_5.tif</SourceFilename>
      <SourceBand>1</SourceBand>
      <SourceProperties RasterXSize="24579" RasterYSize="6613" DataType="Byte" BlockXSize="512" BlockYSize="512" />
      <SrcRect xOff="0" yOff="0" xSize="24579" ySize="6613" />
      <DstRect xOff="256261.003963088" yOff="306202.1059166" xSize="24410.5991371344" ySize="6567.69161047508" />
      <NODATA>255</NODATA>
    </ComplexSource>
    <ComplexSource>
      <SourceFilename relativeToVRT="0">./BulkDownload/Extent_Rasters/AK/AK_Mekoryuk_connectRaster_1_5.tif</SourceFilename>
      <SourceBand>1</SourceBand>
      <SourceProperties RasterXSize="13661" RasterYSize="5657" DataType="Byte" BlockXSize="512" BlockYSize="512" />
      <SrcRect xOff="0" yOff="0" xSize="13661" ySize="5657" />
      <DstRect xOff="152662.338954323" yOff="404609.52622717" xSize="13567.4028566006" ySize="5618.24156063173" />
      <NODATA>255</NODATA>
    </ComplexSource>
    <ComplexSource>
      <SourceFilename relativeToVRT="0">./BulkDownload/Extent_Rasters/AK/AK_Metlakatla_connectRaster_1_5.tif</SourceFilename>
      <SourceBand>1</SourceBand>
      <SourceProperties RasterXSize="21911" RasterYSize="15855" DataType="Byte" BlockXSize="512" BlockYSize="512" />
      <SrcRect xOff="0" yOff="0" xSize="21911" ySize="15855" />
      <DstRect xOff="1427742.23242825" yOff="592793.837641383" xSize="21760.8787051448" ySize="15746.3708580198" />
      <NODATA>255</NODATA>
    </ComplexSource>
    <ComplexSource>
      <SourceFilename relativeToVRT="0">./BulkDownload/Extent_Rasters/AK/AK_PointHope_connectRaster_1_5.tif</SourceFilename>
      <SourceBand>1</SourceBand>
      <SourceProperties RasterXSize="56506" RasterYSize="18206" DataType="Byte" BlockXSize="512" BlockYSize="512" />
      <SrcRect xOff="0" yOff="0" xSize="56506" ySize="18206" />
      <DstRect xOff="116750.326322203" yOff="108839.465891469" xSize="56118.8540967048" ySize="18081.2631877079" />
      <NODATA>255</NODATA>
    </ComplexSource>
    <ComplexSource>
      <SourceFilename relativeToVRT="0">./BulkDownload/Extent_Rasters/AK/AK_POWI_connectRaster_1_5.tif</SourceFilename>
      <SourceBand>1</SourceBand>
      <SourceProperties RasterXSize="74973" RasterYSize="63401" DataType="Byte" BlockXSize="512" BlockYSize="512" />
      <SrcRect xOff="0" yOff="0" xSize="74973" ySize="63401" />
      <DstRect xOff="1352316.54826762" yOff="553244.750193313" xSize="74459.3290658032" ySize="62966.6136089124" />
      <NODATA>255</NODATA>
    </ComplexSource>
    <ComplexSource>
      <SourceFilename relativeToVRT="0">./BulkDownload/Extent_Rasters/AK/AK_ScammonBay_connectRaster_1_5.tif</SourceFilename>
      <SourceBand>1</SourceBand>
      <SourceProperties RasterXSize="17058" RasterYSize="6650" DataType="Byte" BlockXSize="512" BlockYSize="512" />
      <SrcRect xOff="0" yOff="0" xSize="17058" ySize="6650" />
      <DstRect xOff="173282.75943772" yOff="350662.629818914" xSize="16941.1286090254" ySize="6604.43810822023" />
      <NODATA>255</NODATA>
    </ComplexSource>
    <ComplexSource>
      <SourceFilename relativeToVRT="0">./BulkDownload/Extent_Rasters/AK/AK_Teller_connectRaster_1_5.tif</SourceFilename>
      <SourceBand>1</SourceBand>
      <SourceProperties RasterXSize="42630" RasterYSize="14662" DataType="Byte" BlockXSize="512" BlockYSize="512" />
      <SrcRect xOff="0" yOff="0" xSize="42630" ySize="14662" />
      <DstRect xOff="127600.862425868" yOff="223695.16448875" xSize="42337.9242937478" ySize="14561.5445928909" />
      <NODATA>255</NODATA>
    </ComplexSource>
    <ComplexSource>
      <SourceFilename relativeToVRT="0">./BulkDownload/Extent_Rasters/AK/AK_Anchorage_connectRaster_1_5.tif</SourceFilename>
      <SourceBand>1</SourceBand>
      <SourceProperties RasterXSize="59950" RasterYSize="28562" DataType="Byte" BlockXSize="512" BlockYSize="512" />
      <SrcRect xOff="0" yOff="0" xSize="59950" ySize="28562" />
      <DstRect xOff="745795.214548321" yOff="367567.571586594" xSize="59429.9894485567" ySize="28314.2511864835" />
      <NODATA>255</NODATA>
    </ComplexSource>
    <ComplexSource>
      <SourceFilename relativeToVRT="0">./BulkDownload/Extent_Rasters/AK/AK_Chefornak_connectRaster_1_5.tif</SourceFilename>
      <SourceBand>1</SourceBand>
      <SourceProperties RasterXSize="7488" RasterYSize="4511" DataType="Byte" BlockXSize="512" BlockYSize="512" />
      <SrcRect xOff="0" yOff="0" xSize="7488" ySize="4511" />
      <DstRect xOff="228225.659382632" yOff="415576.199274013" xSize="7423.0485569768" ySize="4471.87126609529" />
      <NODATA>255</NODATA>
    </ComplexSource>
    <ComplexSource>
      <SourceFilename relativeToVRT="0">./BulkDownload/Extent_Rasters/AK/AK_Kivalina_connectRaster_1_5.tif</SourceFilename>
      <SourceBand>1</SourceBand>
      <SourceProperties RasterXSize="17802" RasterYSize="7751" DataType="Byte" BlockXSize="512" BlockYSize="512" />
      <SrcRect xOff="0" yOff="0" xSize="17802" ySize="7751" />
      <DstRect xOff="215405.535423994" yOff="133506.483030772" xSize="17647.5841895449" ySize="7683.76727632643" />
      <NODATA>255</NODATA>
    </ComplexSource>
    <ComplexSource>
      <SourceFilename relativeToVRT="0">./BulkDownload/Extent_Rasters/AK/AK_Kwigillingok_connectRaster_1_5.tif</SourceFilename>
      <SourceBand>1</SourceBand>
      <SourceProperties RasterXSize="4824" RasterYSize="4596" DataType="Byte" BlockXSize="512" BlockYSize="512" />
      <SrcRect xOff="0" yOff="0" xSize="4824" ySize="4596" />
      <DstRect xOff="272100.562790286" yOff="426291.892787233" xSize="4782.15628189835" ySize="4556.13397006727" />
      <NODATA>255</NODATA>
    </ComplexSource>
    <ComplexSource>
      <SourceFilename relativeToVRT="0">./BulkDownload/Extent_Rasters/AK/AK_Levelock_connectRaster_1_5.tif</SourceFilename>
      <SourceBand>1</SourceBand>
      <SourceProperties RasterXSize="5564" RasterYSize="3013" DataType="Byte" BlockXSize="512" BlockYSize="512" />
      <SrcRect xOff="0" yOff="0" xSize="5564" ySize="3013" />
      <DstRect xOff="502727.892790665" yOff="453590.837687852" xSize="5515.7374694209" ySize="2986.86502432869" />
      <NODATA>255</NODATA>
    </ComplexSource>
    <ComplexSource>
      <SourceFilename relativeToVRT="0">./BulkDownload/Extent_Rasters/AK/AK_Savoonga_connectRaster_1_5.tif</SourceFilename>
      <SourceBand>1</SourceBand>
      <SourceProperties RasterXSize="9317" RasterYSize="5541" DataType="Byte" BlockXSize="512" BlockYSize="512" />
      <SrcRect xOff="0" yOff="0" xSize="9317" ySize="5541" />
      <DstRect xOff="0" yOff="284569.133457949" xSize="9236.18368127083" ySize="5492.93697305156" />
      <NODATA>255</NODATA>
    </ComplexSource>
    <ComplexSource>
      <SourceFilename relativeToVRT="0">./BulkDownload/Extent_Rasters/AK/AK_Shaktoolik_connectRaster_1_5.tif</SourceFilename>
      <SourceBand>1</SourceBand>
      <SourceProperties RasterXSize="17460" RasterYSize="9711" DataType="Byte" BlockXSize="512" BlockYSize="512" />
      <SrcRect xOff="0" yOff="0" xSize="17460" ySize="9711" />
      <DstRect xOff="341389.556989321" yOff="260095.998482271" xSize="17308.5507217982" ySize="9626.76609733005" />
      <NODATA>255</NODATA>
    </ComplexSource>
    <ComplexSource>
      <SourceFilename relativeToVRT="0">./BulkDownload/Extent_Rasters/AK/AK_Tuntutuliak_connectRaster_1_5.tif</SourceFilename>
      <SourceBand>1</SourceBand>
      <SourceProperties RasterXSize="5227" RasterYSize="2499" DataType="Byte" BlockXSize="512" BlockYSize="512" />
      <SrcRect xOff="0" yOff="0" xSize="5227" ySize="2499" />
      <DstRect xOff="289741.665562459" yOff="408346.015417652" xSize="5181.66063131963" ySize="2477.32349677971" />
      <NODATA>255</NODATA>
    </ComplexSource>
    <ComplexSource>
      <SourceFilename relativeToVRT="0">./BulkDownload/Extent_Rasters/AK/AK_Tununak_Toksook_Bay_connectRaster_1_5.tif</SourceFilename>
      <SourceBand>1</SourceBand>
      <SourceProperties RasterXSize="19548" RasterYSize="11099" DataType="Byte" BlockXSize="512" BlockYSize="512" />
      <SrcRect xOff="0" yOff="0" xSize="19548" ySize="11099" />
      <DstRect xOff="190355.348150968" yOff="395220.710400883" xSize="19378.4392617248" ySize="11002.7264868981" />
      <NODATA>255</NODATA>
    </ComplexSource>
    <ComplexSource>
      <SourceFilename relativeToVRT="0">./BulkDownload/Extent_Rasters/AK/AK_Tyonek_connectRaster_1_5.tif</SourceFilename>
      <SourceBand>1</SourceBand>
      <SourceProperties RasterXSize="22945" RasterYSize="14473" DataType="Byte" BlockXSize="512" BlockYSize="512" />
      <SrcRect xOff="0" yOff="0" xSize="22945" ySize="14473" />
      <DstRect xOff="703266.676693843" yOff="374950.558057847" xSize="22745.9734428215" ySize="14347.4601716257" />
      <NODATA>255</NODATA>
    </ComplexSource>
    <ComplexSource>
      <SourceFilename relativeToVRT="0">./BulkDownload/Extent_Rasters/AK/AK_Dillingham_connectRaster_1_5.tif</SourceFilename>
      <SourceBand>1</SourceBand>
      <SourceProperties RasterXSize="17115" RasterYSize="16809" DataType="Byte" BlockXSize="512" BlockYSize="512" />
      <SrcRect xOff="0" yOff="0" xSize="17115" ySize="16809" />
      <DstRect xOff="432848.241155236" yOff="444673.365575439" xSize="16966.5432762638" ySize="16663.1975419642" />
      <NODATA>255</NODATA>
    </ComplexSource>
    <ComplexSource>
      <SourceFilename relativeToVRT="0">./BulkDownload/Extent_Rasters/AK/AK_Ekuk_connectRaster_1_5.tif</SourceFilename>
      <SourceBand>1</SourceBand>
      <SourceProperties RasterXSize="11647" RasterYSize="8602" DataType="Byte" BlockXSize="512" BlockYSize="512" />
      <SrcRect xOff="0" yOff="0" xSize="11647" ySize="8602" />
      <DstRect xOff="441372.762830378" yOff="460116.6405084" xSize="11567.201600968" ySize="8543.06415141454" />
      <NODATA>255</NODATA>
    </ComplexSource>
    <ComplexSource>
      <SourceFilename relativeToVRT="0">./BulkDownload/Extent_Rasters/AK/AK_Goodnews_Bay_connectRaster_1_5.tif</SourceFilename>
      <SourceBand>1</SourceBand>
      <SourceProperties RasterXSize="10140" RasterYSize="4167" DataType="Byte" BlockXSize="512" BlockYSize="512" />
      <SrcRect xOff="0" yOff="0" xSize="10140" ySize="4167" />
      <DstRect xOff="328091.40138088" yOff="453278.076673425" xSize="10070.5266793012" ySize="4138.45016495556" />
      <NODATA>255</NODATA>
    </ComplexSource>
    <ComplexSource>
      <SourceFilename relativeToVRT="0">./BulkDownload/Extent_Rasters/AK/AK_Manokotak_connectRaster_1_5.tif</SourceFilename>
      <SourceBand>1</SourceBand>
      <SourceProperties RasterXSize="24372" RasterYSize="11102" DataType="Byte" BlockXSize="512" BlockYSize="512" />
      <SrcRect xOff="0" yOff="0" xSize="24372" ySize="11102" />
      <DstRect xOff="415325.242513283" yOff="455108.017231699" xSize="24205.0173794793" ySize="11025.9356206703" />
      <NODATA>255</NODATA>
    </ComplexSource>
    <ComplexSource>
      <SourceFilename relativeToVRT="0">./BulkDownload/Extent_Rasters/AK/AK_Nelson_Lagoon_connectRaster_1_5.tif</SourceFilename>
      <SourceBand>1</SourceBand>
      <SourceProperties RasterXSize="27454" RasterYSize="7637" DataType="Byte" BlockXSize="512" BlockYSize="512" />
      <SrcRect xOff="0" yOff="0" xSize="27454" ySize="7637" />
      <DstRect xOff="331220.040930358" yOff="566500.372585044" xSize="27265.9013267781" ySize="7584.67576428221" />
      <NODATA>255</NODATA>
    </ComplexSource>
    <ComplexSource>
      <SourceFilename relativeToVRT="0">./BulkDownload/Extent_Rasters/AK/AK_Angoon_connectRaster_1_5.tif</SourceFilename>
      <SourceBand>1</SourceBand>
      <SourceProperties RasterXSize="3220" RasterYSize="2302" DataType="Byte" BlockXSize="512" BlockYSize="512" />
