<VRTDataset rasterXSize="3363465" rasterYSize="1011849">
  <SRS dataAxisToSRSAxisMapping="2,1">GEOGCS["NAD83",DATUM["North_American_Datum_1983",SPHEROID["GRS 1980",6378137,298.257222101004,AUTHORITY["EPSG","7019"]],AUTHORITY["EPSG","6269"]],PRIMEM["Greenwich",0],UNIT["degree",0.0174532925199433,AUTHORITY["EPSG","9122"]],AXIS["Latitude",NORTH],AXIS["Longitude",EAST],AUTHORITY["EPSG","4269"]]</SRS>
  <GeoTransform> -1.5984628882270721e+02,  2.8344212698636473e-05,  0.0000000000000000e+00,  4.6299973940355002e+01,  0.0000000000000000e+00, -2.8344212698636463e-05</GeoTransform>
  <VRTRasterBand dataType="Byte" band="1">
    <NoDataValue>0</NoDataValue>
    <ColorInterp>Gray</ColorInterp>
    <ComplexSource>
      <SourceFilename relativeToVRT="0">./BulkDownload/Extent_Rasters/AL/AL_connectRaster_6.tif</SourceFilename>
      <SourceBand>1</SourceBand>
      <SourceProperties RasterXSize="57910" RasterYSize="68600" DataType="Byte" BlockXSize="512" BlockYSize="512" />
      <SrcRect xOff="0" yOff="0" xSize="57910" ySize="68600" />
      <DstRect xOff="2518355.71299245" yOff="504784.385968558" xSize="55060.3807448821" ySize="65224.350183024" />
      <NODATA>0</NODATA>
    </ComplexSource>
    <ComplexSource>
      <SourceFilename relativeToVRT="0">./BulkDownload/Extent_Rasters/DC/DC_connectRaster_6.tif</SourceFilename>
      <SourceBand>1</SourceBand>
      <SourceProperties RasterXSize="7879" RasterYSize="7583" DataType="Byte" BlockXSize="512" BlockYSize="512" />
      <SrcRect xOff="0" yOff="0" xSize="7879" ySize="7583" />
      <DstRect xOff="2918614.22024911" yOff="257673.719745768" xSize="7491.29234828063" ySize="7209.85783437139" />
      <NODATA>0</NODATA>
    </ComplexSource>
    <ComplexSource>
      <SourceFilename relativeToVRT="0">./BulkDownload/Extent_Rasters/DE/DE_connectRaster_6.tif</SourceFilename>
      <SourceBand>1</SourceBand>
      <SourceProperties RasterXSize="29940" RasterYSize="51766" DataType="Byte" BlockXSize="512" BlockYSize="512" />
      <SrcRect xOff="0" yOff="0" xSize="29940" ySize="51766" />
      <DstRect xOff="2965556.56467297" yOff="227728.782117769" xSize="28466.7207650109" ySize="49218.7129967119" />
      <NODATA>0</NODATA>
    </ComplexSource>
    <ComplexSource>
      <SourceFilename relativeToVRT="0">./BulkDownload/Extent_Rasters/HI/HI_Hawaii_connectRaster_6.tif</SourceFilename>
      <SourceBand>1</SourceBand>
      <SourceProperties RasterXSize="51527" RasterYSize="54138" DataType="Byte" BlockXSize="512" BlockYSize="512" />
      <SrcRect xOff="0" yOff="0" xSize="51527" ySize="54138" />
      <DstRect xOff="130199.547852984" yOff="915472.847314425" xSize="51589.3534470392" ySize="54203.513049776" />
      <NODATA>0</NODATA>
    </ComplexSource>
    <ComplexSource>
      <SourceFilename relativeToVRT="0">./BulkDownload/Extent_Rasters/HI/HI_Kauai_connectRaster_6.tif</SourceFilename>
      <SourceBand>1</SourceBand>
      <SourceProperties RasterXSize="21620" RasterYSize="16703" DataType="Byte" BlockXSize="512" BlockYSize="512" />
      <SrcRect xOff="0" yOff="0" xSize="21620" ySize="16703" />
      <DstRect xOff="0" yOff="847260.74658137" xSize="21488.2535479071" ySize="16601.2164204761" />
      <NODATA>0</NODATA>
    </ComplexSource>
    <ComplexSource>
      <SourceFilename relativeToVRT="0">./BulkDownload/Extent_Rasters/HI/HI_Lanai_connectRaster_6.tif</SourceFilename>
      <SourceBand>1</SourceBand>
      <SourceProperties RasterXSize="13322" RasterYSize="10992" DataType="Byte" BlockXSize="512" BlockYSize="512" />
      <SrcRect xOff="0" yOff="0" xSize="13322" ySize="10992" />
      <DstRect xOff="96113.9188145051" yOff="893106.705524429" xSize="13301.4320223521" ySize="10975.029334161" />
      <NODATA>0</NODATA>
    </ComplexSource>
    <ComplexSource>
      <SourceFilename relativeToVRT="0">./BulkDownload/Extent_Rasters/HI/HI_Maui_connectRaster_6.tif</SourceFilename>
      <SourceBand>1</SourceBand>
      <SourceProperties RasterXSize="30175" RasterYSize="20866" DataType="Byte" BlockXSize="512" BlockYSize="512" />
      <SrcRect xOff="0" yOff="0" xSize="30175" ySize="20866" />
      <DstRect xOff="108715.312931251" yOff="889182.864855598" xSize="30243.0731504875" ySize="20913.0725553628" />
      <NODATA>0</NODATA>
    </ComplexSource>
    <ComplexSource>
      <SourceFilename relativeToVRT="0">./BulkDownload/Extent_Rasters/HI/HI_Molokai_connectRaster_6.tif</SourceFilename>
      <SourceBand>1</SourceBand>
      <SourceProperties RasterXSize="25259" RasterYSize="10521" DataType="Byte" BlockXSize="512" BlockYSize="512" />
      <SrcRect xOff="0" yOff="0" xSize="25259" ySize="10521" />
      <DstRect xOff="87414.3980505448" yOff="882581.071114264" xSize="25349.4347896974" ySize="10558.6683329667" />
      <NODATA>0</NODATA>
    </ComplexSource>
    <ComplexSource>
      <SourceFilename relativeToVRT="0">./BulkDownload/Extent_Rasters/HI/HI_Oahu_connectRaster_6.tif</SourceFilename>
      <SourceBand>1</SourceBand>
      <SourceProperties RasterXSize="27300" RasterYSize="20607" DataType="Byte" BlockXSize="512" BlockYSize="512" />
      <SrcRect xOff="0" yOff="0" xSize="27300" ySize="20607" />
      <DstRect xOff="53313.9225254513" yOff="865674.636084048" xSize="26101.4828759744" ySize="19702.3171291283" />
      <NODATA>0</NODATA>
    </ComplexSource>
    <ComplexSource>
      <SourceFilename relativeToVRT="0">./BulkDownload/Extent_Rasters/LA/LA_Central_connectRaster_6.tif</SourceFilename>
      <SourceBand>1</SourceBand>
      <SourceProperties RasterXSize="61525" RasterYSize="46752" DataType="Byte" BlockXSize="512" BlockYSize="512" />
      <SrcRect xOff="0" yOff="0" xSize="61525" ySize="46752" />
      <DstRect xOff="2367560.91782909" yOff="557480.089427698" xSize="58497.4948252268" ySize="44451.4405212354" />
      <NODATA>0</NODATA>
    </ComplexSource>
    <ComplexSource>
      <SourceFilename relativeToVRT="0">./BulkDownload/Extent_Rasters/LA/LA_CentralEast_connectRaster_6.tif</SourceFilename>
      <SourceBand>1</SourceBand>
      <SourceProperties RasterXSize="63242" RasterYSize="62075" DataType="Byte" BlockXSize="512" BlockYSize="512" />
      <SrcRect xOff="0" yOff="0" xSize="63242" ySize="62075" />
      <DstRect xOff="2404160.24811226" yOff="551850.345251459" xSize="60130.0051643557" ySize="59020.4305774229" />
      <NODATA>0</NODATA>
    </ComplexSource>
    <ComplexSource>
      <SourceFilename relativeToVRT="0">./BulkDownload/Extent_Rasters/LA/LA_CentralNorth_connectRaster_6.tif</SourceFilename>
      <SourceBand>1</SourceBand>
      <SourceProperties RasterXSize="49220" RasterYSize="26515" DataType="Byte" BlockXSize="512" BlockYSize="512" />
      <SrcRect xOff="0" yOff="0" xSize="49220" ySize="26515" />
      <DstRect xOff="2371256.71709746" yOff="539349.464134256" xSize="46797.9958601815" ySize="25210.2572172433" />
      <NODATA>0</NODATA>
    </ComplexSource>
    <ComplexSource>
      <SourceFilename relativeToVRT="0">./BulkDownload/Extent_Rasters/LA/LA_Delta_connectRaster_6.tif</SourceFilename>
      <SourceBand>1</SourceBand>
      <SourceProperties RasterXSize="71705" RasterYSize="50422" DataType="Byte" BlockXSize="512" BlockYSize="512" />
      <SrcRect xOff="0" yOff="0" xSize="71705" ySize="50422" />
      <DstRect xOff="2439881.61334652" yOff="567555.503635328" xSize="68176.5602022408" ySize="47940.8481767991" />
      <NODATA>0</NODATA>
    </ComplexSource>
    <ComplexSource>
      <SourceFilename relativeToVRT="0">./BulkDownload/Extent_Rasters/LA/LA_LP_connectRaster_6.tif</SourceFilename>
      <SourceBand>1</SourceBand>
      <SourceProperties RasterXSize="80111" RasterYSize="42540" DataType="Byte" BlockXSize="512" BlockYSize="512" />
      <SrcRect xOff="0" yOff="0" xSize="80111" ySize="42540" />
      <DstRect xOff="2405555.24857675" yOff="539780.583548377" xSize="76168.9200803532" ySize="40446.7034516886" />
      <NODATA>0</NODATA>
    </ComplexSource>
    <ComplexSource>
      <SourceFilename relativeToVRT="0">./BulkDownload/Extent_Rasters/LA/LA_West_connectRaster_6.tif</SourceFilename>
      <SourceBand>1</SourceBand>
      <SourceProperties RasterXSize="50040" RasterYSize="45013" DataType="Byte" BlockXSize="512" BlockYSize="512" />
      <SrcRect xOff="0" yOff="0" xSize="50040" ySize="45013" />
      <DstRect xOff="2325555.7748158" yOff="548943.416678888" xSize="47577.6455270919" ySize="42798.0127520182" />
      <NODATA>0</NODATA>
    </ComplexSource>
    <ComplexSource>
      <SourceFilename relativeToVRT="0">./BulkDownload/Extent_Rasters/MD/MD_East_connectRaster_6.tif</SourceFilename>
      <SourceBand>1</SourceBand>
      <SourceProperties RasterXSize="28460" RasterYSize="44790" DataType="Byte" BlockXSize="512" BlockYSize="512" />
      <SrcRect xOff="0" yOff="0" xSize="28460" ySize="44790" />
      <DstRect xOff="2941695.62981066" yOff="248244.449262962" xSize="27059.5481954619" ySize="42585.9860743057" />
      <NODATA>0</NODATA>
    </ComplexSource>
    <ComplexSource>
      <SourceFilename relativeToVRT="0">./BulkDownload/Extent_Rasters/MD/MD_North_connectRaster_6.tif</SourceFilename>
      <SourceBand>1</SourceBand>
      <SourceProperties RasterXSize="30270" RasterYSize="27139" DataType="Byte" BlockXSize="512" BlockYSize="512" />
      <SrcRect xOff="0" yOff="0" xSize="30270" ySize="27139" />
      <DstRect xOff="2938015.40887266" yOff="232039.927154358" xSize="28780.4822163286" ySize="25803.5515979168" />
      <NODATA>0</NODATA>
    </ComplexSource>
    <ComplexSource>
      <SourceFilename relativeToVRT="0">./BulkDownload/Extent_Rasters/MD/MD_Southeast_connectRaster_6.tif</SourceFilename>
      <SourceBand>1</SourceBand>
      <SourceProperties RasterXSize="46474" RasterYSize="25088" DataType="Byte" BlockXSize="512" BlockYSize="512" />
      <SrcRect xOff="0" yOff="0" xSize="46474" ySize="25088" />
      <DstRect xOff="2949762.43253396" yOff="273006.836436737" xSize="44187.120268307" ySize="23853.476638363" />
      <NODATA>0</NODATA>
    </ComplexSource>
    <ComplexSource>
      <SourceFilename relativeToVRT="0">./BulkDownload/Extent_Rasters/MD/MD_Southwest_connectRaster_6.tif</SourceFilename>
      <SourceBand>1</SourceBand>
      <SourceProperties RasterXSize="41701" RasterYSize="30425" DataType="Byte" BlockXSize="512" BlockYSize="512" />
      <SrcRect xOff="0" yOff="0" xSize="41701" ySize="30425" />
      <DstRect xOff="2911428.10840455" yOff="267866.240201134" xSize="39648.9887315201" ySize="28927.8550192202" />
      <NODATA>0</NODATA>
    </ComplexSource>
    <ComplexSource>
      <SourceFilename relativeToVRT="0">./BulkDownload/Extent_Rasters/MD/MD_West_connectRaster_6.tif</SourceFilename>
      <SourceBand>1</SourceBand>
      <SourceProperties RasterXSize="33461" RasterYSize="52619" DataType="Byte" BlockXSize="512" BlockYSize="512" />
      <SrcRect xOff="0" yOff="0" xSize="33461" ySize="52619" />
      <DstRect xOff="2916222.04776503" yOff="232067.523920689" xSize="31814.4603713438" ySize="50029.7388087547" />
      <NODATA>0</NODATA>
    </ComplexSource>
    <ComplexSource>
      <SourceFilename relativeToVRT="0">./BulkDownload/Extent_Rasters/MS/MS_connectRaster_6.tif</SourceFilename>
      <SourceBand>1</SourceBand>
      <SourceProperties RasterXSize="48533" RasterYSize="21958" DataType="Byte" BlockXSize="512" BlockYSize="512" />
      <SrcRect xOff="0" yOff="0" xSize="48533" ySize="21958" />
      <DstRect xOff="2475107.11644767" yOff="549072.381121962" xSize="46144.8015660743" ySize="20877.4968122279" />
      <NODATA>0</NODATA>
    </ComplexSource>
    <ComplexSource>
      <SourceFilename relativeToVRT="0">./BulkDownload/Extent_Rasters/NJ/NJ_Middle_connectRaster_6.tif</SourceFilename>
      <SourceBand>1</SourceBand>
      <SourceProperties RasterXSize="43704" RasterYSize="39040" DataType="Byte" BlockXSize="512" BlockYSize="512" />
      <SrcRect xOff="0" yOff="0" xSize="43704" ySize="39040" />
      <DstRect xOff="2991249.11564782" yOff="203694.778161277" xSize="41553.4256617911" ySize="37118.9304831668" />
      <NODATA>0</NODATA>
    </ComplexSource>
    <ComplexSource>
      <SourceFilename relativeToVRT="0">./BulkDownload/Extent_Rasters/NJ/NJ_Northern_connectRaster_6.tif</SourceFilename>
      <SourceBand>1</SourceBand>
      <SourceProperties RasterXSize="33615" RasterYSize="35384" DataType="Byte" BlockXSize="512" BlockYSize="512" />
      <SrcRect xOff="0" yOff="0" xSize="33615" ySize="35384" />
      <DstRect xOff="3000527.90472873" yOff="179796.177157315" xSize="31960.8823819586" ySize="33642.833919477" />
      <NODATA>0</NODATA>
    </ComplexSource>
    <ComplexSource>
      <SourceFilename relativeToVRT="0">./BulkDownload/Extent_Rasters/NJ/NJ_Southern_connectRaster_6.tif</SourceFilename>
      <SourceBand>1</SourceBand>
      <SourceProperties RasterXSize="49776" RasterYSize="44875" DataType="Byte" BlockXSize="512" BlockYSize="512" />
      <SrcRect xOff="0" yOff="0" xSize="49776" ySize="44875" />
      <DstRect xOff="2973233.08132437" yOff="222368.546832049" xSize="47326.6363660378" ySize="42666.8034178309" />
      <NODATA>0</NODATA>
    </ComplexSource>
    <ComplexSource>
      <SourceFilename relativeToVRT="0">./BulkDownload/Extent_Rasters/NY/NY_HU_connectRaster_6.tif</SourceFilename>
      <SourceBand>1</SourceBand>
      <SourceProperties RasterXSize="18540" RasterYSize="56496" DataType="Byte" BlockXSize="512" BlockYSize="512" />
      <SrcRect xOff="0" yOff="0" xSize="18540" ySize="56496" />
      <DstRect xOff="3024423.77744277" yOff="123582.254294147" xSize="17627.6888103974" ySize="53715.9604655991" />
      <NODATA>0</NODATA>
    </ComplexSource>
    <ComplexSource>
      <SourceFilename relativeToVRT="0">./BulkDownload/Extent_Rasters/NY/NY_M_connectRaster_6.tif</SourceFilename>
      <SourceBand>1</SourceBand>
      <SourceProperties RasterXSize="31106" RasterYSize="31916" DataType="Byte" BlockXSize="512" BlockYSize="512" />
      <SrcRect xOff="0" yOff="0" xSize="31106" ySize="31916" />
      <DstRect xOff="3019523.69607294" yOff="175111.053759381" xSize="29575.344559667" ySize="30345.4863038106" />
      <NODATA>0</NODATA>
    </ComplexSource>
    <ComplexSource>
      <SourceFilename relativeToVRT="0">./BulkDownload/Extent_Rasters/NY/NY_SK_connectRaster_6.tif</SourceFilename>
      <SourceBand>1</SourceBand>
      <SourceProperties RasterXSize="64001" RasterYSize="28866" DataType="Byte" BlockXSize="512" BlockYSize="512" />
      <SrcRect xOff="0" yOff="0" xSize="64001" ySize="28866" />
      <DstRect xOff="3046307.92087554" yOff="176003.712062759" xSize="60851.6565023866" ySize="27445.5698598129" />
      <NODATA>0</NODATA>
    </ComplexSource>
    <ComplexSource>
      <SourceFilename relativeToVRT="0">./BulkDownload/Extent_Rasters/OR/OR_MFR_connectRaster_6.tif</SourceFilename>
      <SourceBand>1</SourceBand>
      <SourceProperties RasterXSize="17361" RasterYSize="41493" DataType="Byte" BlockXSize="512" BlockYSize="512" />
      <SrcRect xOff="0" yOff="0" xSize="17361" ySize="41493" />
      <DstRect xOff="1239813.77833087" yOff="85927.6679258703" xSize="27562.769455141" ySize="65875.3523991803" />
      <NODATA>0</NODATA>
    </ComplexSource>
    <ComplexSource>
      <SourceFilename relativeToVRT="0">./BulkDownload/Extent_Rasters/OR/OR_PQR1_connectRaster_6.tif</SourceFilename>
      <SourceBand>1</SourceBand>
      <SourceProperties RasterXSize="13815" RasterYSize="42822" DataType="Byte" BlockXSize="512" BlockYSize="512" />
      <SrcRect xOff="0" yOff="0" xSize="13815" ySize="42822" />
      <DstRect xOff="1256510.11189628" yOff="18189.4687922271" xSize="21891.9921714887" ySize="67858.0447895397" />
      <NODATA>0</NODATA>
    </ComplexSource>
    <ComplexSource>
      <SourceFilename relativeToVRT="0">./BulkDownload/Extent_Rasters/OR/OR_PQR2_connectRaster_6.tif</SourceFilename>
      <SourceBand>1</SourceBand>
      <SourceProperties RasterXSize="49331" RasterYSize="18938" DataType="Byte" BlockXSize="512" BlockYSize="512" />
      <SrcRect xOff="0" yOff="0" xSize="49331" ySize="18938" />
      <DstRect xOff="1259003.74798039" yOff="0" xSize="78319.1624901544" ySize="30066.4551547412" />
      <NODATA>0</NODATA>
    </ComplexSource>
    <ComplexSource>
      <SourceFilename relativeToVRT="0">./BulkDownload/Extent_Rasters/PA/PA_connectRaster_6.tif</SourceFilename>
      <SourceBand>1</SourceBand>
      <SourceProperties RasterXSize="32742" RasterYSize="20105" DataType="Byte" BlockXSize="512" BlockYSize="512" />
      <SrcRect xOff="0" yOff="0" xSize="32742" ySize="20105" />
      <DstRect xOff="2972161.34861822" yOff="210175.562408763" xSize="31130.8407243817" ySize="19115.6787234652" />
      <NODATA>0</NODATA>
    </ComplexSource>
    <ComplexSource>
      <SourceFilename relativeToVRT="0">./BulkDownload/Extent_Rasters/PR/PR_connectRaster_6.tif</SourceFilename>
      <SourceBand>1</SourceBand>
      <SourceProperties RasterXSize="105419" RasterYSize="27559" DataType="Byte" BlockXSize="512" BlockYSize="512" />
      <SrcRect xOff="0" yOff="0" xSize="105419" ySize="27559" />
      <DstRect xOff="3240102.54873297" yOff="978330.247340981" xSize="100231.571019592" ySize="26202.8843541387" />
      <NODATA>0</NODATA>
    </ComplexSource>
    <ComplexSource>
      <SourceFilename relativeToVRT="0">./BulkDownload/Extent_Rasters/SC/SC_Central_connectRaster_6.tif</SourceFilename>
      <SourceBand>1</SourceBand>
      <SourceProperties RasterXSize="56857" RasterYSize="38086" DataType="Byte" BlockXSize="512" BlockYSize="512" />
      <SrcRect xOff="0" yOff="0" xSize="56857" ySize="38086" />
      <DstRect xOff="2789043.68203163" yOff="451305.549675815" xSize="54059.1964774955" ySize="36211.8746511757" />
      <NODATA>0</NODATA>
    </ComplexSource>
    <ComplexSource>
      <SourceFilename relativeToVRT="0">./BulkDownload/Extent_Rasters/SC/SC_North_connectRaster_6.tif</SourceFilename>
      <SourceBand>1</SourceBand>
      <SourceProperties RasterXSize="59540" RasterYSize="46739" DataType="Byte" BlockXSize="512" BlockYSize="512" />
      <SrcRect xOff="0" yOff="0" xSize="59540" ySize="46739" />
      <DstRect xOff="2813396.63910251" yOff="423066.466277455" xSize="56610.1721559367" ySize="44439.080221638" />
      <NODATA>0</NODATA>
    </ComplexSource>
    <ComplexSource>
      <SourceFilename relativeToVRT="0">./BulkDownload/Extent_Rasters/SC/SC_South_connectRaster_6.tif</SourceFilename>
      <SourceBand>1</SourceBand>
      <SourceProperties RasterXSize="44753" RasterYSize="42656" DataType="Byte" BlockXSize="512" BlockYSize="512" />
      <SrcRect xOff="0" yOff="0" xSize="44753" ySize="42656" />
      <DstRect xOff="2766621.25265498" yOff="462806.347383034" xSize="42550.8067600709" ySize="40556.9953557882" />
      <NODATA>0</NODATA>
    </ComplexSource>
    <ComplexSource>
      <SourceFilename relativeToVRT="0">./BulkDownload/Extent_Rasters/TX/TX_Central_connectRaster_6.tif</SourceFilename>
      <SourceBand>1</SourceBand>
      <SourceProperties RasterXSize="67214" RasterYSize="46118" DataType="Byte" BlockXSize="512" BlockYSize="512" />
      <SrcRect xOff="0" yOff="0" xSize="67214" ySize="46118" />
      <DstRect xOff="2206423.88983045" yOff="601011.440721424" xSize="63906.5520896648" ySize="43848.6382192869" />
      <NODATA>0</NODATA>
    </ComplexSource>
    <ComplexSource>
      <SourceFilename relativeToVRT="0">./BulkDownload/Extent_Rasters/TX/TX_North1_connectRaster_6.tif</SourceFilename>
      <SourceBand>1</SourceBand>
      <SourceProperties RasterXSize="45518" RasterYSize="62416" DataType="Byte" BlockXSize="512" BlockYSize="512" />
      <SrcRect xOff="0" yOff="0" xSize="45518" ySize="62416" />
      <DstRect xOff="2297206.60093831" yOff="533176.584319368" xSize="43278.1628843413" ySize="59344.6507884584" />
      <NODATA>0</NODATA>
    </ComplexSource>
    <ComplexSource>
      <SourceFilename relativeToVRT="0">./BulkDownload/Extent_Rasters/TX/TX_North2_connectRaster_6.tif</SourceFilename>
      <SourceBand>1</SourceBand>
      <SourceProperties RasterXSize="59722" RasterYSize="64054" DataType="Byte" BlockXSize="512" BlockYSize="512" />
      <SrcRect xOff="0" yOff="0" xSize="59722" ySize="64054" />
      <DstRect xOff="2253880.68050944" yOff="557627.719212932" xSize="56783.2163522194" ySize="60902.0484951118" />
      <NODATA>0</NODATA>
    </ComplexSource>
    <ComplexSource>
      <SourceFilename relativeToVRT="0">./BulkDownload/Extent_Rasters/TX/TX_South1_connectRaster_6.tif</SourceFilename>
      <SourceBand>1</SourceBand>
      <SourceProperties RasterXSize="43825" RasterYSize="37044" DataType="Byte" BlockXSize="512" BlockYSize="512" />
      <SrcRect xOff="0" yOff="0" xSize="43825" ySize="37044" />
      <DstRect xOff="2183977.72807728" yOff="626025.939373996" xSize="41668.471499186" ySize="35221.1490750906" />
      <NODATA>0</NODATA>
    </ComplexSource>
    <ComplexSource>
      <SourceFilename relativeToVRT="0">./BulkDownload/Extent_Rasters/TX/TX_South2_connectRaster_6.tif</SourceFilename>
      <SourceBand>1</SourceBand>
      <SourceProperties RasterXSize="36085" RasterYSize="66805" DataType="Byte" BlockXSize="512" BlockYSize="512" />
      <SrcRect xOff="0" yOff="0" xSize="36085" ySize="66805" />
      <DstRect xOff="2179826.86640929" yOff="658446.104599619" xSize="34309.3393116823" ySize="63517.6780578339" />
      <NODATA>0</NODATA>
    </ComplexSource>
    <ComplexSource>
      <SourceFilename relativeToVRT="0">./BulkDownload/Extent_Rasters/VA/VA_ES_connectRaster_6.tif</SourceFilename>
      <SourceBand>1</SourceBand>
      <SourceProperties RasterXSize="39789" RasterYSize="38555" DataType="Byte" BlockXSize="512" BlockYSize="512" />
      <SrcRect xOff="0" yOff="0" xSize="39789" ySize="38555" />
      <DstRect xOff="2949762.44115091" yOff="291810.469389266" xSize="37831.0738984307" ySize="36657.7962289575" />
      <NODATA>0</NODATA>
    </ComplexSource>
    <ComplexSource>
      <SourceFilename relativeToVRT="0">./BulkDownload/Extent_Rasters/VA/VA_Mid_connectRaster_6.tif</SourceFilename>
      <SourceBand>1</SourceBand>
      <SourceProperties RasterXSize="52507" RasterYSize="51933" DataType="Byte" BlockXSize="512" BlockYSize="512" />
      <SrcRect xOff="0" yOff="0" xSize="52507" ySize="51933" />
      <DstRect xOff="2902841.01080728" yOff="280508.234678541" xSize="51366.4477243505" ySize="50804.9161001142" />
      <NODATA>0</NODATA>
    </ComplexSource>
    <ComplexSource>
      <SourceFilename relativeToVRT="0">./BulkDownload/Extent_Rasters/VA/VA_N_connectRaster_6.tif</SourceFilename>
      <SourceBand>1</SourceBand>
      <SourceProperties RasterXSize="51289" RasterYSize="50790" DataType="Byte" BlockXSize="512" BlockYSize="512" />
      <SrcRect xOff="0" yOff="0" xSize="51289" ySize="50790" />
      <DstRect xOff="2903352.67609467" yOff="258452.304699186" xSize="50231.0286089005" ySize="49742.3218047935" />
      <NODATA>0</NODATA>
    </ComplexSource>
    <ComplexSource>
      <SourceFilename relativeToVRT="0">./BulkDownload/Extent_Rasters/VA/VA_S_connectRaster_6.tif</SourceFilename>
      <SourceBand>1</SourceBand>
      <SourceProperties RasterXSize="63328" RasterYSize="38028" DataType="Byte" BlockXSize="512" BlockYSize="512" />
      <SrcRect xOff="0" yOff="0" xSize="63328" ySize="38028" />
      <DstRect xOff="2905117.03312075" yOff="308078.809753182" xSize="60211.7733001535" ySize="36156.7286991257" />
      <NODATA>0</NODATA>
    </ComplexSource>
    <ComplexSource>
      <SourceFilename relativeToVRT="0">./BulkDownload/Extent_Rasters/VI/USVI_connectRaster_6.tif</SourceFilename>
      <SourceBand>1</SourceBand>
      <SourceProperties RasterXSize="23301" RasterYSize="31432" DataType="Byte" BlockXSize="512" BlockYSize="512" />
      <SrcRect xOff="0" yOff="0" xSize="23301" ySize="31431.7201056543" />
      <DstRect xOff="3341310.32351796" yOff="981963.963279505" xSize="22154.4108398635" ySize="29885.0367204954" />
      <NODATA>0</NODATA>
    </ComplexSource>
  </VRTRasterBand>
</VRTDataset>
