<VRTDataset rasterXSize="10870269" rasterYSize="1186180">
  <SRS dataAxisToSRSAxisMapping="2,1">GEOGCS["NAD83",DATUM["North_American_Datum_1983",SPHEROID["GRS 1980",6378137,298.257222101004,AUTHORITY["EPSG","7019"]],AUTHORITY["EPSG","6269"]],PRIMEM["Greenwich",0],UNIT["degree",0.0174532925199433,AUTHORITY["EPSG","9122"]],AXIS["Latitude",NORTH],AXIS["Longitude",EAST],AUTHORITY["EPSG","4269"]]</SRS>
  <GeoTransform> -1.5833514766284719e+02,  2.7904219901216667e-05,  0.0000000000000000e+00,  4.6299973940355009e+01,  0.0000000000000000e+00, -2.7904219901216671e-05</GeoTransform>
  <VRTRasterBand dataType="Byte" band="1">
    <NoDataValue>255</NoDataValue>
    <ColorInterp>Gray</ColorInterp>
    <ComplexSource>
      <SourceFilename relativeToVRT="0">./BulkDownload/Extent_Rasters/AL/AL_connectRaster_6_5.tif</SourceFilename>
      <SourceBand>1</SourceBand>
      <SourceProperties RasterXSize="57910" RasterYSize="68600" DataType="Byte" BlockXSize="512" BlockYSize="512" />
      <SrcRect xOff="0" yOff="0" xSize="57910" ySize="68600" />
      <DstRect xOff="2503910.48620491" yOff="512743.809126145" xSize="55928.570969755" ySize="66252.8055348851" />
      <NODATA>255</NODATA>
    </ComplexSource>
    <ComplexSource>
      <SourceFilename relativeToVRT="0">./BulkDownload/Extent_Rasters/CA/CA_North1_connectRaster_6_5.tif</SourceFilename>
      <SourceBand>1</SourceBand>
      <SourceProperties RasterXSize="40087" RasterYSize="74409" DataType="Byte" BlockXSize="512" BlockYSize="512" />
      <SrcRect xOff="0" yOff="0" xSize="40087" ySize="74409" />
      <DstRect xOff="1213148.72428971" yOff="154027.911726738" xSize="38644.3449706679" ySize="71731.1613471306" />
      <NODATA>255</NODATA>
    </ComplexSource>
    <ComplexSource>
      <SourceFilename relativeToVRT="0">./BulkDownload/Extent_Rasters/CT/CT_connectRaster_6_5.tif</SourceFilename>
      <SourceBand>1</SourceBand>
      <SourceProperties RasterXSize="72204" RasterYSize="40510" DataType="Byte" BlockXSize="512" BlockYSize="512" />
      <SrcRect xOff="0" yOff="0" xSize="72204" ySize="40510" />
      <DstRect xOff="3032021.0372388" yOff="152672.996569372" xSize="69605.5151111857" ySize="39052.122003686" />
      <NODATA>255</NODATA>
    </ComplexSource>
    <ComplexSource>
      <SourceFilename relativeToVRT="0">./BulkDownload/Extent_Rasters/DC/DC_connectRaster_6_5.tif</SourceFilename>
      <SourceBand>1</SourceBand>
      <SourceProperties RasterXSize="7879" RasterYSize="7583" DataType="Byte" BlockXSize="512" BlockYSize="512" />
      <SrcRect xOff="0" yOff="0" xSize="7879" ySize="7583" />
      <DstRect xOff="2910480.25609219" yOff="261736.710260244" xSize="7609.41479313944" ySize="7323.54262931546" />
      <NODATA>255</NODATA>
    </ComplexSource>
    <ComplexSource>
      <SourceFilename relativeToVRT="0">./BulkDownload/Extent_Rasters/DE/DE_connectRaster_6_5.tif</SourceFilename>
      <SourceBand>1</SourceBand>
      <SourceProperties RasterXSize="29940" RasterYSize="51766" DataType="Byte" BlockXSize="512" BlockYSize="512" />
      <SrcRect xOff="0" yOff="0" xSize="29940" ySize="51766" />
      <DstRect xOff="2958162.78581826" yOff="231319.6018666" xSize="28915.5830570623" ySize="49994.792001733" />
      <NODATA>255</NODATA>
    </ComplexSource>
    <ComplexSource>
      <SourceFilename relativeToVRT="0">./BulkDownload/Extent_Rasters/FL/FL_East_1_connectRaster_6_5.tif</SourceFilename>
      <SourceBand>1</SourceBand>
      <SourceProperties RasterXSize="60781" RasterYSize="68152" DataType="Byte" BlockXSize="512" BlockYSize="512" />
      <SrcRect xOff="0" yOff="0" xSize="60781" ySize="68152" />
      <DstRect xOff="2747806.39335865" yOff="627420.386189639" xSize="58701.3378019801" ySize="65820.1341517999" />
      <NODATA>255</NODATA>
    </ComplexSource>
    <ComplexSource>
      <SourceFilename relativeToVRT="0">./BulkDownload/Extent_Rasters/FL/FL_East_2_connectRaster_6_5.tif</SourceFilename>
      <SourceBand>1</SourceBand>
      <SourceProperties RasterXSize="69568" RasterYSize="55521" DataType="Byte" BlockXSize="512" BlockYSize="512" />
      <SrcRect xOff="0" yOff="0" xSize="69568" ySize="55521" />
      <DstRect xOff="2716359.85964453" yOff="589855.273959794" xSize="67187.6847733364" ySize="53621.3121880809" />
      <NODATA>0</NODATA>
    </ComplexSource>
    <ComplexSource>
      <SourceFilename relativeToVRT="0">./BulkDownload/Extent_Rasters/FL/FL_Keys_connectRaster_6_5.tif</SourceFilename>
      <SourceBand>1</SourceBand>
      <SourceProperties RasterXSize="106365" RasterYSize="35616" DataType="Byte" BlockXSize="512" BlockYSize="512" />
      <SrcRect xOff="0" yOff="0" xSize="106365" ySize="35616" />
      <DstRect xOff="2699212.03332653" yOff="750594.120683352" xSize="102725.651030875" ySize="34397.3749552545" />
      <NODATA>0</NODATA>
    </ComplexSource>
    <ComplexSource>
      <SourceFilename relativeToVRT="0">./BulkDownload/Extent_Rasters/FL/FL_NE_connectRaster_6_5.tif</SourceFilename>
      <SourceBand>1</SourceBand>
      <SourceProperties RasterXSize="33461" RasterYSize="44868" DataType="Byte" BlockXSize="512" BlockYSize="512" />
      <SrcRect xOff="0" yOff="0" xSize="33461" ySize="44868" />
      <DstRect xOff="2733766.46905755" yOff="554371.042527907" xSize="32316.1097084958" ySize="43332.8116434293" />
      <NODATA>0</NODATA>
    </ComplexSource>
    <ComplexSource>
      <SourceFilename relativeToVRT="0">./BulkDownload/Extent_Rasters/FL/FL_SE_connectRaster_6_5.tif</SourceFilename>
      <SourceBand>1</SourceBand>
      <SourceProperties RasterXSize="33913" RasterYSize="69200" DataType="Byte" BlockXSize="512" BlockYSize="512" />
      <SrcRect xOff="0" yOff="0" xSize="33913" ySize="69200" />
      <DstRect xOff="2775491.00242996" yOff="692656.445689567" xSize="32752.6442289293" ySize="66832.2761372307" />
      <NODATA>255</NODATA>
    </ComplexSource>
    <ComplexSource>
      <SourceFilename relativeToVRT="0">./BulkDownload/Extent_Rasters/FL/FL_SW_connectRaster_6_5.tif</SourceFilename>
      <SourceBand>1</SourceBand>
      <SourceProperties RasterXSize="54882" RasterYSize="68442" DataType="Byte" BlockXSize="512" BlockYSize="512" />
      <SrcRect xOff="0" yOff="0" xSize="54882" ySize="68442" />
      <DstRect xOff="2723570.32055172" yOff="693454.994279885" xSize="53004.1759965827" ySize="66100.2116096008" />
      <NODATA>255</NODATA>
    </ComplexSource>
    <ComplexSource>
      <SourceFilename relativeToVRT="0">./BulkDownload/Extent_Rasters/FL/FL_West_1_connectRaster_6_5.tif</SourceFilename>
      <SourceBand>1</SourceBand>
      <SourceProperties RasterXSize="51478" RasterYSize="64406" DataType="Byte" BlockXSize="512" BlockYSize="512" />
      <SrcRect xOff="0" yOff="0" xSize="51478" ySize="64406" />
      <DstRect xOff="2701931.05338776" yOff="638192.478331595" xSize="49716.0560146735" ySize="62201.5677314787" />
      <NODATA>0</NODATA>
    </ComplexSource>
    <ComplexSource>
      <SourceFilename relativeToVRT="0">./BulkDownload/Extent_Rasters/FL/FL_West_2_connectRaster_6_5.tif</SourceFilename>
      <SourceBand>1</SourceBand>
      <SourceProperties RasterXSize="59490" RasterYSize="43037" DataType="Byte" BlockXSize="512" BlockYSize="512" />
      <SrcRect xOff="0" yOff="0" xSize="59490" ySize="43037" />
      <DstRect xOff="2691143.43883749" yOff="598753.807750443" xSize="57454.5102225993" ySize="41564.4605219366" />
      <NODATA>0</NODATA>
    </ComplexSource>
    <ComplexSource>
      <SourceFilename relativeToVRT="0">./BulkDownload/Extent_Rasters/FL/FL_West_3_connectRaster_6_5.tif</SourceFilename>
      <SourceBand>1</SourceBand>
      <SourceProperties RasterXSize="49932" RasterYSize="39148" DataType="Byte" BlockXSize="512" BlockYSize="512" />
      <SrcRect xOff="0" yOff="0" xSize="49932" ySize="39148" />
      <DstRect xOff="2663906.26321444" yOff="573205.742881986" xSize="48223.5435272289" ySize="37808.525234398" />
      <NODATA>0</NODATA>
    </ComplexSource>
    <ComplexSource>
      <SourceFilename relativeToVRT="0">./BulkDownload/Extent_Rasters/HI/HI_Hawaii_connectRaster_6_5.tif</SourceFilename>
      <SourceBand>1</SourceBand>
      <SourceProperties RasterXSize="51527" RasterYSize="54138" DataType="Byte" BlockXSize="512" BlockYSize="512" />
      <SrcRect xOff="0" yOff="0" xSize="51527" ySize="54138" />
      <DstRect xOff="78097.9552722144" yOff="929907.992266612" xSize="52402.8126306537" ySize="55058.1922137584" />
      <NODATA>255</NODATA>
    </ComplexSource>
    <ComplexSource>
      <SourceFilename relativeToVRT="0">./BulkDownload/Extent_Rasters/HI/HI_Lanai_connectRaster_6_5.tif</SourceFilename>
      <SourceBand>1</SourceBand>
      <SourceProperties RasterXSize="13322" RasterYSize="10992" DataType="Byte" BlockXSize="512" BlockYSize="512" />
      <SrcRect xOff="0" yOff="0" xSize="13322" ySize="10992" />
      <DstRect xOff="43474.8651857098" yOff="907189.181907901" xSize="13511.1685534546" ySize="11148.0832262103" />
      <NODATA>255</NODATA>
    </ComplexSource>
    <ComplexSource>
      <SourceFilename relativeToVRT="0">./BulkDownload/Extent_Rasters/HI/HI_Oahu_connectRaster_6_5.tif</SourceFilename>
      <SourceBand>1</SourceBand>
      <SourceProperties RasterXSize="27300" RasterYSize="20607" DataType="Byte" BlockXSize="512" BlockYSize="512" />
      <SrcRect xOff="0" yOff="0" xSize="27300" ySize="20607" />
      <DstRect xOff="0" yOff="879324.564522627" xSize="26513.0501768364" ySize="20012.9826005153" />
      <NODATA>255</NODATA>
    </ComplexSource>
    <ComplexSource>
      <SourceFilename relativeToVRT="0">./BulkDownload/Extent_Rasters/LA/LA_CentralEast_connectRaster_6_5.tif</SourceFilename>
      <SourceBand>1</SourceBand>
      <SourceProperties RasterXSize="63242" RasterYSize="62075" DataType="Byte" BlockXSize="512" BlockYSize="512" />
      <SrcRect xOff="0" yOff="0" xSize="63242" ySize="62075" />
      <DstRect xOff="2387914.39108947" yOff="560551.90286618" xSize="61078.1330559359" ySize="59951.062734373" />
      <NODATA>255</NODATA>
    </ComplexSource>
    <ComplexSource>
      <SourceFilename relativeToVRT="0">./BulkDownload/Extent_Rasters/LA/LA_CentralNorth_connectRaster_6_5.tif</SourceFilename>
      <SourceBand>1</SourceBand>
      <SourceProperties RasterXSize="49220" RasterYSize="26515" DataType="Byte" BlockXSize="512" BlockYSize="512" />
      <SrcRect xOff="0" yOff="0" xSize="49220" ySize="26515" />
      <DstRect xOff="2354492.03830838" yOff="547853.908277522" xSize="47535.9050791116" ySize="25607.7717020042" />
      <NODATA>255</NODATA>
    </ComplexSource>
    <ComplexSource>
      <SourceFilename relativeToVRT="0">./BulkDownload/Extent_Rasters/LA/LA_Central_connectRaster_6_5.tif</SourceFilename>
      <SourceBand>1</SourceBand>
      <SourceProperties RasterXSize="61525" RasterYSize="46752" DataType="Byte" BlockXSize="512" BlockYSize="512" />
      <SrcRect xOff="0" yOff="0" xSize="61525" ySize="46752" />
      <DstRect xOff="2350737.96380191" yOff="566270.416658543" xSize="59419.8813488895" ySize="45152.3493347954" />
      <NODATA>255</NODATA>
    </ComplexSource>
    <ComplexSource>
      <SourceFilename relativeToVRT="0">./BulkDownload/Extent_Rasters/LA/LA_Delta_connectRaster_6_5.tif</SourceFilename>
      <SourceBand>1</SourceBand>
      <SourceProperties RasterXSize="71705" RasterYSize="50422" DataType="Byte" BlockXSize="512" BlockYSize="512" />
      <SrcRect xOff="0" yOff="0" xSize="71705" ySize="50422" />
      <DstRect xOff="2424199.00960488" yOff="576504.699657276" xSize="69251.5659020251" ySize="48696.7778524776" />
      <NODATA>255</NODATA>
    </ComplexSource>
    <ComplexSource>
      <SourceFilename relativeToVRT="0">./BulkDownload/Extent_Rasters/LA/LA_LP_connectRaster_6_5.tif</SourceFilename>
      <SourceBand>1</SourceBand>
      <SourceProperties RasterXSize="80111" RasterYSize="40487" DataType="Byte" BlockXSize="512" BlockYSize="512" />
      <SrcRect xOff="0" yOff="0" xSize="80111" ySize="40487" />
      <DstRect xOff="2389331.3878742" yOff="548291.825568011" xSize="77369.9490408918" ySize="39101.7104619664" />
      <NODATA>255</NODATA>
    </ComplexSource>
    <ComplexSource>
      <SourceFilename relativeToVRT="0">./BulkDownload/Extent_Rasters/LA/LA_West_connectRaster_6_5.tif</SourceFilename>
      <SourceBand>1</SourceBand>
      <SourceProperties RasterXSize="50040" RasterYSize="45013" DataType="Byte" BlockXSize="512" BlockYSize="512" />
      <SrcRect xOff="0" yOff="0" xSize="50040" ySize="45013" />
      <DstRect xOff="2308070.48511158" yOff="557599.137942008" xSize="48327.8482356507" ySize="43472.8503723291" />
      <NODATA>255</NODATA>
    </ComplexSource>
    <ComplexSource>
      <SourceFilename relativeToVRT="0">./BulkDownload/Extent_Rasters/MD/MD_East_connectRaster_6_5.tif</SourceFilename>
      <SourceBand>1</SourceBand>
      <SourceProperties RasterXSize="28460" RasterYSize="44790" DataType="Byte" BlockXSize="512" BlockYSize="512" />
      <SrcRect xOff="0" yOff="0" xSize="28460" ySize="44790" />
      <DstRect xOff="2933925.61254053" yOff="252158.759358776" xSize="27486.2222379396" ySize="43257.48046512" />
      <NODATA>255</NODATA>
    </ComplexSource>
    <ComplexSource>
      <SourceFilename relativeToVRT="0">./BulkDownload/Extent_Rasters/MD/MD_North_connectRaster_6_5.tif</SourceFilename>
      <SourceBand>1</SourceBand>
      <SourceProperties RasterXSize="30270" RasterYSize="27139" DataType="Byte" BlockXSize="512" BlockYSize="512" />
      <SrcRect xOff="0" yOff="0" xSize="30270" ySize="27139" />
      <DstRect xOff="2930187.36200301" yOff="235698.724892591" xSize="29234.2918883525" ySize="26210.4211284439" />
      <NODATA>255</NODATA>
    </ComplexSource>
    <ComplexSource>
      <SourceFilename relativeToVRT="0">./BulkDownload/Extent_Rasters/MD/MD_Southeast_connectRaster_6_5.tif</SourceFilename>
      <SourceBand>1</SourceBand>
      <SourceProperties RasterXSize="46474" RasterYSize="25088" DataType="Byte" BlockXSize="512" BlockYSize="512" />
      <SrcRect xOff="0" yOff="0" xSize="46474" ySize="25088" />
      <DstRect xOff="2942119.61233685" yOff="277311.599017586" xSize="44883.8612890416" ySize="24229.5974527579" />
      <NODATA>255</NODATA>
    </ComplexSource>
    <ComplexSource>
      <SourceFilename relativeToVRT="0">./BulkDownload/Extent_Rasters/MD/MD_Southwest_connectRaster_6_5.tif</SourceFilename>
      <SourceBand>1</SourceBand>
      <SourceProperties RasterXSize="41701" RasterYSize="30425" DataType="Byte" BlockXSize="512" BlockYSize="512" />
      <SrcRect xOff="0" yOff="0" xSize="41701" ySize="30425" />
      <DstRect xOff="2903180.83387865" yOff="272089.946034074" xSize="40274.1726473796" ySize="29383.9884606251" />
      <NODATA>255</NODATA>
    </ComplexSource>
    <ComplexSource>
      <SourceFilename relativeToVRT="0">./BulkDownload/Extent_Rasters/MD/MD_West_connectRaster_6_5.tif</SourceFilename>
      <SourceBand>1</SourceBand>
      <SourceProperties RasterXSize="33461" RasterYSize="52619" DataType="Byte" BlockXSize="512" BlockYSize="512" />
      <SrcRect xOff="0" yOff="0" xSize="33461" ySize="52619" />
      <DstRect xOff="2908050.36391313" yOff="235726.756803802" xSize="32316.1097084958" ySize="50818.6060414017" />
      <NODATA>255</NODATA>
    </ComplexSource>
    <ComplexSource>
      <SourceFilename relativeToVRT="0">./BulkDownload/Extent_Rasters/MS/MS_connectRaster_6_5.tif</SourceFilename>
      <SourceBand>1</SourceBand>
      <SourceProperties RasterXSize="48533" RasterYSize="21958" DataType="Byte" BlockXSize="512" BlockYSize="512" />
      <SrcRect xOff="0" yOff="0" xSize="48533" ySize="21958" />
      <DstRect xOff="2459979.94724979" yOff="557730.135892066" xSize="46872.4112394253" ySize="21206.6924771866" />
      <NODATA>255</NODATA>
    </ComplexSource>
    <ComplexSource>
      <SourceFilename relativeToVRT="0">./BulkDownload/Extent_Rasters/NC/NC_Middle1_connectRaster_6_5.tif</SourceFilename>
      <SourceBand>1</SourceBand>
      <SourceProperties RasterXSize="62648" RasterYSize="44623" DataType="Byte" BlockXSize="512" BlockYSize="512" />
      <SrcRect xOff="0" yOff="0" xSize="62648" ySize="44623" />
      <DstRect xOff="2896010.75383672" yOff="349475.752977821" xSize="60393.4174101929" ySize="43017.1029417546" />
      <NODATA>255</NODATA>
    </ComplexSource>
    <ComplexSource>
      <SourceFilename relativeToVRT="0">./BulkDownload/Extent_Rasters/NC/NC_Middle2_connectRaster_6_5.tif</SourceFilename>
      <SourceBand>1</SourceBand>
      <SourceProperties RasterXSize="44853" RasterYSize="46125" DataType="Byte" BlockXSize="512" BlockYSize="512" />
      <SrcRect xOff="0" yOff="0" xSize="44853" ySize="46125" />
      <DstRect xOff="2928933.01435077" yOff="360307.143419481" xSize="43238.8256783837" ySize="44465.048813133" />
      <NODATA>255</NODATA>
    </ComplexSource>
    <ComplexSource>
      <SourceFilename relativeToVRT="0">./BulkDownload/Extent_Rasters/NC/NC_Northern_connectRaster_6_5.tif</SourceFilename>
      <SourceBand>1</SourceBand>
      <SourceProperties RasterXSize="46235" RasterYSize="21539" DataType="Byte" BlockXSize="512" BlockYSize="512" />
      <SrcRect xOff="0" yOff="0" xSize="46235" ySize="21539" />
      <DstRect xOff="2916529.1571062" yOff="349301.267051624" xSize="44571.0901219555" ySize="20763.8522793728" />
      <NODATA>255</NODATA>
    </ComplexSource>
    <ComplexSource>
      <SourceFilename relativeToVRT="0">./BulkDownload/Extent_Rasters/NC/NC_Southern1_connectRaster_6_5.tif</SourceFilename>
      <SourceBand>1</SourceBand>
      <SourceProperties RasterXSize="43433" RasterYSize="36476" DataType="Byte" BlockXSize="512" BlockYSize="512" />
      <SrcRect xOff="0" yOff="0" xSize="43433" ySize="36476" />
      <DstRect xOff="2855601.78009566" yOff="414517.802983773" xSize="41869.9287826733" ySize="35163.29800559" />
      <NODATA>255</NODATA>
    </ComplexSource>
    <ComplexSource>
      <SourceFilename relativeToVRT="0">./BulkDownload/Extent_Rasters/NC/NC_Southern2_connectRaster_6_5.tif</SourceFilename>
      <SourceBand>1</SourceBand>
      <SourceProperties RasterXSize="64168" RasterYSize="50670" DataType="Byte" BlockXSize="512" BlockYSize="512" />
      <SrcRect xOff="0" yOff="0" xSize="64168" ySize="50670" />
      <DstRect xOff="2888580.41396258" yOff="377653.961887839" xSize="61858.7154957426" ySize="48846.4828913052" />
      <NODATA>255</NODATA>
    </ComplexSource>
    <ComplexSource>
      <SourceFilename relativeToVRT="0">./BulkDownload/Extent_Rasters/NJ/NJ_Middle_connectRaster_6_5.tif</SourceFilename>
      <SourceBand>1</SourceBand>
      <SourceProperties RasterXSize="43704" RasterYSize="39040" DataType="Byte" BlockXSize="512" BlockYSize="512" />
      <SrcRect xOff="0" yOff="0" xSize="43704" ySize="39040" />
      <DstRect xOff="2984260.45606955" yOff="206906.630547055" xSize="42208.6386748777" ySize="37704.2205259752" />
      <NODATA>255</NODATA>
    </ComplexSource>
    <ComplexSource>
      <SourceFilename relativeToVRT="0">./BulkDownload/Extent_Rasters/NJ/NJ_Northern_connectRaster_6_5.tif</SourceFilename>
      <SourceBand>1</SourceBand>
      <SourceProperties RasterXSize="33615" RasterYSize="35384" DataType="Byte" BlockXSize="512" BlockYSize="512" />
      <SrcRect xOff="0" yOff="0" xSize="33615" ySize="35384" />
      <DstRect xOff="2993685.55278346" yOff="182631.197209224" xSize="32464.8404964311" ySize="34173.3129890143" />
      <NODATA>255</NODATA>
    </ComplexSource>
    <ComplexSource>
      <SourceFilename relativeToVRT="0">./BulkDownload/Extent_Rasters/NJ/NJ_Southern_connectRaster_6_5.tif</SourceFilename>
      <SourceBand>1</SourceBand>
      <SourceProperties RasterXSize="49776" RasterYSize="44875" DataType="Byte" BlockXSize="512" BlockYSize="512" />
      <SrcRect xOff="0" yOff="0" xSize="49776" ySize="44875" />
      <DstRect xOff="2965960.34552508" yOff="225874.846571844" xSize="48072.8811706186" ySize="43339.5721337896" />
      <NODATA>255</NODATA>
    </ComplexSource>
    <ComplexSource>
      <SourceFilename relativeToVRT="0">./BulkDownload/Extent_Rasters/NY/NY_HU_connectRaster_6_5.tif</SourceFilename>
      <SourceBand>1</SourceBand>
      <SourceProperties RasterXSize="18540" RasterYSize="56496" DataType="Byte" BlockXSize="512" BlockYSize="512" />
      <SrcRect xOff="0" yOff="0" xSize="18540" ySize="56496" />
      <DstRect xOff="3017958.21481179" yOff="125530.895108003" xSize="17905.6416124893" ySize="54562.9519168928" />
      <NODATA>255</NODATA>
    </ComplexSource>
    <ComplexSource>
      <SourceFilename relativeToVRT="0">./BulkDownload/Extent_Rasters/NY/NY_M_connectRaster_6_5.tif</SourceFilename>
      <SourceBand>1</SourceBand>
      <SourceProperties RasterXSize="31106" RasterYSize="31916" DataType="Byte" BlockXSize="512" BlockYSize="512" />
      <SrcRect xOff="0" yOff="0" xSize="31106" ySize="31916" />
      <DstRect xOff="3012980.86912434" yOff="177872.198943711" xSize="30041.6875942879" ySize="30823.972907455" />
      <NODATA>255</NODATA>
    </ComplexSource>
    <ComplexSource>
      <SourceFilename relativeToVRT="0">./BulkDownload/Extent_Rasters/NY/NY_SK_connectRaster_6_5.tif</SourceFilename>
      <SourceBand>1</SourceBand>
      <SourceProperties RasterXSize="64001" RasterYSize="28866" DataType="Byte" BlockXSize="512" BlockYSize="512" />
      <SrcRect xOff="0" yOff="0" xSize="64001" ySize="28866" />
      <DstRect xOff="3040187.42667945" yOff="178778.932653083" xSize="61811.1633679037" ySize="27878.3306788629" />
      <NODATA>255</NODATA>
    </ComplexSource>
    <ComplexSource>
      <SourceFilename relativeToVRT="0">./BulkDownload/Extent_Rasters/OR/OR_MFR_connectRaster_6_5.tif</SourceFilename>
      <SourceBand>1</SourceBand>
      <SourceProperties RasterXSize="17361" RasterYSize="41490" DataType="Byte" BlockXSize="512" BlockYSize="512" />
      <SrcRect xOff="0" yOff="0" xSize="17361" ySize="41490" />
      <DstRect xOff="1205208.54547824" yOff="87282.5724930042" xSize="27997.3782734537" ySize="66909.2347540808" />
      <NODATA>255</NODATA>
    </ComplexSource>
    <ComplexSource>
      <SourceFilename relativeToVRT="0">./BulkDownload/Extent_Rasters/OR/OR_PQR1_connectRaster_6_5.tif</SourceFilename>
      <SourceBand>1</SourceBand>
      <SourceProperties RasterXSize="13815" RasterYSize="42822" DataType="Byte" BlockXSize="512" BlockYSize="512" />
      <SrcRect xOff="0" yOff="0" xSize="13815" ySize="42822" />
      <DstRect xOff="1222168.14626768" yOff="18476.2797221084" xSize="22237.1843650252" ySize="68928.0281490488" />
      <NODATA>255</NODATA>
    </ComplexSource>
    <ComplexSource>
      <SourceFilename relativeToVRT="0">./BulkDownload/Extent_Rasters/OR/OR_PQR2_connectRaster_6_5.tif</SourceFilename>
      <SourceBand>1</SourceBand>
      <SourceProperties RasterXSize="49330" RasterYSize="18938" DataType="Byte" BlockXSize="512" BlockYSize="512" />
      <SrcRect xOff="0" yOff="0" xSize="49330" ySize="18938" />
      <DstRect xOff="1224701.10192138" yOff="0" xSize="79552.483741114" ySize="30540.5420046467" />
      <NODATA>255</NODATA>
    </ComplexSource>
    <ComplexSource>
      <SourceFilename relativeToVRT="0">./BulkDownload/Extent_Rasters/PA/PA_connectRaster_6_5.tif</SourceFilename>
      <SourceBand>1</SourceBand>
      <SourceProperties RasterXSize="32742" RasterYSize="20105" DataType="Byte" BlockXSize="512" BlockYSize="512" />
      <SrcRect xOff="0" yOff="0" xSize="32742" ySize="20105" />
      <DstRect xOff="2964871.71377379" yOff="213489.603581779" xSize="31621.7107700178" ySize="19417.0941002752" />
      <NODATA>255</NODATA>
    </ComplexSource>
    <ComplexSource>
      <SourceFilename relativeToVRT="0">./BulkDownload/Extent_Rasters/PR/PR_connectRaster_6_5.tif</SourceFilename>
      <SourceBand>1</SourceBand>
      <SourceProperties RasterXSize="105419" RasterYSize="27559" DataType="Byte" BlockXSize="512" BlockYSize="512" />
      <SrcRect xOff="0" yOff="0" xSize="105419" ySize="27559" />
      <DstRect xOff="3237037.80168687" yOff="993756.525654864" xSize="101812.019047841" ySize="26616.0505500854" />
      <NODATA>255</NODATA>
    </ComplexSource>
    <ComplexSource>
