<VRTDataset rasterXSize="781633" rasterYSize="362227" subClass="VRTWarpedDataset">
  <SRS dataAxisToSRSAxisMapping="2,1">GEOGCS["NAD83(2011)",DATUM["NAD83_National_Spatial_Reference_System_2011",SPHEROID["GRS 1980",6378137,298.257222101,AUTHORITY["EPSG","7019"]],AUTHORITY["EPSG","1116"]],PRIMEM["Greenwich",0,AUTHORITY["EPSG","8901"]],UNIT["degree",0.0174532925199433,AUTHORITY["EPSG","9122"]],AXIS["Latitude",NORTH],AXIS["Longitude",EAST],AUTHORITY["EPSG","6318"]]</SRS>
  <GeoTransform> -1.7186248258519666e+02,  2.6900000008167444e-05,  0.0000000000000000e+00,  6.3862549397615403e+01,  0.0000000000000000e+00, -2.6900000008167329e-05</GeoTransform>
  <VRTRasterBand dataType="Byte" band="1" subClass="VRTWarpedRasterBand">
    <NoDataValue>255</NoDataValue>
    <ColorInterp>Gray</ColorInterp>
  </VRTRasterBand>
  <BlockXSize>512</BlockXSize>
  <BlockYSize>128</BlockYSize>
  <GDALWarpOptions>
    <WarpMemoryLimit>6.71089e+07</WarpMemoryLimit>
    <ResampleAlg>NearestNeighbour</ResampleAlg>
    <WorkingDataType>Byte</WorkingDataType>
    <Option name="INIT_DEST">NO_DATA</Option>
    <Option name="APPLY_VERTICAL_SHIFT">YES</Option>
    <Option name="MULT_FACTOR_VERTICAL_SHIFT">1</Option>
    <Option name="MULT_FACTOR_VERTICAL_SHIFT_PIPELINE">1</Option>
    <Option name="ERROR_OUT_IF_EMPTY_SOURCE_WINDOW">FALSE</Option>
    <SourceDataset relativeToVRT="1">SLR_Extent_7_0_6318_1_init.vrt</SourceDataset>
    <Transformer>
      <GenImgProjTransformer>
        <SrcGeoTransform>-171.86248258519666,2.6900000008167444e-05,0,63.862549397615403,0,-2.6900000008167329e-05</SrcGeoTransform>
        <SrcInvGeoTransform>6388939.8711158121,37174.721178303997,0,2374072.4675920289,0,-37174.721178304157</SrcInvGeoTransform>
        <DstGeoTransform>-171.86248258519666,2.6900000008167444e-05,0,63.862549397615403,0,-2.6900000008167329e-05</DstGeoTransform>
        <DstInvGeoTransform>6388939.8711158121,37174.721178303997,0,2374072.4675920289,0,-37174.721178304157</DstInvGeoTransform>
        <ReprojectTransformer>
          <ReprojectionTransformer>
            <SourceSRS>COMPD_CS["NAD83(2011) + unknown",GEOGCS["NAD83(2011)",DATUM["NAD83_National_Spatial_Reference_System_2011",SPHEROID["GRS 1980",6378137,298.257222101,AUTHORITY["EPSG","7019"]],AUTHORITY["EPSG","1116"]],PRIMEM["Greenwich",0,AUTHORITY["EPSG","8901"]],UNIT["degree",0.0174532925199433,AUTHORITY["EPSG","9122"]],AXIS["Latitude",NORTH],AXIS["Longitude",EAST],AUTHORITY["EPSG","6318"]],VERT_CS["unknown",VERT_DATUM["unknown",2005],UNIT["metre",1,AUTHORITY["EPSG","9001"]],AXIS["Up",UP]]]</SourceSRS>
            <TargetSRS>GEOGCRS["NAD83(2011)",DATUM["NAD83 (National Spatial Reference System 2011)",ELLIPSOID["GRS 1980",6378137,298.257222101,LENGTHUNIT["metre",1]],ANCHOREPOCH[2010]],PRIMEM["Greenwich",0,ANGLEUNIT["degree",0.0174532925199433]],CS[ellipsoidal,3],AXIS["geodetic latitude (Lat)",north,ORDER[1],ANGLEUNIT["degree",0.0174532925199433]],AXIS["geodetic longitude (Lon)",east,ORDER[2],ANGLEUNIT["degree",0.0174532925199433]],AXIS["ellipsoidal height (h)",up,ORDER[3],LENGTHUNIT["metre",1]],USAGE[SCOPE["Geodesy."],AREA["Puerto Rico - onshore and offshore. United States (USA) onshore and offshore - Alabama; Alaska; Arizona; Arkansas; California; Colorado; Connecticut; Delaware; Florida; Georgia; Idaho; Illinois; Indiana; Iowa; Kansas; Kentucky; Louisiana; Maine; Maryland; Massachusetts; Michigan; Minnesota; Mississippi; Missouri; Montana; Nebraska; Nevada; New Hampshire; New Jersey; New Mexico; New York; North Carolina; North Dakota; Ohio; Oklahoma; Oregon; Pennsylvania; Rhode Island; South Carolina; South Dakota; Tennessee; Texas; Utah; Vermont; Virginia; Washington; West Virginia; Wisconsin; Wyoming. US Virgin Islands - onshore and offshore."],BBOX[14.92,167.65,74.71,-63.88]],ID["EPSG",6319]]</TargetSRS>
            <Options>
              <Option key="CENTER_LONG">-161.35</Option>
              <Option key="AREA_OF_INTEREST">-171.8624825851967,54.11864309465697,-150.8365548788127,63.8625493976154</Option>
            </Options>
          </ReprojectionTransformer>
        </ReprojectTransformer>
      </GenImgProjTransformer>
    </Transformer>
    <BandList>
      <BandMapping src="1" dst="1">
        <SrcNoDataReal>255</SrcNoDataReal>
        <SrcNoDataImag>0</SrcNoDataImag>
        <DstNoDataReal>255</DstNoDataReal>
        <DstNoDataImag>0</DstNoDataImag>
      </BandMapping>
    </BandList>
  </GDALWarpOptions>
</VRTDataset>
