<VRTDataset rasterXSize="3367661" rasterYSize="1013113">
  <SRS dataAxisToSRSAxisMapping="2,1">GEOGCS["NAD83",DATUM["North_American_Datum_1983",SPHEROID["GRS 1980",6378137,298.257222101004,AUTHORITY["EPSG","7019"]],AUTHORITY["EPSG","6269"]],PRIMEM["Greenwich",0],UNIT["degree",0.0174532925199433,AUTHORITY["EPSG","9122"]],AXIS["Latitude",NORTH],AXIS["Longitude",EAST],AUTHORITY["EPSG","4269"]]</SRS>
  <GeoTransform> -1.5984628882270721e+02,  2.8308898398081250e-05,  0.0000000000000000e+00,  4.6300018940354583e+01,  0.0000000000000000e+00, -2.8308898398081247e-05</GeoTransform>
  <VRTRasterBand dataType="Byte" band="1">
    <NoDataValue>0</NoDataValue>
    <ColorInterp>Gray</ColorInterp>
    <ComplexSource>
      <SourceFilename relativeToVRT="0">./BulkDownload/Extent_Rasters/AL/AL_connectRaster_7.tif</SourceFilename>
      <SourceBand>1</SourceBand>
      <SourceProperties RasterXSize="57910" RasterYSize="68600" DataType="Byte" BlockXSize="512" BlockYSize="512" />
      <SrcRect xOff="0" yOff="0" xSize="57910" ySize="68600" />
      <DstRect xOff="2521497.26831908" yOff="505415.675369861" xSize="55129.0665272452" ySize="65305.7151402008" />
      <NODATA>0</NODATA>
    </ComplexSource>
    <ComplexSource>
      <SourceFilename relativeToVRT="0">./BulkDownload/Extent_Rasters/DC/DC_connectRaster_7.tif</SourceFilename>
      <SourceBand>1</SourceBand>
      <SourceProperties RasterXSize="7879" RasterYSize="7583" DataType="Byte" BlockXSize="512" BlockYSize="512" />
      <SrcRect xOff="0" yOff="0" xSize="7879" ySize="7583" />
      <DstRect xOff="2922255.08321486" yOff="257996.747758206" xSize="7500.63745757503" ySize="7218.85186455028" />
      <NODATA>0</NODATA>
    </ComplexSource>
    <ComplexSource>
      <SourceFilename relativeToVRT="0">./BulkDownload/Extent_Rasters/DE/DE_connectRaster_7.tif</SourceFilename>
      <SourceBand>1</SourceBand>
      <SourceProperties RasterXSize="29940" RasterYSize="51766" DataType="Byte" BlockXSize="512" BlockYSize="512" />
      <SrcRect xOff="0" yOff="0" xSize="29940" ySize="51766" />
      <DstRect xOff="2969255.98647193" yOff="228014.454931407" xSize="28502.231943114" ySize="49280.1115152719" />
      <NODATA>0</NODATA>
    </ComplexSource>
    <ComplexSource>
      <SourceFilename relativeToVRT="0">./BulkDownload/Extent_Rasters/HI/HI_Hawaii_connectRaster_7.tif</SourceFilename>
      <SourceBand>1</SourceBand>
      <SourceProperties RasterXSize="51527" RasterYSize="54138" DataType="Byte" BlockXSize="512" BlockYSize="512" />
      <SrcRect xOff="0" yOff="0" xSize="51527" ySize="54138" />
      <DstRect xOff="130361.96695882" yOff="916616.45533564" xSize="51653.7092516156" ySize="54271.1299214773" />
      <NODATA>0</NODATA>
    </ComplexSource>
    <ComplexSource>
      <SourceFilename relativeToVRT="0">./BulkDownload/Extent_Rasters/HI/HI_Kauai_connectRaster_7.tif</SourceFilename>
      <SourceBand>1</SourceBand>
      <SourceProperties RasterXSize="21620" RasterYSize="16703" DataType="Byte" BlockXSize="512" BlockYSize="512" />
      <SrcRect xOff="0" yOff="0" xSize="21620" ySize="16703" />
      <DstRect xOff="0" yOff="848319.262537435" xSize="21515.0593470423" ySize="16621.9258220929" />
      <NODATA>0</NODATA>
    </ComplexSource>
    <ComplexSource>
      <SourceFilename relativeToVRT="0">./BulkDownload/Extent_Rasters/HI/HI_Lanai_connectRaster_7.tif</SourceFilename>
      <SourceBand>1</SourceBand>
      <SourceProperties RasterXSize="13322" RasterYSize="10992" DataType="Byte" BlockXSize="512" BlockYSize="512" />
      <SrcRect xOff="0" yOff="0" xSize="13322" ySize="10992" />
      <DstRect xOff="96233.8173626163" yOff="894222.412613494" xSize="13318.0250653468" ySize="10988.7202761065" />
      <NODATA>0</NODATA>
    </ComplexSource>
    <ComplexSource>
      <SourceFilename relativeToVRT="0">./BulkDownload/Extent_Rasters/HI/HI_Maui_connectRaster_7.tif</SourceFilename>
      <SourceBand>1</SourceBand>
      <SourceProperties RasterXSize="30175" RasterYSize="20866" DataType="Byte" BlockXSize="512" BlockYSize="512" />
      <SrcRect xOff="0" yOff="0" xSize="30175" ySize="20866" />
      <DstRect xOff="108850.931251039" yOff="890293.677098994" xSize="30280.8002622928" ySize="20939.1608375477" />
      <NODATA>0</NODATA>
    </ComplexSource>
    <ComplexSource>
      <SourceFilename relativeToVRT="0">./BulkDownload/Extent_Rasters/HI/HI_Molokai_connectRaster_7.tif</SourceFilename>
      <SourceBand>1</SourceBand>
      <SourceProperties RasterXSize="25259" RasterYSize="10521" DataType="Byte" BlockXSize="512" BlockYSize="512" />
      <SrcRect xOff="0" yOff="0" xSize="25259" ySize="10521" />
      <DstRect xOff="87523.4442692355" yOff="883683.647864879" xSize="25381.0572691906" ySize="10571.8398800093" />
      <NODATA>0</NODATA>
    </ComplexSource>
    <ComplexSource>
      <SourceFilename relativeToVRT="0">./BulkDownload/Extent_Rasters/HI/HI_Oahu_connectRaster_7.tif</SourceFilename>
      <SourceBand>1</SourceBand>
      <SourceProperties RasterXSize="27300" RasterYSize="20607" DataType="Byte" BlockXSize="512" BlockYSize="512" />
      <SrcRect xOff="0" yOff="0" xSize="27300" ySize="20607" />
      <DstRect xOff="53380.4296659753" yOff="866756.122684154" xSize="26134.0435075559" ySize="19726.8950388353" />
      <NODATA>0</NODATA>
    </ComplexSource>
    <ComplexSource>
      <SourceFilename relativeToVRT="0">./BulkDownload/Extent_Rasters/LA/LA_Central_connectRaster_7.tif</SourceFilename>
      <SourceBand>1</SourceBand>
      <SourceProperties RasterXSize="61525" RasterYSize="46752" DataType="Byte" BlockXSize="512" BlockYSize="512" />
      <SrcRect xOff="0" yOff="0" xSize="61525" ySize="46752" />
      <DstRect xOff="2370514.36224291" yOff="558177.114764174" xSize="58570.468279896" ySize="44506.8920442373" />
      <NODATA>0</NODATA>
    </ComplexSource>
    <ComplexSource>
      <SourceFilename relativeToVRT="0">./BulkDownload/Extent_Rasters/LA/LA_CentralEast_connectRaster_7.tif</SourceFilename>
      <SourceBand>1</SourceBand>
      <SourceProperties RasterXSize="63242" RasterYSize="62075" DataType="Byte" BlockXSize="512" BlockYSize="512" />
      <SrcRect xOff="0" yOff="0" xSize="63242" ySize="62075" />
      <DstRect xOff="2407159.34883285" yOff="552540.347690925" xSize="60205.0151151104" ySize="59094.0563750431" />
      <NODATA>0</NODATA>
    </ComplexSource>
    <ComplexSource>
      <SourceFilename relativeToVRT="0">./BulkDownload/Extent_Rasters/LA/LA_CentralNorth_connectRaster_7.tif</SourceFilename>
      <SourceBand>1</SourceBand>
      <SourceProperties RasterXSize="49220" RasterYSize="26515" DataType="Byte" BlockXSize="512" BlockYSize="512" />
      <SrcRect xOff="0" yOff="0" xSize="49220" ySize="26515" />
      <DstRect xOff="2374214.77188375" yOff="540023.872188283" xSize="46856.3746239168" ySize="25241.706077878" />
      <NODATA>0</NODATA>
    </ComplexSource>
    <ComplexSource>
      <SourceFilename relativeToVRT="0">./BulkDownload/Extent_Rasters/LA/LA_Delta_connectRaster_7.tif</SourceFilename>
      <SourceBand>1</SourceBand>
      <SourceProperties RasterXSize="71705" RasterYSize="50422" DataType="Byte" BlockXSize="512" BlockYSize="512" />
      <SrcRect xOff="0" yOff="0" xSize="71705" ySize="50422" />
      <DstRect xOff="2442925.27514506" yOff="568265.097677253" xSize="68261.6079318962" ySize="48000.6526064022" />
      <NODATA>0</NODATA>
    </ComplexSource>
    <ComplexSource>
      <SourceFilename relativeToVRT="0">./BulkDownload/Extent_Rasters/LA/LA_LP_connectRaster_7.tif</SourceFilename>
      <SourceBand>1</SourceBand>
      <SourceProperties RasterXSize="80111" RasterYSize="42540" DataType="Byte" BlockXSize="512" BlockYSize="512" />
      <SrcRect xOff="0" yOff="0" xSize="80111" ySize="42540" />
      <DstRect xOff="2408556.08950867" yOff="540455.52940788" xSize="76263.937982458" ySize="40497.1592137629" />
      <NODATA>0</NODATA>
    </ComplexSource>
    <ComplexSource>
      <SourceFilename relativeToVRT="0">./BulkDownload/Extent_Rasters/LA/LA_West_connectRaster_7.tif</SourceFilename>
      <SourceBand>1</SourceBand>
      <SourceProperties RasterXSize="50040" RasterYSize="45013" DataType="Byte" BlockXSize="512" BlockYSize="512" />
      <SrcRect xOff="0" yOff="0" xSize="50040" ySize="45013" />
      <DstRect xOff="2328456.819372" yOff="549629.792832801" xSize="47636.9968748634" ySize="42851.4016852164" />
      <NODATA>0</NODATA>
    </ComplexSource>
    <ComplexSource>
      <SourceFilename relativeToVRT="0">./BulkDownload/Extent_Rasters/MD/MD_East_connectRaster_7.tif</SourceFilename>
      <SourceBand>1</SourceBand>
      <SourceProperties RasterXSize="28460" RasterYSize="44790" DataType="Byte" BlockXSize="512" BlockYSize="512" />
      <SrcRect xOff="0" yOff="0" xSize="28460" ySize="44790" />
      <DstRect xOff="2945365.28597856" yOff="248555.714610278" xSize="27093.3039779875" ySize="42639.1105120892" />
      <NODATA>0</NODATA>
    </ComplexSource>
    <ComplexSource>
      <SourceFilename relativeToVRT="0">./BulkDownload/Extent_Rasters/MD/MD_North_connectRaster_7.tif</SourceFilename>
      <SourceBand>1</SourceBand>
      <SourceProperties RasterXSize="30270" RasterYSize="27139" DataType="Byte" BlockXSize="512" BlockYSize="512" />
      <SrcRect xOff="0" yOff="0" xSize="30270" ySize="27139" />
      <DstRect xOff="2941680.47410147" yOff="232330.977961495" xSize="28816.3848002024" ySize="25835.7405712815" />
      <NODATA>0</NODATA>
    </ComplexSource>
    <ComplexSource>
      <SourceFilename relativeToVRT="0">./BulkDownload/Extent_Rasters/MD/MD_Southeast_connectRaster_7.tif</SourceFilename>
      <SourceBand>1</SourceBand>
      <SourceProperties RasterXSize="46474" RasterYSize="25088" DataType="Byte" BlockXSize="512" BlockYSize="512" />
      <SrcRect xOff="0" yOff="0" xSize="46474" ySize="25088" />
      <DstRect xOff="2953442.151739" yOff="273348.991943424" xSize="44242.242061599" ySize="23883.2329655591" />
      <NODATA>0</NODATA>
    </ComplexSource>
    <ComplexSource>
      <SourceFilename relativeToVRT="0">./BulkDownload/Extent_Rasters/MD/MD_Southwest_connectRaster_7.tif</SourceFilename>
      <SourceBand>1</SourceBand>
      <SourceProperties RasterXSize="41701" RasterYSize="30425" DataType="Byte" BlockXSize="512" BlockYSize="512" />
      <SrcRect xOff="0" yOff="0" xSize="41701" ySize="30425" />
      <DstRect xOff="2915060.00696236" yOff="268201.983004721" xSize="39698.4493740745" ySize="28963.9414451984" />
      <NODATA>0</NODATA>
    </ComplexSource>
    <ComplexSource>
      <SourceFilename relativeToVRT="0">./BulkDownload/Extent_Rasters/MD/MD_West_connectRaster_7.tif</SourceFilename>
      <SourceBand>1</SourceBand>
      <SourceProperties RasterXSize="33461" RasterYSize="52619" DataType="Byte" BlockXSize="512" BlockYSize="512" />
      <SrcRect xOff="0" yOff="0" xSize="33461" ySize="52619" />
      <DstRect xOff="2919859.92658434" yOff="232358.609153768" xSize="31854.1477304122" ySize="50092.1490519279" />
      <NODATA>0</NODATA>
    </ComplexSource>
    <ComplexSource>
      <SourceFilename relativeToVRT="0">./BulkDownload/Extent_Rasters/MS/MS_connectRaster_7.tif</SourceFilename>
      <SourceBand>1</SourceBand>
      <SourceProperties RasterXSize="48533" RasterYSize="21958" DataType="Byte" BlockXSize="512" BlockYSize="512" />
      <SrcRect xOff="0" yOff="0" xSize="48533" ySize="21958" />
      <DstRect xOff="2478194.72075454" yOff="549758.918154233" xSize="46202.3654941597" ySize="20903.5407149931" />
      <NODATA>0</NODATA>
    </ComplexSource>
    <ComplexSource>
      <SourceFilename relativeToVRT="0">./BulkDownload/Extent_Rasters/NJ/NJ_Middle_connectRaster_7.tif</SourceFilename>
      <SourceBand>1</SourceBand>
      <SourceProperties RasterXSize="43704" RasterYSize="39040" DataType="Byte" BlockXSize="512" BlockYSize="512" />
      <SrcRect xOff="0" yOff="0" xSize="43704" ySize="39040" />
      <DstRect xOff="2994980.58795098" yOff="203950.469446586" xSize="41605.2620187656" ySize="37165.2349719158" />
      <NODATA>0</NODATA>
    </ComplexSource>
    <ComplexSource>
      <SourceFilename relativeToVRT="0">./BulkDownload/Extent_Rasters/NJ/NJ_Northern_connectRaster_7.tif</SourceFilename>
      <SourceBand>1</SourceBand>
      <SourceProperties RasterXSize="33615" RasterYSize="35384" DataType="Byte" BlockXSize="512" BlockYSize="512" />
      <SrcRect xOff="0" yOff="0" xSize="33615" ySize="35384" />
      <DstRect xOff="3004270.95197705" yOff="180022.055824456" xSize="32000.7523970534" ySize="33684.8021067182" />
      <NODATA>0</NODATA>
    </ComplexSource>
    <ComplexSource>
      <SourceFilename relativeToVRT="0">./BulkDownload/Extent_Rasters/NJ/NJ_Southern_connectRaster_7.tif</SourceFilename>
      <SourceBand>1</SourceBand>
      <SourceProperties RasterXSize="49776" RasterYSize="44875" DataType="Byte" BlockXSize="512" BlockYSize="512" />
      <SrcRect xOff="0" yOff="0" xSize="49776" ySize="44875" />
      <DstRect xOff="2976942.07929308" yOff="222647.532951021" xSize="47385.6745891928" ySize="42720.0286722523" />
      <NODATA>0</NODATA>
    </ComplexSource>
    <ComplexSource>
      <SourceFilename relativeToVRT="0">./BulkDownload/Extent_Rasters/NY/NY_HU_connectRaster_7.tif</SourceFilename>
      <SourceBand>1</SourceBand>
      <SourceProperties RasterXSize="18540" RasterYSize="56496" DataType="Byte" BlockXSize="512" BlockYSize="512" />
      <SrcRect xOff="0" yOff="0" xSize="18540" ySize="56496" />
      <DstRect xOff="3028196.63390582" yOff="123738.008177926" xSize="17649.6786982408" ySize="53782.9691335388" />
      <NODATA>0</NODATA>
    </ComplexSource>
    <ComplexSource>
      <SourceFilename relativeToVRT="0">./BulkDownload/Extent_Rasters/NY/NY_M_connectRaster_7.tif</SourceFilename>
      <SourceBand>1</SourceBand>
      <SourceProperties RasterXSize="31106" RasterYSize="31916" DataType="Byte" BlockXSize="512" BlockYSize="512" />
      <SrcRect xOff="0" yOff="0" xSize="31106" ySize="31916" />
      <DstRect xOff="3023290.43986626" yOff="175331.087908891" xSize="29612.2387048265" ySize="30383.3411722254" />
      <NODATA>0</NODATA>
    </ComplexSource>
    <ComplexSource>
      <SourceFilename relativeToVRT="0">./BulkDownload/Extent_Rasters/NY/NY_SK_connectRaster_7.tif</SourceFilename>
      <SourceBand>1</SourceBand>
      <SourceProperties RasterXSize="64001" RasterYSize="28866" DataType="Byte" BlockXSize="512" BlockYSize="512" />
      <SrcRect xOff="0" yOff="0" xSize="64001" ySize="28866" />
      <DstRect xOff="3050108.07699567" yOff="176224.859770387" xSize="60927.5666864139" ySize="27479.8071900442" />
      <NODATA>0</NODATA>
    </ComplexSource>
    <ComplexSource>
      <SourceFilename relativeToVRT="0">./BulkDownload/Extent_Rasters/OR/OR_MFR_connectRaster_7.tif</SourceFilename>
      <SourceBand>1</SourceBand>
      <SourceProperties RasterXSize="60716" RasterYSize="43367" DataType="Byte" BlockXSize="512" BlockYSize="512" />
      <SrcRect xOff="0" yOff="0" xSize="60716" ySize="43367" />
      <DstRect xOff="1241358.81041885" yOff="83152.9034894525" xSize="96514.5291625048" ySize="68936.4514492119" />
      <NODATA>0</NODATA>
    </ComplexSource>
    <ComplexSource>
      <SourceFilename relativeToVRT="0">./BulkDownload/Extent_Rasters/OR/OR_PQR1_connectRaster_7.tif</SourceFilename>
      <SourceBand>1</SourceBand>
      <SourceProperties RasterXSize="13815" RasterYSize="42822" DataType="Byte" BlockXSize="512" BlockYSize="512" />
      <SrcRect xOff="0" yOff="0" xSize="13815" ySize="42822" />
      <DstRect xOff="1258077.56164718" yOff="18213.7490859279" xSize="21919.301619579" ySize="67942.6951830339" />
      <NODATA>0</NODATA>
    </ComplexSource>
    <ComplexSource>
      <SourceFilename relativeToVRT="0">./BulkDownload/Extent_Rasters/OR/OR_PQR2_connectRaster_7.tif</SourceFilename>
      <SourceBand>1</SourceBand>
      <SourceProperties RasterXSize="52039" RasterYSize="19298" DataType="Byte" BlockXSize="512" BlockYSize="512" />
      <SrcRect xOff="0" yOff="0" xSize="52039" ySize="19298" />
      <DstRect xOff="1260572.7188436" yOff="0" xSize="82721.5162903947" ySize="30676.220168951" />
      <NODATA>0</NODATA>
    </ComplexSource>
    <ComplexSource>
      <SourceFilename relativeToVRT="0">./BulkDownload/Extent_Rasters/PA/PA_connectRaster_7.tif</SourceFilename>
      <SourceBand>1</SourceBand>
      <SourceProperties RasterXSize="32742" RasterYSize="20105" DataType="Byte" BlockXSize="512" BlockYSize="512" />
      <SrcRect xOff="0" yOff="0" xSize="32742" ySize="20105" />
      <DstRect xOff="2975869.00964013" yOff="210439.338231998" xSize="31169.6752933013" ySize="19139.5248235241" />
      <NODATA>0</NODATA>
    </ComplexSource>
    <ComplexSource>
      <SourceFilename relativeToVRT="0">./BulkDownload/Extent_Rasters/PR/PR_connectRaster_7.tif</SourceFilename>
      <SourceBand>1</SourceBand>
      <SourceProperties RasterXSize="105419" RasterYSize="27559" DataType="Byte" BlockXSize="512" BlockYSize="512" />
      <SrcRect xOff="0" yOff="0" xSize="105419" ySize="27559" />
      <DstRect xOff="3244144.456462" yOff="979552.26763686" xSize="100356.606186074" ySize="26235.5714803025" />
      <NODATA>0</NODATA>
    </ComplexSource>
    <ComplexSource>
      <SourceFilename relativeToVRT="0">./BulkDownload/Extent_Rasters/SC/SC_Central_connectRaster_7.tif</SourceFilename>
      <SourceBand>1</SourceBand>
      <SourceProperties RasterXSize="56857" RasterYSize="38086" DataType="Byte" BlockXSize="512" BlockYSize="512" />
      <SrcRect xOff="0" yOff="0" xSize="56857" ySize="38086" />
      <DstRect xOff="2792522.91055772" yOff="451870.126212787" xSize="54126.6333196268" ySize="36257.047621424" />
      <NODATA>0</NODATA>
    </ComplexSource>
    <ComplexSource>
      <SourceFilename relativeToVRT="0">./BulkDownload/Extent_Rasters/SC/SC_North_connectRaster_7.tif</SourceFilename>
      <SourceBand>1</SourceBand>
      <SourceProperties RasterXSize="59540" RasterYSize="46739" DataType="Byte" BlockXSize="512" BlockYSize="512" />
      <SrcRect xOff="0" yOff="0" xSize="59540" ySize="46739" />
      <DstRect xOff="2816906.24703911" yOff="423595.815605493" xSize="56680.7912455913" ySize="44494.5163256247" />
      <NODATA>0</NODATA>
    </ComplexSource>
    <ComplexSource>
      <SourceFilename relativeToVRT="0">./BulkDownload/Extent_Rasters/SC/SC_South_connectRaster_7.tif</SourceFilename>
      <SourceBand>1</SourceBand>
      <SourceProperties RasterXSize="44753" RasterYSize="42656" DataType="Byte" BlockXSize="512" BlockYSize="512" />
      <SrcRect xOff="0" yOff="0" xSize="44753" ySize="42656" />
      <DstRect xOff="2770072.51003225" yOff="463385.270738491" xSize="42603.887312965" ySize="40607.5887029213" />
      <NODATA>0</NODATA>
    </ComplexSource>
    <ComplexSource>
      <SourceFilename relativeToVRT="0">./BulkDownload/Extent_Rasters/TX/TX_Central_connectRaster_7.tif</SourceFilename>
      <SourceBand>1</SourceBand>
      <SourceProperties RasterXSize="67214" RasterYSize="46118" DataType="Byte" BlockXSize="512" BlockYSize="512" />
      <SrcRect xOff="0" yOff="0" xSize="67214" ySize="46118" />
      <DstRect xOff="2209176.32177966" yOff="601762.769803723" xSize="63986.2731426074" ySize="43903.3377687797" />
      <NODATA>0</NODATA>
    </ComplexSource>
    <ComplexSource>
      <SourceFilename relativeToVRT="0">./BulkDownload/Extent_Rasters/TX/TX_North1_connectRaster_7.tif</SourceFilename>
      <SourceBand>1</SourceBand>
      <SourceProperties RasterXSize="45518" RasterYSize="62416" DataType="Byte" BlockXSize="512" BlockYSize="512" />
      <SrcRect xOff="0" yOff="0" xSize="45518" ySize="62416" />
      <DstRect xOff="2300072.28095179" yOff="533843.291934826" xSize="43332.1507870172" ySize="59418.6810387641" />
      <NODATA>0</NODATA>
    </ComplexSource>
    <ComplexSource>
      <SourceFilename relativeToVRT="0">./BulkDownload/Extent_Rasters/TX/TX_North2_connectRaster_7.tif</SourceFilename>
      <SourceBand>1</SourceBand>
      <SourceProperties RasterXSize="59722" RasterYSize="64054" DataType="Byte" BlockXSize="512" BlockYSize="512" />
      <SrcRect xOff="0" yOff="0" xSize="59722" ySize="64054" />
      <DstRect xOff="2256692.31304448" yOff="558324.928712088" xSize="56854.0513080894" ySize="60978.0215412805" />
      <NODATA>0</NODATA>
    </ComplexSource>
    <ComplexSource>
      <SourceFilename relativeToVRT="0">./BulkDownload/Extent_Rasters/TX/TX_South1_connectRaster_7.tif</SourceFilename>
      <SourceBand>1</SourceBand>
      <SourceProperties RasterXSize="43825" RasterYSize="37044" DataType="Byte" BlockXSize="512" BlockYSize="512" />
      <SrcRect xOff="0" yOff="0" xSize="43825" ySize="37044" />
      <DstRect xOff="2186702.1592724" yOff="626808.473115383" xSize="41720.4513715748" ySize="35265.0861519365" />
      <NODATA>0</NODATA>
    </ComplexSource>
    <ComplexSource>
      <SourceFilename relativeToVRT="0">./BulkDownload/Extent_Rasters/TX/TX_South2_connectRaster_7.tif</SourceFilename>
      <SourceBand>1</SourceBand>
      <SourceProperties RasterXSize="36085" RasterYSize="66805" DataType="Byte" BlockXSize="512" BlockYSize="512" />
      <SrcRect xOff="0" yOff="0" xSize="36085" ySize="66805" />
      <DstRect xOff="2182546.11955847" yOff="659269.08129441" xSize="34352.1389396744" ySize="63596.9140048482" />
      <NODATA>0</NODATA>
    </ComplexSource>
    <ComplexSource>
      <SourceFilename relativeToVRT="0">./BulkDownload/Extent_Rasters/VA/VA_ES_connectRaster_7.tif</SourceFilename>
      <SourceBand>1</SourceBand>
      <SourceProperties RasterXSize="39789" RasterYSize="38555" DataType="Byte" BlockXSize="512" BlockYSize="512" />
      <SrcRect xOff="0" yOff="0" xSize="39789" ySize="38555" />
      <DstRect xOff="2953442.1603667" yOff="292176.081730488" xSize="37878.2667596713" ySize="36703.5254698314" />
      <NODATA>0</NODATA>
    </ComplexSource>
    <ComplexSource>
      <SourceFilename relativeToVRT="0">./BulkDownload/Extent_Rasters/VA/VA_Mid_connectRaster_7.tif</SourceFilename>
      <SourceBand>1</SourceBand>
      <SourceProperties RasterXSize="51478" RasterYSize="51841" DataType="Byte" BlockXSize="512" BlockYSize="512" />
      <SrcRect xOff="0" yOff="0" xSize="51478" ySize="51841" />
      <DstRect xOff="2908144.09931651" yOff="281622.816576419" xSize="49005.9417490853" ySize="49351.5098918827" />
      <NODATA>0</NODATA>
    </ComplexSource>
    <ComplexSource>
      <SourceFilename relativeToVRT="0">./BulkDownload/Extent_Rasters/VA/VA_N_connectRaster_7.tif</SourceFilename>
      <SourceBand>1</SourceBand>
      <SourceProperties RasterXSize="50277" RasterYSize="50750" DataType="Byte" BlockXSize="512" BlockYSize="512" />
      <SrcRect xOff="0" yOff="0" xSize="50277" ySize="50750" />
      <DstRect xOff="2908649.93306654" yOff="259526.075387872" xSize="47862.6157449544" ySize="48312.9015067812" />
      <NODATA>0</NODATA>
    </ComplexSource>
    <ComplexSource>
      <SourceFilename relativeToVRT="0">./BulkDownload/Extent_Rasters/VA/VA_S_connectRaster_7.tif</SourceFilename>
      <SourceBand>1</SourceBand>
      <SourceProperties RasterXSize="63328" RasterYSize="38028" DataType="Byte" BlockXSize="512" BlockYSize="512" />
      <SrcRect xOff="0" yOff="0" xSize="63328" ySize="38028" />
      <DstRect xOff="2908741.05884627" yOff="308464.716245489" xSize="60286.8852536242" ySize="36201.8328768447" />
      <NODATA>0</NODATA>
    </ComplexSource>
    <ComplexSource>
      <SourceFilename relativeToVRT="0">./BulkDownload/Extent_Rasters/VI/USVI_connectRaster_7.tif</SourceFilename>
      <SourceBand>1</SourceBand>
      <SourceProperties RasterXSize="23301" RasterYSize="31432" DataType="Byte" BlockXSize="512" BlockYSize="512" />
      <SrcRect xOff="0" yOff="0" xSize="23301" ySize="31431.8947983329" />
      <DstRect xOff="3345478.48419146" yOff="983190.516501214" xSize="22182.0476455075" ySize="29922.4834987855" />
      <NODATA>0</NODATA>
    </ComplexSource>
  </VRTRasterBand>
</VRTDataset>
