<VRTDataset rasterXSize="10870269" rasterYSize="1186180" subClass="VRTWarpedDataset">
  <SRS dataAxisToSRSAxisMapping="2,1">GEOGCS["NAD83(2011)",DATUM["NAD83_National_Spatial_Reference_System_2011",SPHEROID["GRS 1980",6378137,298.257222101,AUTHORITY["EPSG","7019"]],AUTHORITY["EPSG","1116"]],PRIMEM["Greenwich",0,AUTHORITY["EPSG","8901"]],UNIT["degree",0.0174532925199433,AUTHORITY["EPSG","9122"]],AXIS["Latitude",NORTH],AXIS["Longitude",EAST],AUTHORITY["EPSG","6318"]]</SRS>
  <GeoTransform> -1.5833514766284719e+02,  2.7904219901216667e-05,  0.0000000000000000e+00,  4.6299978438143761e+01,  0.0000000000000000e+00, -2.7904219901216667e-05</GeoTransform>
  <VRTRasterBand dataType="Byte" band="1" subClass="VRTWarpedRasterBand">
    <NoDataValue>255</NoDataValue>
    <ColorInterp>Gray</ColorInterp>
  </VRTRasterBand>
  <BlockXSize>512</BlockXSize>
  <BlockYSize>128</BlockYSize>
  <GDALWarpOptions>
    <WarpMemoryLimit>6.71089e+07</WarpMemoryLimit>
    <ResampleAlg>NearestNeighbour</ResampleAlg>
    <WorkingDataType>Byte</WorkingDataType>
    <Option name="INIT_DEST">NO_DATA</Option>
    <Option name="ERROR_OUT_IF_EMPTY_SOURCE_WINDOW">FALSE</Option>
    <SourceDataset relativeToVRT="1">SLR_Extent_8_5_4269_init.vrt</SourceDataset>
    <Transformer>
      <ApproxTransformer>
        <MaxError>0.125</MaxError>
        <BaseTransformer>
          <GenImgProjTransformer>
            <SrcGeoTransform>-158.33514766284719,2.7904219901216667e-05,0,46.299973940355009,0,-2.7904219901216671e-05</SrcGeoTransform>
            <SrcInvGeoTransform>5674236.6646825178,35836.873546011528,0,1659246.3112841314,0,-35836.87354601152</SrcInvGeoTransform>
            <DstGeoTransform>-158.33514766284719,2.7904219901216667e-05,0,46.299978438143761,0,-2.7904219901216667e-05</DstGeoTransform>
            <DstInvGeoTransform>5674236.6646825178,35836.873546011528,0,1659246.4724708183,0,-35836.873546011528</DstInvGeoTransform>
            <ReprojectTransformer>
              <ReprojectionTransformer>
                <SourceSRS>GEOGCS["NAD83",DATUM["North_American_Datum_1983",SPHEROID["GRS 1980",6378137,298.257222101004,AUTHORITY["EPSG","7019"]],AUTHORITY["EPSG","6269"]],PRIMEM["Greenwich",0],UNIT["degree",0.0174532925199433,AUTHORITY["EPSG","9122"]],AXIS["Latitude",NORTH],AXIS["Longitude",EAST],AUTHORITY["EPSG","4269"]]</SourceSRS>
                <TargetSRS>GEOGCS["NAD83(2011)",DATUM["NAD83_National_Spatial_Reference_System_2011",SPHEROID["GRS 1980",6378137,298.257222101,AUTHORITY["EPSG","7019"]],AUTHORITY["EPSG","1116"]],PRIMEM["Greenwich",0,AUTHORITY["EPSG","8901"]],UNIT["degree",0.0174532925199433,AUTHORITY["EPSG","9122"]],AXIS["Latitude",NORTH],AXIS["Longitude",EAST],AUTHORITY["EPSG","6318"]]</TargetSRS>
                <Options>
                  <Option key="CENTER_LONG">-6.67196</Option>
                  <Option key="AREA_OF_INTEREST">-158.3351476628472,13.20054637792982,144.9912288985314,46.29997394035501</Option>
                </Options>
              </ReprojectionTransformer>
            </ReprojectTransformer>
          </GenImgProjTransformer>
        </BaseTransformer>
      </ApproxTransformer>
    </Transformer>
    <BandList>
      <BandMapping src="1" dst="1">
        <SrcNoDataReal>255</SrcNoDataReal>
        <SrcNoDataImag>0</SrcNoDataImag>
        <DstNoDataReal>255</DstNoDataReal>
        <DstNoDataImag>0</DstNoDataImag>
      </BandMapping>
    </BandList>
  </GDALWarpOptions>
</VRTDataset>
