<VRTDataset rasterXSize="11502861" rasterYSize="2310123">
  <SRS dataAxisToSRSAxisMapping="2,1">GEOGCS["NAD83(2011)",DATUM["NAD83_National_Spatial_Reference_System_2011",SPHEROID["GRS 1980",6378137,298.257222101,AUTHORITY["EPSG","7019"]],AUTHORITY["EPSG","1116"]],PRIMEM["Greenwich",0,AUTHORITY["EPSG","8901"]],UNIT["degree",0.0174532925199433,AUTHORITY["EPSG","9122"]],AXIS["Latitude",NORTH],AXIS["Longitude",EAST],AUTHORITY["EPSG","6318"]]</SRS>
  <GeoTransform> -1.7089864611659610e+02,  2.7539422085760567e-05,  0.0000000000000000e+00,  4.9003393876544699e+01,  0.0000000000000000e+00, -2.7539422085760564e-05</GeoTransform>
  <VRTRasterBand dataType="Byte" band="1">
    <NoDataValue>127</NoDataValue>
    <ColorInterp>Gray</ColorInterp>
    <ComplexSource>
      <SourceFilename relativeToVRT="1">_groups/SLR_HTF_Major_4269_proj.vrt</SourceFilename>
      <SourceBand>1</SourceBand>
      <SourceProperties RasterXSize="10041844" RasterYSize="1228360" DataType="Byte" BlockXSize="512" BlockYSize="128" />
      <SrcRect xOff="0" yOff="0" xSize="10041844" ySize="1228360" />
      <DstRect xOff="1677371.74115963" yOff="98163.3120612757" xSize="9825488.76796683" ySize="1201894.53082718" />
      <NODATA>127</NODATA>
    </ComplexSource>
    <ComplexSource>
      <SourceFilename relativeToVRT="1">_groups/SLR_HTF_Major_6636_proj.vrt</SourceFilename>
      <SourceBand>1</SourceBand>
      <SourceProperties RasterXSize="5453" RasterYSize="5217" DataType="Byte" BlockXSize="512" BlockYSize="128" />
      <SrcRect xOff="0" yOff="0" xSize="5453" ySize="5217" />
      <DstRect xOff="96907.9677003716" yOff="2304918.7681747" xSize="5439.6314180937" ySize="5204.20999600126" />
      <NODATA>255</NODATA>
    </ComplexSource>
    <ComplexSource>
      <SourceFilename relativeToVRT="1">_groups/SLR_HTF_Major_4269_1_proj.vrt</SourceFilename>
      <SourceBand>1</SourceBand>
      <SourceProperties RasterXSize="55457" RasterYSize="11597" DataType="Byte" BlockXSize="512" BlockYSize="128" />
      <SrcRect xOff="0" yOff="0" xSize="55457" ySize="11597" />
      <DstRect xOff="0" yOff="2291471.88160896" xSize="55942.5148662613" ySize="11698.5293994272" />
      <NODATA>255</NODATA>
    </ComplexSource>
    <ComplexSource>
      <SourceFilename relativeToVRT="1">_groups/SLR_HTF_Major_6318_init.vrt</SourceFilename>
      <SourceBand>1</SourceBand>
      <SourceProperties RasterXSize="2079327" RasterYSize="797459" DataType="Byte" BlockXSize="128" BlockYSize="128" />
      <SrcRect xOff="0" yOff="0" xSize="2079327" ySize="797459" />
      <DstRect xOff="1671668.54287926" yOff="0" xSize="2105273.71195002" ySize="807410.026925997" />
      <NODATA>255</NODATA>
    </ComplexSource>
    <ComplexSource>
      <SourceFilename relativeToVRT="1">_groups/SLR_HTF_Major_26904_proj.vrt</SourceFilename>
      <SourceBand>1</SourceBand>
      <SourceProperties RasterXSize="184664" RasterYSize="123024" DataType="Byte" BlockXSize="512" BlockYSize="128" />
      <SrcRect xOff="0" yOff="0" xSize="184664" ySize="123024" />
      <DstRect xOff="401328.700180387" yOff="970179.274837493" xSize="189130.331051652" ySize="125999.490140463" />
      <NODATA>127</NODATA>
    </ComplexSource>
    <ComplexSource>
      <SourceFilename relativeToVRT="1">_groups/SLR_HTF_Major_6_proj.vrt</SourceFilename>
      <SourceBand>1</SourceBand>
      <SourceProperties RasterXSize="58233" RasterYSize="68105" DataType="Byte" BlockXSize="512" BlockYSize="128" />
      <SrcRect xOff="0" yOff="0" xSize="58233" ySize="68105" />
      <DstRect xOff="3397838.00106009" yOff="336986.337690972" xSize="56985.5033096977" ySize="66646.0203476888" />
      <NODATA>127</NODATA>
    </ComplexSource>
  </VRTRasterBand>
</VRTDataset>
