<VRTDataset rasterXSize="1919219" rasterYSize="794274">
  <SRS dataAxisToSRSAxisMapping="2,1">GEOGCS["NAD83(2011)",DATUM["NAD83_National_Spatial_Reference_System_2011",SPHEROID["GRS 1980",6378137,298.257222101,AUTHORITY["EPSG","7019"]],AUTHORITY["EPSG","1116"]],PRIMEM["Greenwich",0,AUTHORITY["EPSG","8901"]],UNIT["degree",0.0174532925199433,AUTHORITY["EPSG","9122"]],AXIS["Latitude",NORTH],AXIS["Longitude",EAST],AUTHORITY["EPSG","6318"]]</SRS>
  <GeoTransform> -1.2470479776177319e+02,  2.7578149775278110e-05,  0.0000000000000000e+00,  4.6300023992156106e+01,  0.0000000000000000e+00, -2.7578149775278110e-05</GeoTransform>
  <VRTRasterBand dataType="Int8" band="1">
    <NoDataValue>127</NoDataValue>
    <ColorInterp>Gray</ColorInterp>
    <ComplexSource>
      <SourceFilename relativeToVRT="1">_groups/SLR_HTF_Minor_4269_proj.vrt</SourceFilename>
      <SourceBand>1</SourceBand>
      <SourceProperties RasterXSize="1876442" RasterYSize="776571" DataType="Int8" BlockXSize="512" BlockYSize="128" />
      <SrcRect xOff="0" yOff="0" xSize="1876442" ySize="776570.742171794" />
      <DstRect xOff="0" yOff="0" xSize="1919218.70368159" ySize="794274" />
      <NODATA>127</NODATA>
    </ComplexSource>
    <ComplexSource>
      <SourceFilename relativeToVRT="1">_groups/SLR_HTF_Minor_6_proj.vrt</SourceFilename>
      <SourceBand>1</SourceBand>
      <SourceProperties RasterXSize="58234" RasterYSize="68106" DataType="Int8" BlockXSize="512" BlockYSize="128" />
      <SrcRect xOff="0" yOff="0" xSize="58234" ySize="68106" />
      <DstRect xOff="1718049.55600216" yOff="238487.322754004" xSize="56906.4564030257" ySize="66553.4072841376" />
      <NODATA>127</NODATA>
    </ComplexSource>
  </VRTRasterBand>
</VRTDataset>
