<VRTDataset rasterXSize="11387783" rasterYSize="2287012">
  <SRS dataAxisToSRSAxisMapping="2,1">GEOGCS["NAD83(2011)",DATUM["NAD83_National_Spatial_Reference_System_2011",SPHEROID["GRS 1980",6378137,298.257222101,AUTHORITY["EPSG","7019"]],AUTHORITY["EPSG","1116"]],PRIMEM["Greenwich",0,AUTHORITY["EPSG","8901"]],UNIT["degree",0.0174532925199433,AUTHORITY["EPSG","9122"]],AXIS["Latitude",NORTH],AXIS["Longitude",EAST],AUTHORITY["EPSG","6318"]]</SRS>
  <GeoTransform> -1.7089864611659610e+02,  2.7817719839393654e-05,  0.0000000000000000e+00,  4.9003393876544699e+01,  0.0000000000000000e+00, -2.7817719839393654e-05</GeoTransform>
  <VRTRasterBand dataType="Byte" band="1">
    <NoDataValue>127</NoDataValue>
    <ColorInterp>Gray</ColorInterp>
    <ComplexSource>
      <SourceFilename relativeToVRT="1">_groups/SLR_HTF_Moderate_4269_proj.vrt</SourceFilename>
      <SourceBand>1</SourceBand>
      <SourceProperties RasterXSize="9455885" RasterYSize="1156683" DataType="Byte" BlockXSize="512" BlockYSize="128" />
      <SrcRect xOff="0" yOff="0" xSize="9455885" ySize="1156683" />
      <DstRect xOff="1660590.75442608" yOff="97181.5896905746" xSize="9727191.80645387" ySize="1189870.37175944" />
      <NODATA>127</NODATA>
    </ComplexSource>
    <ComplexSource>
      <SourceFilename relativeToVRT="1">_groups/SLR_HTF_Moderate_6636_proj.vrt</SourceFilename>
      <SourceBand>1</SourceBand>
      <SourceProperties RasterXSize="5453" RasterYSize="5217" DataType="Byte" BlockXSize="512" BlockYSize="128" />
      <SrcRect xOff="0" yOff="0" xSize="5453" ySize="5217" />
      <DstRect xOff="95938.4680477807" yOff="2281859.59153501" xSize="5385.21152987182" ySize="5152.14534225954" />
      <NODATA>255</NODATA>
    </ComplexSource>
    <ComplexSource>
      <SourceFilename relativeToVRT="1">_groups/SLR_HTF_Moderate_4269_1_proj.vrt</SourceFilename>
      <SourceBand>1</SourceBand>
      <SourceProperties RasterXSize="55457" RasterYSize="11597" DataType="Byte" BlockXSize="512" BlockYSize="128" />
      <SrcRect xOff="0" yOff="0" xSize="55457" ySize="11597" />
      <DstRect xOff="0" yOff="2268547.23211048" xSize="55382.8472763311" ySize="11581.4934068488" />
      <NODATA>255</NODATA>
    </ComplexSource>
    <ComplexSource>
      <SourceFilename relativeToVRT="1">_groups/SLR_HTF_Moderate_6318_init.vrt</SourceFilename>
      <SourceBand>1</SourceBand>
      <SourceProperties RasterXSize="2079327" RasterYSize="797459" DataType="Byte" BlockXSize="128" BlockYSize="128" />
      <SrcRect xOff="0" yOff="0" xSize="2079327" ySize="797459" />
      <DstRect xOff="1654944.61284516" yOff="0" xSize="2084211.85108576" ySize="799332.42753785" />
      <NODATA>255</NODATA>
    </ComplexSource>
    <ComplexSource>
      <SourceFilename relativeToVRT="1">_groups/SLR_HTF_Moderate_26904_proj.vrt</SourceFilename>
      <SourceBand>1</SourceBand>
      <SourceProperties RasterXSize="184664" RasterYSize="123024" DataType="Byte" BlockXSize="512" BlockYSize="128" />
      <SrcRect xOff="0" yOff="0" xSize="184664" ySize="123024" />
      <DstRect xOff="397313.673917504" yOff="960473.277567857" xSize="187238.208096232" ySize="124738.949187881" />
      <NODATA>127</NODATA>
    </ComplexSource>
    <ComplexSource>
      <SourceFilename relativeToVRT="1">_groups/SLR_HTF_Moderate_6_proj.vrt</SourceFilename>
      <SourceBand>1</SourceBand>
      <SourceProperties RasterXSize="58233" RasterYSize="68105" DataType="Byte" BlockXSize="512" BlockYSize="128" />
      <SrcRect xOff="0" yOff="0" xSize="58233" ySize="68105" />
      <DstRect xOff="3363844.89564514" yOff="333615.013897149" xSize="56415.4013152746" ySize="65979.2713165521" />
      <NODATA>127</NODATA>
    </ComplexSource>
  </VRTRasterBand>
</VRTDataset>
