<VRTDataset rasterXSize="55358" rasterYSize="11672">
  <SRS dataAxisToSRSAxisMapping="1,2,3">COMPD_CS["NAD83(PA11) / UTM zone 2S + unknown",PROJCS["NAD83(PA11) / UTM zone 2S",GEOGCS["NAD83",DATUM["North_American_Datum_1983",SPHEROID["GRS 1980",6378137,298.257222101004,AUTHORITY["EPSG","7019"]],AUTHORITY["EPSG","6269"]],PRIMEM["Greenwich",0],UNIT["degree",0.0174532925199433,AUTHORITY["EPSG","9122"]],AUTHORITY["EPSG","4269"]],PROJECTION["Transverse_Mercator"],PARAMETER["latitude_of_origin",0],PARAMETER["central_meridian",-171],PARAMETER["scale_factor",0.9996],PARAMETER["false_easting",500000],PARAMETER["false_northing",10000000],UNIT["metre",1,AUTHORITY["EPSG","9001"]],AXIS["Easting",EAST],AXIS["Northing",NORTH]],VERT_CS["unknown",VERT_DATUM["unknown",2005],UNIT["metre",1,AUTHORITY["EPSG","9001"]],AXIS["Up",UP]]]</SRS>
  <GeoTransform>  5.1094016000000009e+05,  3.0000000000000018e+00,  0.0000000000000000e+00,  8.4403295037977193e+06,  0.0000000000000000e+00, -3.0000000000000000e+00</GeoTransform>
  <VRTRasterBand dataType="Byte" band="1">
    <NoDataValue>255</NoDataValue>
    <ColorInterp>Gray</ColorInterp>
    <ComplexSource>
      <SourceFilename relativeToVRT="0">./BulkDownload/High_Tide_Flooding/Major/AS_Tau_Ofu_Olosega_HTF_NOS_Major_2024.tif</SourceFilename>
      <SourceBand>1</SourceBand>
      <SourceProperties RasterXSize="13675" RasterYSize="8469" DataType="Byte" BlockXSize="512" BlockYSize="512" />
      <SrcRect xOff="0" yOff="0" xSize="13674.6277280299" ySize="8469" />
      <DstRect xOff="41683.3722719701" yOff="0" xSize="13674.6277280299" ySize="8469" />
      <NODATA>255</NODATA>
    </ComplexSource>
    <ComplexSource>
      <SourceFilename relativeToVRT="0">./BulkDownload/High_Tide_Flooding/Major/AS_Tutuila_HTF_NOS_Major_2024.tif</SourceFilename>
      <SourceBand>1</SourceBand>
      <SourceProperties RasterXSize="14545" RasterYSize="9035" DataType="Byte" BlockXSize="512" BlockYSize="512" />
      <SrcRect xOff="0" yOff="0" xSize="14545" ySize="9034.94940076023" />
      <DstRect xOff="0" yOff="2637.05059923977" xSize="14545" ySize="9034.94940076023" />
      <NODATA>255</NODATA>
    </ComplexSource>
  </VRTRasterBand>
  <OverviewList resampling="nearest">2 4 8 16 32</OverviewList>
</VRTDataset>
