<VRTDataset rasterXSize="10041844" rasterYSize="1228360">
  <SRS dataAxisToSRSAxisMapping="2,1">GEOGCS["NAD83",DATUM["North_American_Datum_1983",SPHEROID["GRS 1980",6378137,298.257222101004,AUTHORITY["EPSG","7019"]],AUTHORITY["EPSG","6269"]],PRIMEM["Greenwich",0],UNIT["degree",0.0174532925199433,AUTHORITY["EPSG","9122"]],AXIS["Latitude",NORTH],AXIS["Longitude",EAST],AUTHORITY["EPSG","4269"]]</SRS>
  <GeoTransform> -1.2470478838299694e+02,  2.6946074906853285e-05,  0.0000000000000000e+00,  4.6300028291818599e+01,  0.0000000000000000e+00, -2.6946074906853245e-05</GeoTransform>
  <VRTRasterBand dataType="Byte" band="1">
    <NoDataValue>127</NoDataValue>
    <ColorInterp>Gray</ColorInterp>
    <ComplexSource>
      <SourceFilename relativeToVRT="0">./BulkDownload/High_Tide_Flooding/Major/AL_HTF_Maj_2022.tif</SourceFilename>
      <SourceBand>1</SourceBand>
      <SourceProperties RasterXSize="57910" RasterYSize="68600" DataType="Byte" BlockXSize="512" BlockYSize="512" />
      <SrcRect xOff="0" yOff="0" xSize="57910" ySize="68600" />
      <DstRect xOff="1344882.68385824" yOff="530977.903229539" xSize="57917.2717546303" ySize="68608.6140971793" />
      <NODATA>127</NODATA>
    </ComplexSource>
    <ComplexSource>
      <SourceFilename relativeToVRT="0">./BulkDownload/High_Tide_Flooding/Major/CA_Catalina_HTF_Maj_2023.tif</SourceFilename>
      <SourceBand>1</SourceBand>
      <SourceProperties RasterXSize="15850" RasterYSize="10547" DataType="Byte" BlockXSize="512" BlockYSize="512" />
      <SrcRect xOff="0" yOff="0" xSize="15850" ySize="10547" />
      <DstRect xOff="224024.573030643" yOff="473824.347788892" xSize="15851.9902833865" ySize="10548.3243860491" />
      <NODATA>127</NODATA>
    </ComplexSource>
    <ComplexSource>
      <SourceFilename relativeToVRT="0">./BulkDownload/High_Tide_Flooding/Major/CT_HTF_NOS_Major_2025.tif</SourceFilename>
      <SourceBand>1</SourceBand>
      <SourceProperties RasterXSize="72204" RasterYSize="40510" DataType="Byte" BlockXSize="512" BlockYSize="512" />
      <SrcRect xOff="0" yOff="0" xSize="72204" ySize="40510" />
      <DstRect xOff="1891771.72054144" yOff="158103.739985875" xSize="72080.5388804882" ySize="40440.7322315743" />
      <NODATA>255</NODATA>
    </ComplexSource>
    <ComplexSource>
      <SourceFilename relativeToVRT="0">./BulkDownload/High_Tide_Flooding/Major/CA_North1_HTF_NOS_Major_2025.tif</SourceFilename>
      <SourceBand>1</SourceBand>
      <SourceProperties RasterXSize="40087" RasterYSize="74409" DataType="Byte" BlockXSize="512" BlockYSize="512" />
      <SrcRect xOff="0" yOff="0" xSize="40087" ySize="74409" />
      <DstRect xOff="8224.18464939462" yOff="159506.833038549" xSize="40018.4555163445" ySize="74281.7685662602" />
      <NODATA>255</NODATA>
    </ComplexSource>
    <ComplexSource>
      <SourceFilename relativeToVRT="0">./BulkDownload/High_Tide_Flooding/Major/CNMI_HTF_Maj_2023.tif</SourceFilename>
      <SourceBand>1</SourceBand>
      <SourceProperties RasterXSize="30558" RasterYSize="47231" DataType="Byte" BlockXSize="512" BlockYSize="512" />
      <SrcRect xOff="0" yOff="0" xSize="30557.7096132158" ySize="47231" />
      <DstRect xOff="10011097.0454293" yOff="1149115.39743971" xSize="30746.9545707442" ySize="47523.5032242979" />
      <NODATA>127</NODATA>
    </ComplexSource>
    <ComplexSource>
      <SourceFilename relativeToVRT="0">./BulkDownload/High_Tide_Flooding/Major/DC_NOS_MAJ.tif</SourceFilename>
      <SourceBand>1</SourceBand>
      <SourceProperties RasterXSize="7875" RasterYSize="7580" DataType="Byte" BlockXSize="512" BlockYSize="512" />
      <SrcRect xOff="0" yOff="0" xSize="7875" ySize="7580" />
      <DstRect xOff="1765911.34089677" yOff="271047.202349196" xSize="7875.98886319682" ySize="7580.95182006754" />
      <NODATA>127</NODATA>
    </ComplexSource>
    <ComplexSource>
      <SourceFilename relativeToVRT="0">./BulkDownload/High_Tide_Flooding/Major/DE_NOS_MAJ.tif</SourceFilename>
      <SourceBand>1</SourceBand>
      <SourceProperties RasterXSize="29940" RasterYSize="51766" DataType="Byte" BlockXSize="512" BlockYSize="512" />
      <SrcRect xOff="0" yOff="0" xSize="29940" ySize="51766" />
      <DstRect xOff="1815287.22711215" yOff="239546.850950429" xSize="29943.7595636966" ySize="51772.5002529833" />
      <NODATA>127</NODATA>
    </ComplexSource>
    <ComplexSource>
      <SourceFilename relativeToVRT="0">./BulkDownload/High_Tide_Flooding/Major/FL_East_1_HTF_Maj_2023.tif</SourceFilename>
      <SourceBand>1</SourceBand>
      <SourceProperties RasterXSize="60781" RasterYSize="68152" DataType="Byte" BlockXSize="512" BlockYSize="512" />
      <SrcRect xOff="0" yOff="0" xSize="60781" ySize="68152" />
      <DstRect xOff="1597451.00966267" yOff="649732.134966818" xSize="60788.6322658984" ySize="68160.5578418504" />
      <NODATA>127</NODATA>
    </ComplexSource>
    <ComplexSource>
      <SourceFilename relativeToVRT="0">./BulkDownload/High_Tide_Flooding/Major/FL_East_2_HTF_Maj_2023.tif</SourceFilename>
      <SourceBand>1</SourceBand>
      <SourceProperties RasterXSize="52708" RasterYSize="46947" DataType="Byte" BlockXSize="512" BlockYSize="512" />
      <SrcRect xOff="0" yOff="0" xSize="52708" ySize="46947" />
      <DstRect xOff="1582279.48801733" yOff="610148.201643164" xSize="52714.6185398557" ySize="46952.8951314906" />
      <NODATA>127</NODATA>
    </ComplexSource>
    <ComplexSource>
      <SourceFilename relativeToVRT="0">./BulkDownload/High_Tide_Flooding/Major/FL_Keys_HTF_Maj_2023.tif</SourceFilename>
      <SourceBand>1</SourceBand>
      <SourceProperties RasterXSize="106365" RasterYSize="35616" DataType="Byte" BlockXSize="512" BlockYSize="512" />
      <SrcRect xOff="0" yOff="0" xSize="106365" ySize="35616" />
      <DstRect xOff="1547128.73775544" yOff="777285.66494281" xSize="106378.356245575" ySize="35620.472298617" />
      <NODATA>127</NODATA>
    </ComplexSource>
    <ComplexSource>
      <SourceFilename relativeToVRT="0">./BulkDownload/High_Tide_Flooding/Major/FL_NE_HTF_Maj_2023.tif</SourceFilename>
      <SourceBand>1</SourceBand>
      <SourceProperties RasterXSize="33461" RasterYSize="44868" DataType="Byte" BlockXSize="512" BlockYSize="512" />
      <SrcRect xOff="0" yOff="0" xSize="33461" ySize="44868" />
      <DstRect xOff="1582911.85557627" yOff="574085.31233225" xSize="33465.2016954188" ySize="44873.6340716074" />
      <NODATA>127</NODATA>
    </ComplexSource>
    <ComplexSource>
      <SourceFilename relativeToVRT="0">./BulkDownload/High_Tide_Flooding/Major/FL_SE_HTF_Maj_2023.tif</SourceFilename>
      <SourceBand>1</SourceBand>
      <SourceProperties RasterXSize="33913" RasterYSize="69200" DataType="Byte" BlockXSize="512" BlockYSize="512" />
      <SrcRect xOff="0" yOff="0" xSize="33913" ySize="69200" />
      <DstRect xOff="1626120.02442921" yOff="717287.849706996" xSize="33917.2584530266" ySize="69208.6894391368" />
      <NODATA>127</NODATA>
    </ComplexSource>
    <ComplexSource>
      <SourceFilename relativeToVRT="0">./BulkDownload/High_Tide_Flooding/Major/FL_SW_HTF_Maj_2023.tif</SourceFilename>
      <SourceBand>1</SourceBand>
      <SourceProperties RasterXSize="54882" RasterYSize="68442" DataType="Byte" BlockXSize="512" BlockYSize="512" />
      <SrcRect xOff="0" yOff="0" xSize="54882" ySize="68442" />
      <DstRect xOff="1572353.1537603" yOff="718114.792983264" xSize="54888.8915288833" ySize="68450.5942571305" />
      <NODATA>127</NODATA>
    </ComplexSource>
    <ComplexSource>
      <SourceFilename relativeToVRT="0">./BulkDownload/High_Tide_Flooding/Major/FL_West_2_HTF_Maj_2023.tif</SourceFilename>
      <SourceBand>1</SourceBand>
      <SourceProperties RasterXSize="59490" RasterYSize="43037" DataType="Byte" BlockXSize="512" BlockYSize="512" />
      <SrcRect xOff="0" yOff="0" xSize="59490" ySize="43037" />
      <DstRect xOff="1538773.24124271" yOff="620046.234094504" xSize="59497.4701551193" ySize="43042.4041530656" />
      <NODATA>127</NODATA>
    </ComplexSource>
    <ComplexSource>
      <SourceFilename relativeToVRT="0">./BulkDownload/High_Tide_Flooding/Major/FL_West_3_HTF_Maj_2023.tif</SourceFilename>
      <SourceBand>1</SourceBand>
      <SourceProperties RasterXSize="49932" RasterYSize="39148" DataType="Byte" BlockXSize="512" BlockYSize="512" />
      <SrcRect xOff="0" yOff="0" xSize="49932" ySize="39148" />
      <DstRect xOff="1510567.56970424" yOff="593589.734489114" xSize="49938.2699577313" ySize="39152.9158116092" />
      <NODATA>127</NODATA>
    </ComplexSource>
    <ComplexSource>
      <SourceFilename relativeToVRT="0">./BulkDownload/High_Tide_Flooding/Major/Guam_HTF_Maj_2023.tif</SourceFilename>
      <SourceBand>1</SourceBand>
      <SourceProperties RasterXSize="15114" RasterYSize="18081" DataType="Byte" BlockXSize="512" BlockYSize="512" />
      <SrcRect xOff="0" yOff="0" xSize="15114" ySize="18080.545934254" />
      <DstRect xOff="9993615.36205017" yOff="1210277.18369286" xSize="15115.8978639174" ySize="18082.8163071359" />
      <NODATA>127</NODATA>
    </ComplexSource>
    <ComplexSource>
      <SourceFilename relativeToVRT="0">./BulkDownload/High_Tide_Flooding/Major/LA_CENTRALEast_NOS_MAJ.tif</SourceFilename>
      <SourceBand>1</SourceBand>
      <SourceProperties RasterXSize="63242" RasterYSize="62075" DataType="Byte" BlockXSize="512" BlockYSize="512" />
      <SrcRect xOff="0" yOff="0" xSize="63242" ySize="62075" />
      <DstRect xOff="1224762.01481933" yOff="580485.950891078" xSize="63249.9412934956" ySize="62082.7947533877" />
      <NODATA>127</NODATA>
    </ComplexSource>
    <ComplexSource>
      <SourceFilename relativeToVRT="0">./BulkDownload/High_Tide_Flooding/Major/LA_CENTRAL_NOS_MAJ.tif</SourceFilename>
      <SourceBand>1</SourceBand>
      <SourceProperties RasterXSize="61525" RasterYSize="46752" DataType="Byte" BlockXSize="512" BlockYSize="512" />
      <SrcRect xOff="0" yOff="0" xSize="61525" ySize="46752" />
      <DstRect xOff="1186263.67301038" yOff="586407.802846208" xSize="61532.7256899265" ySize="46757.8706453548" />
      <NODATA>127</NODATA>
    </ComplexSource>
    <ComplexSource>
      <SourceFilename relativeToVRT="0">./BulkDownload/High_Tide_Flooding/Major/LA_CentralNorth_NOS_MAJ.tif</SourceFilename>
      <SourceBand>1</SourceBand>
      <SourceProperties RasterXSize="49220" RasterYSize="26515" DataType="Byte" BlockXSize="512" BlockYSize="512" />
      <SrcRect xOff="0" yOff="0" xSize="49220" ySize="26515" />
      <DstRect xOff="1190151.23440535" yOff="567336.442677685" xSize="49226.1805519407" ySize="26518.3294866864" />
      <NODATA>127</NODATA>
    </ComplexSource>
    <ComplexSource>
      <SourceFilename relativeToVRT="0">./BulkDownload/High_Tide_Flooding/Major/LA_Delta_MAJ.tif</SourceFilename>
      <SourceBand>1</SourceBand>
      <SourceProperties RasterXSize="71705" RasterYSize="50422" DataType="Byte" BlockXSize="512" BlockYSize="512" />
      <SrcRect xOff="0" yOff="0" xSize="71705" ySize="50422" />
      <DstRect xOff="1262336.83703688" yOff="597005.995136369" xSize="71714.0039918107" ySize="50428.3314869965" />
      <NODATA>127</NODATA>
    </ComplexSource>
    <ComplexSource>
      <SourceFilename relativeToVRT="0">./BulkDownload/High_Tide_Flooding/Major/LA_LakePonce_NOS_MAJ.tif</SourceFilename>
      <SourceBand>1</SourceBand>
      <SourceProperties RasterXSize="80111" RasterYSize="40487" DataType="Byte" BlockXSize="512" BlockYSize="512" />
      <SrcRect xOff="0" yOff="0" xSize="80111" ySize="40487" />
      <DstRect xOff="1226229.39698972" yOff="567789.931373704" xSize="80121.0595326402" ySize="40492.0839497449" />
      <NODATA>127</NODATA>
    </ComplexSource>
    <ComplexSource>
      <SourceFilename relativeToVRT="0">./BulkDownload/High_Tide_Flooding/Major/LA_West_NOS_MAJ.tif</SourceFilename>
      <SourceBand>1</SourceBand>
      <SourceProperties RasterXSize="50040" RasterYSize="45013" DataType="Byte" BlockXSize="512" BlockYSize="512" />
      <SrcRect xOff="0" yOff="0" xSize="50040" ySize="45013" />
      <DstRect xOff="1142079.02971368" yOff="577428.191939337" xSize="50046.2835192832" ySize="45018.6522792466" />
      <NODATA>127</NODATA>
    </ComplexSource>
    <ComplexSource>
      <SourceFilename relativeToVRT="0">./BulkDownload/High_Tide_Flooding/Major/MD_East_NOS_MAJ.tif</SourceFilename>
      <SourceBand>1</SourceBand>
      <SourceProperties RasterXSize="28460" RasterYSize="44790" DataType="Byte" BlockXSize="512" BlockYSize="512" />
      <SrcRect xOff="0" yOff="0" xSize="28460" ySize="44790" />
      <DstRect xOff="1790188.2316086" yOff="261127.004469185" xSize="28463.5737201973" ySize="44795.6242771483" />
      <NODATA>127</NODATA>
    </ComplexSource>
    <ComplexSource>
      <SourceFilename relativeToVRT="0">./BulkDownload/High_Tide_Flooding/Major/MD_Southeast_NOS_MAJ.tif</SourceFilename>
      <SourceBand>1</SourceBand>
      <SourceProperties RasterXSize="46474" RasterYSize="25088" DataType="Byte" BlockXSize="512" BlockYSize="512" />
      <SrcRect xOff="0" yOff="0" xSize="46474" ySize="25088" />
      <DstRect xOff="1798673.59257406" yOff="287174.225498804" xSize="46479.8357369141" ySize="25091.1502983969" />
      <NODATA>127</NODATA>
    </ComplexSource>
    <ComplexSource>
      <SourceFilename relativeToVRT="0">./BulkDownload/High_Tide_Flooding/Major/MS_NOS_MAJ.tif</SourceFilename>
      <SourceBand>1</SourceBand>
      <SourceProperties RasterXSize="48533" RasterYSize="21958" DataType="Byte" BlockXSize="512" BlockYSize="512" />
      <SrcRect xOff="0" yOff="0" xSize="48533" ySize="21958" />
      <DstRect xOff="1299390.06856565" yOff="577563.847897308" xSize="48539.0942853992" ySize="21960.7572645169" />
      <NODATA>127</NODATA>
    </ComplexSource>
    <ComplexSource>
      <SourceFilename relativeToVRT="0">./BulkDownload/High_Tide_Flooding/Major/NJ_Hudson_NOS_MAJ.tif</SourceFilename>
      <SourceBand>1</SourceBand>
      <SourceProperties RasterXSize="18540" RasterYSize="56496" DataType="Byte" BlockXSize="512" BlockYSize="512" />
      <SrcRect xOff="0" yOff="0" xSize="18540" ySize="56496" />
      <DstRect xOff="1877208.85412058" yOff="129996.52324365" xSize="18542.328066497" ySize="56503.0941987495" />
      <NODATA>127</NODATA>
    </ComplexSource>
    <ComplexSource>
      <SourceFilename relativeToVRT="0">./BulkDownload/High_Tide_Flooding/Major/NJ_Middle_NOS_MAJ.tif</SourceFilename>
      <SourceBand>1</SourceBand>
      <SourceProperties RasterXSize="43704" RasterYSize="39040" DataType="Byte" BlockXSize="512" BlockYSize="512" />
      <SrcRect xOff="0" yOff="0" xSize="43704" ySize="39040" />
      <DstRect xOff="1842312.87489644" yOff="214265.806401361" xSize="43709.4879082086" ySize="39044.9022500563" />
      <NODATA>127</NODATA>
    </ComplexSource>
    <ComplexSource>
      <SourceFilename relativeToVRT="0">./BulkDownload/High_Tide_Flooding/Major/NJ_Northern_NOS_MAJ.tif</SourceFilename>
      <SourceBand>1</SourceBand>
      <SourceProperties RasterXSize="33615" RasterYSize="35384" DataType="Byte" BlockXSize="512" BlockYSize="512" />
      <SrcRect xOff="0" yOff="0" xSize="33615" ySize="35384" />
      <DstRect xOff="1852073.10796208" yOff="189127.190391508" xSize="33619.2210331874" ySize="35388.443166393" />
      <NODATA>127</NODATA>
    </ComplexSource>
    <ComplexSource>
      <SourceFilename relativeToVRT="0">./BulkDownload/High_Tide_Flooding/Major/NJ_Southern_NOS_MAJ.tif</SourceFilename>
      <SourceBand>1</SourceBand>
      <SourceProperties RasterXSize="49776" RasterYSize="44875" DataType="Byte" BlockXSize="512" BlockYSize="512" />
      <SrcRect xOff="0" yOff="0" xSize="49776" ySize="44875" />
      <DstRect xOff="1823362.05142346" yOff="233908.491761629" xSize="49782.2503688219" ySize="44880.6349505962" />
      <NODATA>127</NODATA>
    </ComplexSource>
    <ComplexSource>
      <SourceFilename relativeToVRT="0">./BulkDownload/High_Tide_Flooding/Major/NY_Metro_NOS_MAJ.tif</SourceFilename>
      <SourceBand>1</SourceBand>
      <SourceProperties RasterXSize="31106" RasterYSize="31916" DataType="Byte" BlockXSize="512" BlockYSize="512" />
      <SrcRect xOff="0" yOff="0" xSize="31106" ySize="31916" />
      <DstRect xOff="1872054.52462854" yOff="184198.972290377" xSize="31109.9059782337" ySize="31920.0076898769" />
      <NODATA>127</NODATA>
    </ComplexSource>
    <ComplexSource>
      <SourceFilename relativeToVRT="0">./BulkDownload/High_Tide_Flooding/Major/NY_Suffolk_NOS_MAJ.tif</SourceFilename>
      <SourceBand>1</SourceBand>
      <SourceProperties RasterXSize="64001" RasterYSize="28866" DataType="Byte" BlockXSize="512" BlockYSize="512" />
      <SrcRect xOff="0" yOff="0" xSize="64001" ySize="28866" />
      <DstRect xOff="1900228.48938583" yOff="185137.94751796" xSize="64009.0366010719" ySize="28869.6247015912" />
      <NODATA>127</NODATA>
    </ComplexSource>
    <ComplexSource>
      <SourceFilename relativeToVRT="0">./BulkDownload/High_Tide_Flooding/Major/OR_MFR_NOS_MAJ.tif</SourceFilename>
      <SourceBand>1</SourceBand>
      <SourceProperties RasterXSize="101383" RasterYSize="72414" DataType="Byte" BlockXSize="512" BlockYSize="512" />
      <SrcRect xOff="0" yOff="0" xSize="101383" ySize="72414" />
      <DstRect xOff="0" yOff="87358.673441777" xSize="101395.730656185" ySize="72423.093020891" />
      <NODATA>127</NODATA>
    </ComplexSource>
    <ComplexSource>
      <SourceFilename relativeToVRT="0">./BulkDownload/High_Tide_Flooding/Major/OR_PQR1_NOS_MAJ.tif</SourceFilename>
      <SourceBand>1</SourceBand>
      <SourceProperties RasterXSize="23025" RasterYSize="71370" DataType="Byte" BlockXSize="512" BlockYSize="512" />
      <SrcRect xOff="0" yOff="0" xSize="23025" ySize="71370" />
      <DstRect xOff="17564.3180500878" yOff="19135.2738967767" xSize="23027.8912476319" ySize="71378.9619258843" />
      <NODATA>127</NODATA>
    </ComplexSource>
    <ComplexSource>
      <SourceFilename relativeToVRT="0">./BulkDownload/High_Tide_Flooding/Major/OR_PQR2_NOS_MAJ.tif</SourceFilename>
      <SourceBand>1</SourceBand>
      <SourceProperties RasterXSize="86894" RasterYSize="32224" DataType="Byte" BlockXSize="512" BlockYSize="512" />
      <SrcRect xOff="0" yOff="0" xSize="86894" ySize="32224" />
      <DstRect xOff="20185.6702063864" yOff="0" xSize="86904.9112734734" ySize="32228.0463654153" />
      <NODATA>127</NODATA>
    </ComplexSource>
    <ComplexSource>
      <SourceFilename relativeToVRT="0">./BulkDownload/High_Tide_Flooding/Major/PA_NOS_MAJ.tif</SourceFilename>
      <SourceBand>1</SourceBand>
      <SourceProperties RasterXSize="32742" RasterYSize="20105" DataType="Byte" BlockXSize="512" BlockYSize="512" />
      <SrcRect xOff="0" yOff="0" xSize="32742" ySize="20105" />
      <DstRect xOff="1822234.71024726" yOff="221082.855927116" xSize="32746.1114106387" ySize="20107.5245834369" />
      <NODATA>127</NODATA>
    </ComplexSource>
    <ComplexSource>
      <SourceFilename relativeToVRT="0">./BulkDownload/High_Tide_Flooding/Major/PR_HTF_NOS_Maj.tif</SourceFilename>
      <SourceBand>1</SourceBand>
      <SourceProperties RasterXSize="105452" RasterYSize="27559" DataType="Byte" BlockXSize="512" BlockYSize="512" />
      <SrcRect xOff="0" yOff="0" xSize="105452" ySize="27559" />
      <DstRect xOff="2104045.56388303" yOff="1029094.40680733" xSize="105465.241600229" ySize="27562.4605816932" />
      <NODATA>127</NODATA>
    </ComplexSource>
    <ComplexSource>
      <SourceFilename relativeToVRT="0">./BulkDownload/High_Tide_Flooding/Major/SC_Central_NOS_MAJ.tif</SourceFilename>
      <SourceBand>1</SourceBand>
      <SourceProperties RasterXSize="56857" RasterYSize="38086" DataType="Byte" BlockXSize="512" BlockYSize="512" />
      <SrcRect xOff="0" yOff="0" xSize="56857" ySize="38086" />
      <DstRect xOff="1629615.70697683" yOff="474724.23674947" xSize="56864.1395294944" ySize="38090.7824563433" />
      <NODATA>127</NODATA>
    </ComplexSource>
    <ComplexSource>
      <SourceFilename relativeToVRT="0">./BulkDownload/High_Tide_Flooding/Major/SC_North_NOS_MAJ.tif</SourceFilename>
      <SourceBand>1</SourceBand>
      <SourceProperties RasterXSize="59540" RasterYSize="46739" DataType="Byte" BlockXSize="512" BlockYSize="512" />
      <SrcRect xOff="0" yOff="0" xSize="59540" ySize="46739" />
      <DstRect xOff="1655232.25400433" yOff="445019.925860982" xSize="59547.4764336155" ySize="46744.8690129451" />
      <NODATA>127</NODATA>
    </ComplexSource>
    <ComplexSource>
      <SourceFilename relativeToVRT="0">./BulkDownload/High_Tide_Flooding/Major/SC_South_NOS_MAJ.tif</SourceFilename>
      <SourceBand>1</SourceBand>
      <SourceProperties RasterXSize="44753" RasterYSize="42656" DataType="Byte" BlockXSize="512" BlockYSize="512" />
      <SrcRect xOff="0" yOff="0" xSize="44753" ySize="42656" />
      <DstRect xOff="1606029.85598856" yOff="486821.770714778" xSize="44758.6196310649" ySize="42661.3563109221" />
      <NODATA>127</NODATA>
    </ComplexSource>
    <ComplexSource>
      <SourceFilename relativeToVRT="0">./BulkDownload/High_Tide_Flooding/Major/TX_Central_NOS_MAJ.tif</SourceFilename>
      <SourceBand>1</SourceBand>
      <SourceProperties RasterXSize="67214" RasterYSize="46118" DataType="Byte" BlockXSize="512" BlockYSize="512" />
      <SrcRect xOff="0" yOff="0" xSize="67214" ySize="46118" />
      <DstRect xOff="1016765.80695724" yOff="632197.844046491" xSize="67222.4400572565" ySize="46123.7910340189" />
      <NODATA>127</NODATA>
    </ComplexSource>
    <ComplexSource>
      <SourceFilename relativeToVRT="0">./BulkDownload/High_Tide_Flooding/Major/TX_North1_NOS_MAJ.tif</SourceFilename>
      <SourceBand>1</SourceBand>
      <SourceProperties RasterXSize="45518" RasterYSize="62416" DataType="Byte" BlockXSize="512" BlockYSize="512" />
      <SrcRect xOff="0" yOff="0" xSize="45518" ySize="62416" />
      <DstRect xOff="1112258.91613529" yOff="560843.273718017" xSize="45523.7156920611" ySize="62423.8375727336" />
      <NODATA>127</NODATA>
    </ComplexSource>
    <ComplexSource>
      <SourceFilename relativeToVRT="0">./BulkDownload/High_Tide_Flooding/Major/TX_North2_NOS_MAJ.tif</SourceFilename>
      <SourceBand>1</SourceBand>
      <SourceProperties RasterXSize="59722" RasterYSize="64054" DataType="Byte" BlockXSize="512" BlockYSize="512" />
      <SrcRect xOff="0" yOff="0" xSize="59722" ySize="64054" />
      <DstRect xOff="1066684.96489211" yOff="586563.092627972" xSize="59729.4992873426" ySize="64062.0432562782" />
      <NODATA>127</NODATA>
    </ComplexSource>
    <ComplexSource>
      <SourceFilename relativeToVRT="0">./BulkDownload/High_Tide_Flooding/Major/TX_South1_NOS_MAJ.tif</SourceFilename>
      <SourceBand>1</SourceBand>
      <SourceProperties RasterXSize="43825" RasterYSize="37043" DataType="Byte" BlockXSize="512" BlockYSize="512" />
      <SrcRect xOff="0" yOff="0" xSize="43825" ySize="37043" />
      <DstRect xOff="993154.992202243" yOff="658511.257817098" xSize="43830.5031021699" ySize="37047.6514869066" />
      <NODATA>127</NODATA>
    </ComplexSource>
    <ComplexSource>
      <SourceFilename relativeToVRT="0">./BulkDownload/High_Tide_Flooding/Major/TX_South2_NOS_MAJ.tif</SourceFilename>
      <SourceBand>1</SourceBand>
      <SourceProperties RasterXSize="36085" RasterYSize="66805" DataType="Byte" BlockXSize="512" BlockYSize="512" />
      <SrcRect xOff="0" yOff="0" xSize="36085" ySize="66805" />
      <DstRect xOff="988788.756807786" yOff="692612.592210919" xSize="36089.5311909139" ySize="66813.3886991551" />
      <NODATA>127</NODATA>
    </ComplexSource>
    <ComplexSource>
      <SourceFilename relativeToVRT="0">./BulkDownload/High_Tide_Flooding/Major/USVI_NOS_MAJ.tif</SourceFilename>
      <SourceBand>1</SourceBand>
      <SourceProperties RasterXSize="23301" RasterYSize="31432" DataType="Byte" BlockXSize="512" BlockYSize="512" />
      <SrcRect xOff="0" yOff="0" xSize="23301" ySize="31432" />
      <DstRect xOff="2210537.34266302" yOff="1032916.81409725" xSize="23303.925904933" ySize="31435.9469140318" />
      <NODATA>127</NODATA>
    </ComplexSource>
    <ComplexSource>
