<VRTDataset rasterXSize="2079327" rasterYSize="797459">
  <SRS dataAxisToSRSAxisMapping="2,1">GEOGCS["NAD83(2011)",DATUM["NAD83_National_Spatial_Reference_System_2011",SPHEROID["GRS 1980",6378137,298.257222101,AUTHORITY["EPSG","7019"]],AUTHORITY["EPSG","1116"]],PRIMEM["Greenwich",0,AUTHORITY["EPSG","8901"]],UNIT["degree",0.0174532925199433,AUTHORITY["EPSG","9122"]],AXIS["Latitude",NORTH],AXIS["Longitude",EAST],AUTHORITY["EPSG","6318"]]</SRS>
  <GeoTransform> -1.2486186052675569e+02,  2.7883070512453109e-05,  0.0000000000000000e+00,  4.9003393876544699e+01,  0.0000000000000000e+00, -2.7883070512453089e-05</GeoTransform>
  <VRTRasterBand dataType="Byte" band="1">
    <NoDataValue>255</NoDataValue>
    <ColorInterp>Gray</ColorInterp>
    <ComplexSource>
      <SourceFilename relativeToVRT="0">./BulkDownload/High_Tide_Flooding/Major/CA_Central_HTF_NOS_Major_2024.tif</SourceFilename>
      <SourceBand>1</SourceBand>
      <SourceProperties RasterXSize="105657" RasterYSize="88709" DataType="Byte" BlockXSize="512" BlockYSize="512" />
      <SrcRect xOff="0" yOff="0" xSize="105657" ySize="88709" />
      <DstRect xOff="91204.2692910152" yOff="420188.810799314" xSize="102119.274774806" ySize="85738.7465667043" />
      <NODATA>255</NODATA>
    </ComplexSource>
    <ComplexSource>
      <SourceFilename relativeToVRT="0">./BulkDownload/High_Tide_Flooding/Major/CA_SFBay_HTF_NOS_Major_2025.tif</SourceFilename>
      <SourceBand>1</SourceBand>
      <SourceProperties RasterXSize="90042" RasterYSize="73171" DataType="Byte" BlockXSize="512" BlockYSize="512" />
      <SrcRect xOff="0" yOff="0" xSize="90042" ySize="73171" />
      <DstRect xOff="44048.6793634469" yOff="363597.951775781" xSize="87027.1135776435" ySize="70721.0071698737" />
      <NODATA>255</NODATA>
    </ComplexSource>
    <ComplexSource>
      <SourceFilename relativeToVRT="0">./BulkDownload/High_Tide_Flooding/Major/CA_South_HTF_NOS_Major_2024.tif</SourceFilename>
      <SourceBand>1</SourceBand>
      <SourceProperties RasterXSize="172751" RasterYSize="96017" DataType="Byte" BlockXSize="512" BlockYSize="512" />
      <SrcRect xOff="0" yOff="0" xSize="172751" ySize="96017" />
      <DstRect xOff="147988.884278446" yOff="498074.605838199" xSize="166966.75881979" ySize="92802.0519800162" />
      <NODATA>255</NODATA>
    </ComplexSource>
    <ComplexSource>
      <SourceFilename relativeToVRT="0">./BulkDownload/High_Tide_Flooding/Major/CA_Delta_HTF_NOS_Major_2025.tif</SourceFilename>
      <SourceBand>1</SourceBand>
      <SourceProperties RasterXSize="75586" RasterYSize="80621" DataType="Byte" BlockXSize="512" BlockYSize="512" />
      <SrcRect xOff="0" yOff="0" xSize="75586" ySize="80621" />
      <DstRect xOff="87460.2285137759" yOff="347767.618033111" xSize="73055.1454530082" ySize="77921.5579811997" />
      <NODATA>255</NODATA>
    </ComplexSource>
    <ComplexSource>
      <SourceFilename relativeToVRT="0">./BulkDownload/High_Tide_Flooding/Major/CA_North2_HTF_NOS_Major_2025.tif</SourceFilename>
      <SourceBand>1</SourceBand>
      <SourceProperties RasterXSize="48827" RasterYSize="46240" DataType="Byte" BlockXSize="512" BlockYSize="512" />
      <SrcRect xOff="0" yOff="0" xSize="48827" ySize="46240" />
      <DstRect xOff="26030.1669138182" yOff="322777.414288206" xSize="47192.1200623667" ySize="44691.7408745947" />
      <NODATA>255</NODATA>
    </ComplexSource>
    <ComplexSource>
      <SourceFilename relativeToVRT="0">./BulkDownload/High_Tide_Flooding/Major/FL_West_1_HTF_Maj_2023.tif</SourceFilename>
      <SourceBand>1</SourceBand>
      <SourceProperties RasterXSize="50045" RasterYSize="63514" DataType="Byte" BlockXSize="512" BlockYSize="512" />
      <SrcRect xOff="0" yOff="0" xSize="50045" ySize="63513.7071490245" />
      <DstRect xOff="1504566.42623949" yOff="736071.929457416" xSize="48369.3376312517" ySize="61387.0705425839" />
      <NODATA>127</NODATA>
    </ComplexSource>
    <ComplexSource>
      <SourceFilename relativeToVRT="0">./BulkDownload/High_Tide_Flooding/Major/GA_North_HTF_Maj_2023.tif</SourceFilename>
      <SourceBand>1</SourceBand>
      <SourceProperties RasterXSize="45733" RasterYSize="48484" DataType="Byte" BlockXSize="512" BlockYSize="512" />
      <SrcRect xOff="0" yOff="0" xSize="45733" ySize="48484" />
      <DstRect xOff="1537815.1366925" yOff="588423.568750498" xSize="44201.7168126697" ySize="46860.6047699796" />
      <NODATA>127</NODATA>
    </ComplexSource>
    <ComplexSource>
      <SourceFilename relativeToVRT="0">./BulkDownload/High_Tide_Flooding/Major/GA_South_HTF_Maj_2023.tif</SourceFilename>
      <SourceBand>1</SourceBand>
      <SourceProperties RasterXSize="46011" RasterYSize="54747" DataType="Byte" BlockXSize="512" BlockYSize="512" />
      <SrcRect xOff="0" yOff="0" xSize="46011" ySize="54747" />
      <DstRect xOff="1522083.99627897" yOff="615902.51876326" xSize="44470.4085073741" ySize="52913.9000359308" />
      <NODATA>127</NODATA>
    </ComplexSource>
    <ComplexSource>
      <SourceFilename relativeToVRT="0">./BulkDownload/High_Tide_Flooding/Major/MA_HTF_NOS_Major_2024.tif</SourceFilename>
      <SourceBand>1</SourceBand>
      <SourceProperties RasterXSize="75782" RasterYSize="63138" DataType="Byte" BlockXSize="512" BlockYSize="512" />
      <SrcRect xOff="0" yOff="0" xSize="75782" ySize="63138" />
      <DstRect xOff="1899429.25755953" yOff="219334.030788965" xSize="73244.5827629436" ySize="61023.9432383249" />
      <NODATA>255</NODATA>
    </ComplexSource>
    <ComplexSource>
      <SourceFilename relativeToVRT="0">./BulkDownload/High_Tide_Flooding/Major/ME_East_HTF_NOS_Major_2024.tif</SourceFilename>
      <SourceBand>1</SourceBand>
      <SourceProperties RasterXSize="88020" RasterYSize="43242" DataType="Byte" BlockXSize="512" BlockYSize="512" />
      <SrcRect xOff="0" yOff="0" xSize="88019.684712776" ySize="43242" />
      <DstRect xOff="1994254.48829916" yOff="136659.027231945" xSize="85072.5117008411" ySize="41794.1232460903" />
      <NODATA>255</NODATA>
    </ComplexSource>
    <ComplexSource>
      <SourceFilename relativeToVRT="0">./BulkDownload/High_Tide_Flooding/Major/ME_West_HTF_NOS_Major_2024.tif</SourceFilename>
      <SourceBand>1</SourceBand>
      <SourceProperties RasterXSize="87637" RasterYSize="63494" DataType="Byte" BlockXSize="512" BlockYSize="512" />
      <SrcRect xOff="0" yOff="0" xSize="87637" ySize="63494" />
      <DstRect xOff="1937347.80400389" yOff="156942.752455364" xSize="84702.6404633834" ySize="61368.023250249" />
      <NODATA>255</NODATA>
    </ComplexSource>
    <ComplexSource>
      <SourceFilename relativeToVRT="0">./BulkDownload/High_Tide_Flooding/Major/NH_HTF_NOS_Major_2024.tif</SourceFilename>
      <SourceBand>1</SourceBand>
      <SourceProperties RasterXSize="32604" RasterYSize="27773" DataType="Byte" BlockXSize="512" BlockYSize="512" />
      <SrcRect xOff="0" yOff="0" xSize="32604" ySize="27773" />
      <DstRect xOff="1915475.05057464" yOff="197906.039991988" xSize="31512.316597649" ySize="26843.0735144924" />
      <NODATA>255</NODATA>
    </ComplexSource>
    <ComplexSource>
      <SourceFilename relativeToVRT="0">./BulkDownload/High_Tide_Flooding/Major/RI_HTF_NOS_Major_2024.tif</SourceFilename>
      <SourceBand>1</SourceBand>
      <SourceProperties RasterXSize="30467" RasterYSize="34315" DataType="Byte" BlockXSize="512" BlockYSize="512" />
      <SrcRect xOff="0" yOff="0" xSize="30467" ySize="34315" />
      <DstRect xOff="1899124.05844496" yOff="250463.616571373" xSize="29446.8700092189" ySize="33166.0269920355" />
      <NODATA>255</NODATA>
    </ComplexSource>
    <ComplexSource>
      <SourceFilename relativeToVRT="0">./BulkDownload/High_Tide_Flooding/Major/WA_PacificCoast_HTF_NOS_Major_Redacted_2024.tif</SourceFilename>
      <SourceBand>1</SourceBand>
      <SourceProperties RasterXSize="51219" RasterYSize="52162" DataType="Byte" BlockXSize="512" BlockYSize="512" />
      <SrcRect xOff="0" yOff="0" xSize="51219" ySize="52162" />
      <DstRect xOff="0" yOff="17549.1015381962" xSize="61160.0565544438" ySize="62286.0827035455" />
      <NODATA>255</NODATA>
    </ComplexSource>
    <ComplexSource>
      <SourceFilename relativeToVRT="0">./BulkDownload/High_Tide_Flooding/Major/WA_PugetSound_NE_HTF_NOS_Major_2024.tif</SourceFilename>
      <SourceBand>1</SourceBand>
      <SourceProperties RasterXSize="99092" RasterYSize="45604" DataType="Byte" BlockXSize="512" BlockYSize="512" />
      <SrcRect xOff="0" yOff="0" xSize="99092" ySize="45604" />
      <DstRect xOff="55161.6109864508" yOff="0" xSize="95774.0914088523" ySize="44077.0361341914" />
      <NODATA>255</NODATA>
    </ComplexSource>
    <ComplexSource>
      <SourceFilename relativeToVRT="0">./BulkDownload/High_Tide_Flooding/Major/WA_PugetSound_SE_HTF_NOS_Major_2024.tif</SourceFilename>
      <SourceBand>1</SourceBand>
      <SourceProperties RasterXSize="64737" RasterYSize="32567" DataType="Byte" BlockXSize="512" BlockYSize="512" />
      <SrcRect xOff="0" yOff="0" xSize="64737" ySize="32567" />
      <DstRect xOff="59380.7976016856" yOff="43293.1566294265" xSize="76903.5749244843" ySize="38687.5932552587" />
      <NODATA>255</NODATA>
    </ComplexSource>
    <ComplexSource>
      <SourceFilename relativeToVRT="0">./BulkDownload/High_Tide_Flooding/Major/WA_PugetSound_West_HTF_NOS_Major_2024.tif</SourceFilename>
      <SourceBand>1</SourceBand>
      <SourceProperties RasterXSize="42544" RasterYSize="39033" DataType="Byte" BlockXSize="512" BlockYSize="512" />
      <SrcRect xOff="0" yOff="0" xSize="42544" ySize="39033" />
      <DstRect xOff="37336.3533703439" yOff="22667.9247750579" xSize="50507.6060581296" ySize="46339.3989109386" />
      <NODATA>255</NODATA>
    </ComplexSource>
    <ComplexSource>
      <SourceFilename relativeToVRT="0">./BulkDownload/High_Tide_Flooding/Major/WA_South_HTF_NOS_Major_2024.tif</SourceFilename>
      <SourceBand>1</SourceBand>
      <SourceProperties RasterXSize="160209" RasterYSize="46481" DataType="Byte" BlockXSize="512" BlockYSize="512" />
      <SrcRect xOff="0" yOff="0" xSize="160209" ySize="46481" />
      <DstRect xOff="24364.0863954017" yOff="79191.5247420142" xSize="154844.704017688" ySize="44924.6714444642" />
      <NODATA>255</NODATA>
    </ComplexSource>
    <ComplexSource>
      <SourceFilename relativeToVRT="0">./BulkDownload/High_Tide_Flooding/Major/FL_Pan_East_HTF_NOS_Major_2025.tif</SourceFilename>
      <SourceBand>1</SourceBand>
      <SourceProperties RasterXSize="88978" RasterYSize="48105" DataType="Byte" BlockXSize="512" BlockYSize="512" />
      <SrcRect xOff="0" yOff="0" xSize="88978" ySize="48105" />
      <DstRect xOff="1393708.86586207" yOff="651719.561832887" xSize="85998.7396094221" ySize="46494.2948696447" />
      <NODATA>255</NODATA>
    </ComplexSource>
    <ComplexSource>
      <SourceFilename relativeToVRT="0">./BulkDownload/High_Tide_Flooding/Major/FL_Pan_West_HTF_NOS_Major_2025.tif</SourceFilename>
      <SourceBand>1</SourceBand>
      <SourceProperties RasterXSize="66506" RasterYSize="29252" DataType="Byte" BlockXSize="512" BlockYSize="512" />
      <SrcRect xOff="0" yOff="0" xSize="66506" ySize="29252" />
      <DstRect xOff="1335070.81860318" yOff="645656.955831174" xSize="64279.1721151772" ySize="28272.5519909958" />
      <NODATA>255</NODATA>
    </ComplexSource>
  </VRTRasterBand>
</VRTDataset>
