<VRTDataset rasterXSize="5321" rasterYSize="5224">
  <SRS dataAxisToSRSAxisMapping="1,2">PROJCS["NAD83(PA11) / UTM zone 2S",GEOGCS["NAD83(PA11)",DATUM["NAD83_National_Spatial_Reference_System_PA11",SPHEROID["GRS 1980",6378137,298.257222101,AUTHORITY["EPSG","7019"]],AUTHORITY["EPSG","1117"]],PRIMEM["Greenwich",0,AUTHORITY["EPSG","8901"]],UNIT["degree",0.0174532925199433,AUTHORITY["EPSG","9122"]],AUTHORITY["EPSG","6322"]],PROJECTION["Transverse_Mercator"],PARAMETER["latitude_of_origin",0],PARAMETER["central_meridian",-171],PARAMETER["scale_factor",0.9996],PARAMETER["false_easting",500000],PARAMETER["false_northing",10000000],UNIT["metre",1,AUTHORITY["EPSG","9001"]],AXIS["Easting",EAST],AXIS["Northing",NORTH],AUTHORITY["EPSG","6636"]]</SRS>
  <GeoTransform>  7.9862840324846189e+05,  3.0000000000000000e+00,  0.0000000000000000e+00,  8.3979869124633707e+06,  0.0000000000000000e+00, -3.0000000000000000e+00</GeoTransform>
  <VRTRasterBand dataType="Byte" band="1">
    <NoDataValue>255</NoDataValue>
    <ColorInterp>Gray</ColorInterp>
    <ComplexSource>
      <SourceFilename relativeToVRT="0">./BulkDownload/High_Tide_Flooding/Major/AS_RoseAtoll_HTF_NOS_Major_2024.tif</SourceFilename>
      <SourceBand>1</SourceBand>
      <SourceProperties RasterXSize="5321" RasterYSize="5224" DataType="Byte" BlockXSize="512" BlockYSize="512" />
      <SrcRect xOff="0" yOff="0" xSize="5321" ySize="5224" />
      <DstRect xOff="0" yOff="0" xSize="5321" ySize="5224" />
      <NODATA>255</NODATA>
    </ComplexSource>
  </VRTRasterBand>
  <OverviewList resampling="nearest">2 4 8 16 32</OverviewList>
</VRTDataset>
