<VRTDataset rasterXSize="179017" rasterYSize="126200">
  <SRS dataAxisToSRSAxisMapping="1,2">PROJCS["NAD83 / UTM zone 4N",GEOGCS["NAD83",DATUM["North_American_Datum_1983",SPHEROID["GRS 1980",6378137,298.257222101004,AUTHORITY["EPSG","7019"]],AUTHORITY["EPSG","6269"]],PRIMEM["Greenwich",0],UNIT["degree",0.0174532925199433,AUTHORITY["EPSG","9122"]],AUTHORITY["EPSG","4269"]],PROJECTION["Transverse_Mercator"],PARAMETER["latitude_of_origin",0],PARAMETER["central_meridian",-159],PARAMETER["scale_factor",0.9996],PARAMETER["false_easting",500000],PARAMETER["false_northing",0],UNIT["metre",1,AUTHORITY["EPSG","9001"]],AXIS["Easting",EAST],AXIS["Northing",NORTH],AUTHORITY["EPSG","26904"]]</SRS>
  <GeoTransform>  4.1281746369860542e+05,  3.0000000000000000e+00,  0.0000000000000000e+00,  2.4643962121436624e+06,  0.0000000000000000e+00, -3.0000000000000000e+00</GeoTransform>
  <VRTRasterBand dataType="Byte" band="1">
    <NoDataValue>255</NoDataValue>
    <ColorInterp>Gray</ColorInterp>
    <ComplexSource>
      <SourceFilename relativeToVRT="0">./BulkDownload/High_Tide_Flooding/Minor/HI_Hawaii_HTF_Minor_23PacUpdate.tif</SourceFilename>
      <SourceBand>1</SourceBand>
      <SourceProperties RasterXSize="50049" RasterYSize="55736" DataType="Byte" BlockXSize="512" BlockYSize="512" />
      <SrcRect xOff="0" yOff="0" xSize="50048.9902389477" ySize="55736" />
      <DstRect xOff="128968.009761052" yOff="70463.7674318198" xSize="50048.9902389477" ySize="55736" />
      <NODATA>255</NODATA>
    </ComplexSource>
    <ComplexSource>
      <SourceFilename relativeToVRT="0">./BulkDownload/High_Tide_Flooding/Minor/HI_Kauai_HTF_Minor_23PacUpdate.tif</SourceFilename>
      <SourceBand>1</SourceBand>
      <SourceProperties RasterXSize="20888" RasterYSize="17288" DataType="Byte" BlockXSize="512" BlockYSize="512" />
      <SrcRect xOff="0" yOff="0" xSize="20888" ySize="17288" />
      <DstRect xOff="0" yOff="0" xSize="20888" ySize="17288" />
      <NODATA>255</NODATA>
    </ComplexSource>
    <ComplexSource>
      <SourceFilename relativeToVRT="0">./BulkDownload/High_Tide_Flooding/Minor/HI_Lanai_HTF_Minor_23PacUpdate.tif</SourceFilename>
      <SourceBand>1</SourceBand>
      <SourceProperties RasterXSize="12939" RasterYSize="11317" DataType="Byte" BlockXSize="512" BlockYSize="512" />
      <SrcRect xOff="0" yOff="0" xSize="12939" ySize="11317" />
      <DstRect xOff="94266.6686744977" yOff="47565.0366804735" xSize="12939" ySize="11317" />
      <NODATA>255</NODATA>
    </ComplexSource>
    <ComplexSource>
      <SourceFilename relativeToVRT="0">./BulkDownload/High_Tide_Flooding/Minor/HI_Maui_HTF_Minor_23PacUpdate.tif</SourceFilename>
      <SourceBand>1</SourceBand>
      <SourceProperties RasterXSize="29414" RasterYSize="21405" DataType="Byte" BlockXSize="512" BlockYSize="512" />
      <SrcRect xOff="0" yOff="0" xSize="29414" ySize="21405" />
      <DstRect xOff="106754.72305622" yOff="43297.8940629172" xSize="29414" ySize="21405" />
      <NODATA>255</NODATA>
    </ComplexSource>
    <ComplexSource>
      <SourceFilename relativeToVRT="0">./BulkDownload/High_Tide_Flooding/Minor/HI_Molokai_HTF_Minor_23PacUpdate.tif</SourceFilename>
      <SourceBand>1</SourceBand>
      <SourceProperties RasterXSize="24749" RasterYSize="10737" DataType="Byte" BlockXSize="512" BlockYSize="512" />
      <SrcRect xOff="0" yOff="0" xSize="24749" ySize="10737" />
      <DstRect xOff="85585.8108534687" yOff="36649.6445340826" xSize="24749" ySize="10737" />
      <NODATA>255</NODATA>
    </ComplexSource>
  </VRTRasterBand>
  <OverviewList resampling="nearest">2 4 8 16 32</OverviewList>
</VRTDataset>
