<VRTDataset rasterXSize="2067113" rasterYSize="694112">
  <SRS dataAxisToSRSAxisMapping="2,1">GEOGCS["NAD83(2011)",DATUM["NAD83_National_Spatial_Reference_System_2011",SPHEROID["GRS 1980",6378137,298.257222101,AUTHORITY["EPSG","7019"]],AUTHORITY["EPSG","1116"]],PRIMEM["Greenwich",0,AUTHORITY["EPSG","8901"]],UNIT["degree",0.0174532925199433,AUTHORITY["EPSG","9122"]],AXIS["Latitude",NORTH],AXIS["Longitude",EAST],AUTHORITY["EPSG","6318"]]</SRS>
  <GeoTransform> -1.2486186052675569e+02,  2.8047825569312051e-05,  0.0000000000000000e+00,  4.9003393876544699e+01,  0.0000000000000000e+00, -2.8047825569312024e-05</GeoTransform>
  <VRTRasterBand dataType="Byte" band="1">
    <NoDataValue>255</NoDataValue>
    <ColorInterp>Gray</ColorInterp>
    <ComplexSource>
      <SourceFilename relativeToVRT="0">./BulkDownload/High_Tide_Flooding/Minor/CA_Central_HTF_NOS_Minor_2024.tif</SourceFilename>
      <SourceBand>1</SourceBand>
      <SourceProperties RasterXSize="105657" RasterYSize="88709" DataType="Byte" BlockXSize="512" BlockYSize="512" />
      <SrcRect xOff="0" yOff="0" xSize="105657" ySize="88709" />
      <DstRect xOff="90668.5284887314" yOff="417720.589822838" xSize="101519.418401615" ySize="85235.11065986" />
      <NODATA>255</NODATA>
    </ComplexSource>
    <ComplexSource>
      <SourceFilename relativeToVRT="0">./BulkDownload/High_Tide_Flooding/Minor/CA_Delta_HTF_NOS_Minor_2025.tif</SourceFilename>
      <SourceBand>1</SourceBand>
      <SourceProperties RasterXSize="75586" RasterYSize="80621" DataType="Byte" BlockXSize="512" BlockYSize="512" />
      <SrcRect xOff="0" yOff="0" xSize="75586" ySize="80621" />
      <DstRect xOff="86946.480491275" yOff="345724.80464135" xSize="72626.0139820781" ySize="77463.8408336082" />
      <NODATA>255</NODATA>
    </ComplexSource>
    <ComplexSource>
      <SourceFilename relativeToVRT="0">./BulkDownload/High_Tide_Flooding/Minor/CA_SFBay_HTF_NOS_Minor_2025.tif</SourceFilename>
      <SourceBand>1</SourceBand>
      <SourceProperties RasterXSize="90042" RasterYSize="73171" DataType="Byte" BlockXSize="512" BlockYSize="512" />
      <SrcRect xOff="0" yOff="0" xSize="90042" ySize="73171" />
      <DstRect xOff="43789.9340765742" yOff="361462.149801736" xSize="86515.9097051608" ySize="70305.5866044327" />
      <NODATA>255</NODATA>
    </ComplexSource>
    <ComplexSource>
      <SourceFilename relativeToVRT="0">./BulkDownload/High_Tide_Flooding/Minor/CA_North2_HTF_NOS_Minor_2025.tif</SourceFilename>
      <SourceBand>1</SourceBand>
      <SourceProperties RasterXSize="48827" RasterYSize="46240" DataType="Byte" BlockXSize="512" BlockYSize="512" />
      <SrcRect xOff="0" yOff="0" xSize="48827" ySize="46240" />
      <DstRect xOff="25877.2637370876" yOff="320881.395250566" xSize="46914.9099661703" ySize="44429.2181955826" />
      <NODATA>255</NODATA>
    </ComplexSource>
    <ComplexSource>
      <SourceFilename relativeToVRT="0">./BulkDownload/High_Tide_Flooding/Minor/CA_South_HTF_NOS_Minor_2024.tif</SourceFilename>
      <SourceBand>1</SourceBand>
      <SourceProperties RasterXSize="172751" RasterYSize="96017" DataType="Byte" BlockXSize="512" BlockYSize="512" />
      <SrcRect xOff="0" yOff="0" xSize="172751" ySize="96017" />
      <DstRect xOff="147119.586336488" yOff="495148.87778837" xSize="165985.983401926" ySize="92256.9256809093" />
      <NODATA>255</NODATA>
    </ComplexSource>
    <ComplexSource>
      <SourceFilename relativeToVRT="0">./BulkDownload/High_Tide_Flooding/Minor/MA_HTF_NOS_Minor_2024.tif</SourceFilename>
      <SourceBand>1</SourceBand>
      <SourceProperties RasterXSize="75782" RasterYSize="63138" DataType="Byte" BlockXSize="512" BlockYSize="512" />
      <SrcRect xOff="0" yOff="0" xSize="75782" ySize="63138" />
      <DstRect xOff="1888271.86589095" yOff="218045.646039694" xSize="72814.3385228724" ySize="60665.4839626444" />
      <NODATA>255</NODATA>
    </ComplexSource>
    <ComplexSource>
      <SourceFilename relativeToVRT="0">./BulkDownload/High_Tide_Flooding/Minor/ME_East_HTF_NOS_Minor_2024.tif</SourceFilename>
      <SourceBand>1</SourceBand>
      <SourceProperties RasterXSize="88020" RasterYSize="43242" DataType="Byte" BlockXSize="512" BlockYSize="512" />
      <SrcRect xOff="0" yOff="0" xSize="88019.8144597151" ySize="43242" />
      <DstRect xOff="1982540.08602584" yOff="135856.281730471" xSize="84572.9139741645" ySize="41548.6213930228" />
      <NODATA>255</NODATA>
    </ComplexSource>
    <ComplexSource>
      <SourceFilename relativeToVRT="0">./BulkDownload/High_Tide_Flooding/Minor/ME_West_HTF_NOS_Minor_2024.tif</SourceFilename>
      <SourceBand>1</SourceBand>
      <SourceProperties RasterXSize="87637" RasterYSize="63494" DataType="Byte" BlockXSize="512" BlockYSize="512" />
      <SrcRect xOff="0" yOff="0" xSize="87637" ySize="63494" />
      <DstRect xOff="1925967.67591462" yOff="156020.858811934" xSize="84205.0907224539" ySize="61007.542822455" />
      <NODATA>255</NODATA>
    </ComplexSource>
    <ComplexSource>
      <SourceFilename relativeToVRT="0">./BulkDownload/High_Tide_Flooding/Minor/NH_HTF_NOS_Minor_2024.tif</SourceFilename>
      <SourceBand>1</SourceBand>
      <SourceProperties RasterXSize="32604" RasterYSize="27773" DataType="Byte" BlockXSize="512" BlockYSize="512" />
      <SrcRect xOff="0" yOff="0" xSize="32604" ySize="27773" />
      <DstRect xOff="1904223.40469966" yOff="196743.524887527" xSize="31327.2108574564" ySize="26685.3952626714" />
      <NODATA>255</NODATA>
    </ComplexSource>
    <ComplexSource>
      <SourceFilename relativeToVRT="0">./BulkDownload/High_Tide_Flooding/Minor/RI_HTF_NOS_Minor_2024.tif</SourceFilename>
      <SourceBand>1</SourceBand>
      <SourceProperties RasterXSize="30467" RasterYSize="34315" DataType="Byte" BlockXSize="512" BlockYSize="512" />
      <SrcRect xOff="0" yOff="0" xSize="30467" ySize="34315" />
      <DstRect xOff="1887968.45953915" yOff="248992.374271775" xSize="29273.8968591008" ySize="32971.2072314322" />
      <NODATA>255</NODATA>
    </ComplexSource>
    <ComplexSource>
      <SourceFilename relativeToVRT="0">./BulkDownload/High_Tide_Flooding/Minor/WA_PacificCoast_HTF_NOS_Minor_Redacted_2024.tif</SourceFilename>
      <SourceBand>1</SourceBand>
      <SourceProperties RasterXSize="51219" RasterYSize="52162" DataType="Byte" BlockXSize="512" BlockYSize="512" />
      <SrcRect xOff="0" yOff="0" xSize="51219" ySize="52162" />
      <DstRect xOff="0" yOff="17446.0167833868" xSize="60800.7977388104" ySize="61920.2095248214" />
      <NODATA>255</NODATA>
    </ComplexSource>
    <ComplexSource>
      <SourceFilename relativeToVRT="0">./BulkDownload/High_Tide_Flooding/Minor/WA_PugetSound_NE_HTF_NOS_Minor_2024.tif</SourceFilename>
      <SourceBand>1</SourceBand>
      <SourceProperties RasterXSize="99092" RasterYSize="45604" DataType="Byte" BlockXSize="512" BlockYSize="512" />
      <SrcRect xOff="0" yOff="0" xSize="99092" ySize="45604" />
      <DstRect xOff="54837.5874955015" yOff="0" xSize="95211.5071244954" ySize="43818.1242774945" />
      <NODATA>255</NODATA>
    </ComplexSource>
    <ComplexSource>
      <SourceFilename relativeToVRT="0">./BulkDownload/High_Tide_Flooding/Minor/WA_PugetSound_SE_HTF_NOS_Minor_2024.tif</SourceFilename>
      <SourceBand>1</SourceBand>
      <SourceProperties RasterXSize="64737" RasterYSize="32567" DataType="Byte" BlockXSize="512" BlockYSize="512" />
      <SrcRect xOff="0" yOff="0" xSize="64737" ySize="32567" />
      <DstRect xOff="59031.9902882267" yOff="43038.8493404548" xSize="76451.8374866559" ySize="38460.3393952133" />
      <NODATA>255</NODATA>
    </ComplexSource>
    <ComplexSource>
      <SourceFilename relativeToVRT="0">./BulkDownload/High_Tide_Flooding/Minor/WA_PugetSound_West_HTF_NOS_Minor_2024.tif</SourceFilename>
      <SourceBand>1</SourceBand>
      <SourceProperties RasterXSize="42544" RasterYSize="39033" DataType="Byte" BlockXSize="512" BlockYSize="512" />
      <SrcRect xOff="0" yOff="0" xSize="42544" ySize="39033" />
      <DstRect xOff="37117.0367959722" yOff="22534.7716639207" xSize="50210.9205454736" ySize="46067.1977635265" />
      <NODATA>255</NODATA>
    </ComplexSource>
    <ComplexSource>
      <SourceFilename relativeToVRT="0">./BulkDownload/High_Tide_Flooding/Minor/WA_South_HTF_NOS_Minor_2024.tif</SourceFilename>
      <SourceBand>1</SourceBand>
      <SourceProperties RasterXSize="160209" RasterYSize="46481" DataType="Byte" BlockXSize="512" BlockYSize="512" />
      <SrcRect xOff="0" yOff="0" xSize="160209" ySize="46481" />
      <DstRect xOff="24220.9699021295" yOff="78726.3477132504" xSize="153935.13447007" ySize="44660.7805136" />
      <NODATA>255</NODATA>
    </ComplexSource>
    <ComplexSource>
      <SourceFilename relativeToVRT="0">./BulkDownload/High_Tide_Flooding/Minor/FL_Pan_West_HTF_NOS_Minor_2025.tif</SourceFilename>
      <SourceBand>1</SourceBand>
      <SourceProperties RasterXSize="66506" RasterYSize="29252" DataType="Byte" BlockXSize="512" BlockYSize="512" />
      <SrcRect xOff="0" yOff="0" xSize="66506" ySize="29252" />
      <DstRect xOff="1327228.51125261" yOff="641864.317852645" xSize="63901.5913779286" ySize="28106.476874074" />
      <NODATA>255</NODATA>
    </ComplexSource>
    <ComplexSource>
      <SourceFilename relativeToVRT="0">./BulkDownload/High_Tide_Flooding/Minor/FL_Pan_East_HTF_NOS_Minor_2025.tif</SourceFilename>
      <SourceBand>1</SourceBand>
      <SourceProperties RasterXSize="88978" RasterYSize="48105" DataType="Byte" BlockXSize="512" BlockYSize="512" />
      <SrcRect xOff="0" yOff="0" xSize="88978" ySize="48104.4843071822" />
      <DstRect xOff="1385522.11416995" yOff="647891.311646415" xSize="85493.5764837055" ySize="46220.6883535851" />
      <NODATA>255</NODATA>
    </ComplexSource>
  </VRTRasterBand>
</VRTDataset>
