<VRTDataset rasterXSize="58234" rasterYSize="68106">
  <SRS dataAxisToSRSAxisMapping="2,1">GEOGCS["GCS_NAD_1983_2007",DATUM["NAD83_National_Spatial_Reference_System_2007",SPHEROID["GRS 1980",6378137,298.257222101,AUTHORITY["EPSG","7019"]],AUTHORITY["EPSG","6759"]],PRIMEM["Greenwich",0],UNIT["degree",0.0174532925199433,AUTHORITY["EPSG","9122"]],AXIS["Latitude",NORTH],AXIS["Longitude",EAST]]</SRS>
  <GeoTransform> -7.7324169819902707e+01,  2.6949458523585382e-05,  0.0000000000000000e+00,  3.9722984890515761e+01,  0.0000000000000000e+00, -2.6949458523585317e-05</GeoTransform>
  <VRTRasterBand dataType="Int8" band="1">
    <NoDataValue>127</NoDataValue>
    <ColorInterp>Gray</ColorInterp>
    <ComplexSource>
      <SourceFilename relativeToVRT="0">./BulkDownload/High_Tide_Flooding/Minor/MD_North_HTF_MINOR.tif</SourceFilename>
      <SourceBand>1</SourceBand>
      <SourceProperties RasterXSize="30270" RasterYSize="27139" DataType="Int8" BlockXSize="512" BlockYSize="512" />
      <SrcRect xOff="0" yOff="0" xSize="30270" ySize="27139" />
      <DstRect xOff="27964" yOff="0" xSize="30270" ySize="27139" />
      <NODATA>127</NODATA>
    </ComplexSource>
    <ComplexSource>
      <SourceFilename relativeToVRT="0">./BulkDownload/High_Tide_Flooding/Minor/MD_Southwest_HTF_MINOR.tif</SourceFilename>
      <SourceBand>1</SourceBand>
      <SourceProperties RasterXSize="41702" RasterYSize="30426" DataType="Int8" BlockXSize="512" BlockYSize="512" />
      <SrcRect xOff="0" yOff="0" xSize="41702" ySize="30426" />
      <DstRect xOff="0" yOff="37680" xSize="41702" ySize="30426" />
      <NODATA>127</NODATA>
    </ComplexSource>
    <ComplexSource>
      <SourceFilename relativeToVRT="0">./BulkDownload/High_Tide_Flooding/Minor/MD_West_HTF_MINOR.tif</SourceFilename>
      <SourceBand>1</SourceBand>
      <SourceProperties RasterXSize="33462" RasterYSize="52620" DataType="Int8" BlockXSize="512" BlockYSize="512" />
      <SrcRect xOff="0" yOff="0" xSize="33462" ySize="52620" />
      <DstRect xOff="5042" yOff="29" xSize="33462" ySize="52620" />
      <NODATA>127</NODATA>
    </ComplexSource>
  </VRTRasterBand>
  <OverviewList resampling="nearest">2 4 8 16 32</OverviewList>
</VRTDataset>
