<VRTDataset rasterXSize="58234" rasterYSize="68106" subClass="VRTWarpedDataset">
  <SRS dataAxisToSRSAxisMapping="2,1">GEOGCS["NAD83(2011)",DATUM["NAD83_National_Spatial_Reference_System_2011",SPHEROID["GRS 1980",6378137,298.257222101,AUTHORITY["EPSG","7019"]],AUTHORITY["EPSG","1116"]],PRIMEM["Greenwich",0,AUTHORITY["EPSG","8901"]],UNIT["degree",0.0174532925199433,AUTHORITY["EPSG","9122"]],AXIS["Latitude",NORTH],AXIS["Longitude",EAST],AUTHORITY["EPSG","6318"]]</SRS>
  <GeoTransform> -7.7324169784995689e+01,  2.6949458698749467e-05,  0.0000000000000000e+00,  3.9722984885741106e+01,  0.0000000000000000e+00, -2.6949458698749467e-05</GeoTransform>
  <VRTRasterBand dataType="Int8" band="1" subClass="VRTWarpedRasterBand">
    <NoDataValue>127</NoDataValue>
    <ColorInterp>Gray</ColorInterp>
  </VRTRasterBand>
  <BlockXSize>512</BlockXSize>
  <BlockYSize>128</BlockYSize>
  <GDALWarpOptions>
    <WarpMemoryLimit>6.71089e+07</WarpMemoryLimit>
    <ResampleAlg>NearestNeighbour</ResampleAlg>
    <WorkingDataType>Int16</WorkingDataType>
    <Option name="INIT_DEST">NO_DATA</Option>
    <Option name="ERROR_OUT_IF_EMPTY_SOURCE_WINDOW">FALSE</Option>
    <SourceDataset relativeToVRT="1">SLR_HTF_Minor_6_init.vrt</SourceDataset>
    <Transformer>
      <ApproxTransformer>
        <MaxError>0.125</MaxError>
        <BaseTransformer>
          <GenImgProjTransformer>
            <SrcGeoTransform>-77.324169819902707,2.6949458523585382e-05,0,39.722984890515761,0,-2.6949458523585317e-05</SrcGeoTransform>
            <SrcInvGeoTransform>2869229.0701214219,37106.496931091548,0,1473980.8169337227,0,-37106.496931091642</SrcInvGeoTransform>
            <DstGeoTransform>-77.324169784995689,2.6949458698749467e-05,0,39.722984885741106,0,-2.6949458698749467e-05</DstGeoTransform>
            <DstInvGeoTransform>2869229.0501769432,37106.496689909502,0,1473980.8071760775,0,-37106.496689909502</DstInvGeoTransform>
            <ReprojectTransformer>
              <ReprojectionTransformer>
                <SourceSRS>GEOGCS["GCS_NAD_1983_2007",DATUM["NAD83_National_Spatial_Reference_System_2007",SPHEROID["GRS 1980",6378137,298.257222101,AUTHORITY["EPSG","7019"]],AUTHORITY["EPSG","6759"]],PRIMEM["Greenwich",0],UNIT["degree",0.0174532925199433,AUTHORITY["EPSG","9122"]],AXIS["Latitude",NORTH],AXIS["Longitude",EAST]]</SourceSRS>
                <TargetSRS>GEOGCS["NAD83(2011)",DATUM["NAD83_National_Spatial_Reference_System_2011",SPHEROID["GRS 1980",6378137,298.257222101,AUTHORITY["EPSG","7019"]],AUTHORITY["EPSG","1116"]],PRIMEM["Greenwich",0,AUTHORITY["EPSG","8901"]],UNIT["degree",0.0174532925199433,AUTHORITY["EPSG","9122"]],AXIS["Latitude",NORTH],AXIS["Longitude",EAST],AUTHORITY["EPSG","6318"]]</TargetSRS>
                <Options>
                  <Option key="CENTER_LONG">-76.5395</Option>
                  <Option key="AREA_OF_INTEREST">-77.32416981990271,37.88756506830846,-75.75479505224024,39.72298489051576</Option>
                </Options>
              </ReprojectionTransformer>
            </ReprojectTransformer>
          </GenImgProjTransformer>
        </BaseTransformer>
      </ApproxTransformer>
    </Transformer>
    <BandList>
      <BandMapping src="1" dst="1">
        <SrcNoDataReal>127</SrcNoDataReal>
        <SrcNoDataImag>0</SrcNoDataImag>
        <DstNoDataReal>127</DstNoDataReal>
        <DstNoDataImag>0</DstNoDataImag>
      </BandMapping>
    </BandList>
  </GDALWarpOptions>
</VRTDataset>
