<VRTDataset rasterXSize="179017" rasterYSize="126200">
  <SRS dataAxisToSRSAxisMapping="1,2">PROJCS["NAD83 / UTM zone 4N",GEOGCS["NAD83",DATUM["North_American_Datum_1983",SPHEROID["GRS 1980",6378137,298.257222101004,AUTHORITY["EPSG","7019"]],AUTHORITY["EPSG","6269"]],PRIMEM["Greenwich",0],UNIT["degree",0.0174532925199433,AUTHORITY["EPSG","9122"]],AUTHORITY["EPSG","4269"]],PROJECTION["Transverse_Mercator"],PARAMETER["latitude_of_origin",0],PARAMETER["central_meridian",-159],PARAMETER["scale_factor",0.9996],PARAMETER["false_easting",500000],PARAMETER["false_northing",0],UNIT["metre",1,AUTHORITY["EPSG","9001"]],AXIS["Easting",EAST],AXIS["Northing",NORTH],AUTHORITY["EPSG","26904"]]</SRS>
  <GeoTransform>  4.1281779593409621e+05,  3.0000000000000000e+00,  0.0000000000000000e+00,  2.4643971182685806e+06,  0.0000000000000000e+00, -3.0000000000000000e+00</GeoTransform>
  <VRTRasterBand dataType="Byte" band="1">
    <NoDataValue>127</NoDataValue>
    <ColorInterp>Gray</ColorInterp>
    <ComplexSource>
      <SourceFilename relativeToVRT="0">./BulkDownload/High_Tide_Flooding/Moderate/HI_HTF_Mod_2023.tif</SourceFilename>
      <SourceBand>1</SourceBand>
      <SourceProperties RasterXSize="179017" RasterYSize="126200" DataType="Byte" BlockXSize="512" BlockYSize="512" />
      <SrcRect xOff="0" yOff="0" xSize="179017" ySize="126200" />
      <DstRect xOff="0" yOff="0" xSize="179017" ySize="126200" />
      <NODATA>127</NODATA>
    </ComplexSource>
  </VRTRasterBand>
  <OverviewList resampling="nearest">2 4 8 16 32</OverviewList>
</VRTDataset>
