<VRTDataset rasterXSize="55457" rasterYSize="11597" subClass="VRTWarpedDataset">
  <SRS dataAxisToSRSAxisMapping="2,1">GEOGCS["NAD83(2011)",DATUM["NAD83_National_Spatial_Reference_System_2011",SPHEROID["GRS 1980",6378137,298.257222101,AUTHORITY["EPSG","7019"]],AUTHORITY["EPSG","1116"]],PRIMEM["Greenwich",0,AUTHORITY["EPSG","8901"]],UNIT["degree",0.0174532925199433,AUTHORITY["EPSG","9122"]],AXIS["Latitude",NORTH],AXIS["Longitude",EAST],AUTHORITY["EPSG","6318"]]</SRS>
  <GeoTransform> -1.7089864611659610e+02,  2.7780524179831300e-05,  0.0000000000000000e+00, -1.4102417468736494e+01,  0.0000000000000000e+00, -2.7780524179831300e-05</GeoTransform>
  <VRTRasterBand dataType="Byte" band="1" subClass="VRTWarpedRasterBand">
    <NoDataValue>255</NoDataValue>
    <ColorInterp>Gray</ColorInterp>
  </VRTRasterBand>
  <BlockXSize>512</BlockXSize>
  <BlockYSize>128</BlockYSize>
  <GDALWarpOptions>
    <WarpMemoryLimit>6.71089e+07</WarpMemoryLimit>
    <ResampleAlg>NearestNeighbour</ResampleAlg>
    <WorkingDataType>Byte</WorkingDataType>
    <Option name="INIT_DEST">NO_DATA</Option>
    <Option name="APPLY_VERTICAL_SHIFT">YES</Option>
    <Option name="MULT_FACTOR_VERTICAL_SHIFT">1</Option>
    <Option name="MULT_FACTOR_VERTICAL_SHIFT_PIPELINE">1</Option>
    <Option name="ERROR_OUT_IF_EMPTY_SOURCE_WINDOW">FALSE</Option>
    <SourceDataset relativeToVRT="1">SLR_HTF_Moderate_4269_1_init.vrt</SourceDataset>
    <Transformer>
      <GenImgProjTransformer>
        <SrcGeoTransform>510940.16000000009,3.0000000000000018,0,8440329.5037977193,0,-3</SrcGeoTransform>
        <SrcInvGeoTransform>-170313.3866666666,0.33333333333333315,0,2813443.1679325732,0,-0.33333333333333331</SrcInvGeoTransform>
        <DstGeoTransform>-170.8986461165961,2.77805241798313e-05,0,-14.102417468736494,0,-2.77805241798313e-05</DstGeoTransform>
        <DstInvGeoTransform>6151743.0344481673,35996.441014817188,0,-507636.83857970068,0,-35996.441014817188</DstInvGeoTransform>
        <ReprojectTransformer>
          <ReprojectionTransformer>
            <SourceSRS>COMPD_CS["NAD83(PA11) / UTM zone 2S + unknown",PROJCS["NAD83(PA11) / UTM zone 2S",GEOGCS["NAD83",DATUM["North_American_Datum_1983",SPHEROID["GRS 1980",6378137,298.257222101004,AUTHORITY["EPSG","7019"]],AUTHORITY["EPSG","6269"]],PRIMEM["Greenwich",0],UNIT["degree",0.0174532925199433,AUTHORITY["EPSG","9122"]],AUTHORITY["EPSG","4269"]],PROJECTION["Transverse_Mercator"],PARAMETER["latitude_of_origin",0],PARAMETER["central_meridian",-171],PARAMETER["scale_factor",0.9996],PARAMETER["false_easting",500000],PARAMETER["false_northing",10000000],UNIT["metre",1,AUTHORITY["EPSG","9001"]],AXIS["Easting",EAST],AXIS["Northing",NORTH]],VERT_CS["unknown",VERT_DATUM["unknown",2005],UNIT["metre",1,AUTHORITY["EPSG","9001"]],AXIS["Up",UP]]]</SourceSRS>
            <TargetSRS>GEOGCRS["NAD83(2011)",DATUM["NAD83 (National Spatial Reference System 2011)",ELLIPSOID["GRS 1980",6378137,298.257222101,LENGTHUNIT["metre",1]],ANCHOREPOCH[2010]],PRIMEM["Greenwich",0,ANGLEUNIT["degree",0.0174532925199433]],CS[ellipsoidal,3],AXIS["geodetic latitude (Lat)",north,ORDER[1],ANGLEUNIT["degree",0.0174532925199433]],AXIS["geodetic longitude (Lon)",east,ORDER[2],ANGLEUNIT["degree",0.0174532925199433]],AXIS["ellipsoidal height (h)",up,ORDER[3],LENGTHUNIT["metre",1]],USAGE[SCOPE["Geodesy."],AREA["Puerto Rico - onshore and offshore. United States (USA) onshore and offshore - Alabama; Alaska; Arizona; Arkansas; California; Colorado; Connecticut; Delaware; Florida; Georgia; Idaho; Illinois; Indiana; Iowa; Kansas; Kentucky; Louisiana; Maine; Maryland; Massachusetts; Michigan; Minnesota; Mississippi; Missouri; Montana; Nebraska; Nevada; New Hampshire; New Jersey; New Mexico; New York; North Carolina; North Dakota; Ohio; Oklahoma; Oregon; Pennsylvania; Rhode Island; South Carolina; South Dakota; Tennessee; Texas; Utah; Vermont; Virginia; Washington; West Virginia; Wisconsin; Wyoming. US Virgin Islands - onshore and offshore."],BBOX[14.92,167.65,74.71,-63.88]],ID["EPSG",6319]]</TargetSRS>
            <Options>
              <Option key="AREA_OF_INTEREST">-170.8986461165961,-14.42458458648953,-169.3580200605661,-14.10241746873649</Option>
            </Options>
          </ReprojectionTransformer>
        </ReprojectTransformer>
      </GenImgProjTransformer>
    </Transformer>
    <BandList>
      <BandMapping src="1" dst="1">
        <SrcNoDataReal>255</SrcNoDataReal>
        <SrcNoDataImag>0</SrcNoDataImag>
        <DstNoDataReal>255</DstNoDataReal>
        <DstNoDataImag>0</DstNoDataImag>
      </BandMapping>
    </BandList>
  </GDALWarpOptions>
</VRTDataset>
