<VRTDataset rasterXSize="9455885" rasterYSize="1156683">
  <SRS dataAxisToSRSAxisMapping="2,1">GEOGCS["NAD83",DATUM["North_American_Datum_1983",SPHEROID["GRS 1980",6378137,298.257222101004,AUTHORITY["EPSG","7019"]],AUTHORITY["EPSG","6269"]],PRIMEM["Greenwich",0],UNIT["degree",0.0174532925199433,AUTHORITY["EPSG","9122"]],AXIS["Latitude",NORTH],AXIS["Longitude",EAST],AUTHORITY["EPSG","4269"]]</SRS>
  <GeoTransform> -1.2470478838299694e+02,  2.8615861417833491e-05,  0.0000000000000000e+00,  4.6300018940354583e+01,  0.0000000000000000e+00, -2.8615861417833467e-05</GeoTransform>
  <VRTRasterBand dataType="Byte" band="1">
    <NoDataValue>127</NoDataValue>
    <ColorInterp>Gray</ColorInterp>
    <ComplexSource>
      <SourceFilename relativeToVRT="0">./BulkDownload/High_Tide_Flooding/Moderate/AL_HTF_Mod_2022.tif</SourceFilename>
      <SourceBand>1</SourceBand>
      <SourceProperties RasterXSize="57910" RasterYSize="68600" DataType="Byte" BlockXSize="512" BlockYSize="512" />
      <SrcRect xOff="0" yOff="0" xSize="57910" ySize="68600" />
      <DstRect xOff="1266406.3824963" yOff="499994.069510218" xSize="54537.6957315096" ySize="64605.1791949847" />
      <NODATA>127</NODATA>
    </ComplexSource>
    <ComplexSource>
      <SourceFilename relativeToVRT="0">./BulkDownload/High_Tide_Flooding/Moderate/CA_Catalina_HTF_Mod_2023.tif</SourceFilename>
      <SourceBand>1</SourceBand>
      <SourceProperties RasterXSize="15850" RasterYSize="10547" DataType="Byte" BlockXSize="512" BlockYSize="512" />
      <SrcRect xOff="0" yOff="0" xSize="15850" ySize="10547" />
      <DstRect xOff="210952.339952888" yOff="446175.525884728" xSize="14926.9984000077" ySize="9932.810859614" />
      <NODATA>127</NODATA>
    </ComplexSource>
    <ComplexSource>
      <SourceFilename relativeToVRT="0">./BulkDownload/High_Tide_Flooding/Moderate/CT_HTF_NOS_Moderate_2025.tif</SourceFilename>
      <SourceBand>1</SourceBand>
      <SourceProperties RasterXSize="72204" RasterYSize="40510" DataType="Byte" BlockXSize="512" BlockYSize="512" />
      <SrcRect xOff="0" yOff="0" xSize="72204" ySize="40510" />
      <DstRect xOff="1781383.46926044" yOff="148877.778202896" xSize="67874.5109797585" ySize="38080.9434351286" />
      <NODATA>255</NODATA>
    </ComplexSource>
    <ComplexSource>
      <SourceFilename relativeToVRT="0">./BulkDownload/High_Tide_Flooding/Moderate/CNMI_HTF_Mod_2023.tif</SourceFilename>
      <SourceBand>1</SourceBand>
      <SourceProperties RasterXSize="30558" RasterYSize="47231" DataType="Byte" BlockXSize="512" BlockYSize="512" />
      <SrcRect xOff="0" yOff="0" xSize="30558" ySize="47231" />
      <DstRect xOff="9426931.69172951" yOff="1082062.13933046" xSize="28953.0901120367" ySize="44750.4221179922" />
      <NODATA>127</NODATA>
    </ComplexSource>
    <ComplexSource>
      <SourceFilename relativeToVRT="0">./BulkDownload/High_Tide_Flooding/Moderate/DC_NOS_Mod.tif</SourceFilename>
      <SourceBand>1</SourceBand>
      <SourceProperties RasterXSize="4716" RasterYSize="4539" DataType="Byte" BlockXSize="512" BlockYSize="512" />
      <SrcRect xOff="0" yOff="0" xSize="4716" ySize="4539" />
      <DstRect xOff="1662867.26706788" yOff="255231.553413505" xSize="7416.16675106436" ySize="7137.82461473287" />
      <NODATA>127</NODATA>
    </ComplexSource>
    <ComplexSource>
      <SourceFilename relativeToVRT="0">./BulkDownload/High_Tide_Flooding/Moderate/DE_NOS_Mod.tif</SourceFilename>
      <SourceBand>1</SourceBand>
      <SourceProperties RasterXSize="17930" RasterYSize="31001" DataType="Byte" BlockXSize="512" BlockYSize="512" />
      <SrcRect xOff="0" yOff="0" xSize="17930" ySize="31001" />
      <DstRect xOff="1709361.98232824" yOff="225569.26082457" xSize="28195.9011549156" ySize="48750.7602734825" />
      <NODATA>127</NODATA>
    </ComplexSource>
    <ComplexSource>
      <SourceFilename relativeToVRT="0">./BulkDownload/High_Tide_Flooding/Moderate/FL_East_1_HTF_Mod_2023.tif</SourceFilename>
      <SourceBand>1</SourceBand>
      <SourceProperties RasterXSize="60781" RasterYSize="68152" DataType="Byte" BlockXSize="512" BlockYSize="512" />
      <SrcRect xOff="0" yOff="0" xSize="60781" ySize="68152" />
      <DstRect xOff="1504236.89637988" yOff="611818.78018988" xSize="57241.5072398009" ySize="64183.2678206498" />
      <NODATA>127</NODATA>
    </ComplexSource>
    <ComplexSource>
      <SourceFilename relativeToVRT="0">./BulkDownload/High_Tide_Flooding/Moderate/FL_East_2_HTF_Mod_2023.tif</SourceFilename>
      <SourceBand>1</SourceBand>
      <SourceProperties RasterXSize="52708" RasterYSize="46947" DataType="Byte" BlockXSize="512" BlockYSize="512" />
      <SrcRect xOff="0" yOff="0" xSize="52708" ySize="46947" />
      <DstRect xOff="1489950.6600602" yOff="574544.639919466" xSize="49638.6266036331" ySize="44213.1100242992" />
      <NODATA>127</NODATA>
    </ComplexSource>
    <ComplexSource>
      <SourceFilename relativeToVRT="0">./BulkDownload/High_Tide_Flooding/Moderate/FL_Keys_HTF_Mod_2023.tif</SourceFilename>
      <SourceBand>1</SourceBand>
      <SourceProperties RasterXSize="106365" RasterYSize="35616" DataType="Byte" BlockXSize="512" BlockYSize="512" />
      <SrcRect xOff="0" yOff="0" xSize="106365" ySize="35616" />
      <DstRect xOff="1456851.01871938" yOff="731929.334374514" xSize="100170.989578346" ySize="33541.9542596001" />
      <NODATA>127</NODATA>
    </ComplexSource>
    <ComplexSource>
      <SourceFilename relativeToVRT="0">./BulkDownload/High_Tide_Flooding/Moderate/FL_NE_HTF_Mod_2023.tif</SourceFilename>
      <SourceBand>1</SourceBand>
      <SourceProperties RasterXSize="33461" RasterYSize="44868" DataType="Byte" BlockXSize="512" BlockYSize="512" />
      <SrcRect xOff="0" yOff="0" xSize="33461" ySize="44868" />
      <DstRect xOff="1490546.12784512" yOff="540586.084468683" xSize="31512.4475370758" ySize="42255.1775527784" />
      <NODATA>127</NODATA>
    </ComplexSource>
    <ComplexSource>
      <SourceFilename relativeToVRT="0">./BulkDownload/High_Tide_Flooding/Moderate/FL_SE_HTF_Mod_2023.tif</SourceFilename>
      <SourceBand>1</SourceBand>
      <SourceProperties RasterXSize="33913" RasterYSize="69200" DataType="Byte" BlockXSize="512" BlockYSize="512" />
      <SrcRect xOff="0" yOff="0" xSize="33913" ySize="69200" />
      <DstRect xOff="1531233.02304282" yOff="675432.498581751" xSize="31938.1259772522" ySize="65170.2390713253" />
      <NODATA>127</NODATA>
    </ComplexSource>
    <ComplexSource>
      <SourceFilename relativeToVRT="0">./BulkDownload/High_Tide_Flooding/Moderate/FL_SW_HTF_Mod_2023.tif</SourceFilename>
      <SourceBand>1</SourceBand>
      <SourceProperties RasterXSize="54882" RasterYSize="68442" DataType="Byte" BlockXSize="512" BlockYSize="512" />
      <SrcRect xOff="0" yOff="0" xSize="54882" ySize="68442" />
      <DstRect xOff="1480603.54509711" yOff="676211.188244127" xSize="51686.026888909" ySize="64456.380094215" />
      <NODATA>127</NODATA>
    </ComplexSource>
    <ComplexSource>
      <SourceFilename relativeToVRT="0">./BulkDownload/High_Tide_Flooding/Moderate/FL_West_2_HTF_Mod_2023.tif</SourceFilename>
      <SourceBand>1</SourceBand>
      <SourceProperties RasterXSize="59490" RasterYSize="43037" DataType="Byte" BlockXSize="512" BlockYSize="512" />
      <SrcRect xOff="0" yOff="0" xSize="59490" ySize="43037" />
      <DstRect xOff="1448983.08031877" yOff="583865.104537668" xSize="56025.6867392075" ySize="40530.8031634775" />
      <NODATA>127</NODATA>
    </ComplexSource>
    <ComplexSource>
      <SourceFilename relativeToVRT="0">./BulkDownload/High_Tide_Flooding/Moderate/FL_West_3_HTF_Mod_2023.tif</SourceFilename>
      <SourceBand>1</SourceBand>
      <SourceProperties RasterXSize="49932" RasterYSize="39148" DataType="Byte" BlockXSize="512" BlockYSize="512" />
      <SrcRect xOff="0" yOff="0" xSize="49932" ySize="39148" />
      <DstRect xOff="1422423.25998081" yOff="558952.388833233" xSize="47024.282909096" ySize="36868.2733983276" />
      <NODATA>127</NODATA>
    </ComplexSource>
    <ComplexSource>
      <SourceFilename relativeToVRT="0">./BulkDownload/High_Tide_Flooding/Moderate/Guam_HTF_Mod_2023.tif</SourceFilename>
      <SourceBand>1</SourceBand>
      <SourceProperties RasterXSize="15114" RasterYSize="18081" DataType="Byte" BlockXSize="512" BlockYSize="512" />
      <SrcRect xOff="0" yOff="0" xSize="15114" ySize="18080.8877313118" />
      <DstRect xOff="9410470.09573027" yOff="1139655.02635735" xSize="14233.8582850287" ySize="17027.9736426496" />
      <NODATA>127</NODATA>
    </ComplexSource>
    <ComplexSource>
      <SourceFilename relativeToVRT="0">./BulkDownload/High_Tide_Flooding/Moderate/LA_CEntralEast_GCS_Merge_NOS_Mod.tif</SourceFilename>
      <SourceBand>1</SourceBand>
      <SourceProperties RasterXSize="63242" RasterYSize="62075" DataType="Byte" BlockXSize="512" BlockYSize="512" />
      <SrcRect xOff="0" yOff="0" xSize="63242" ySize="62075" />
      <DstRect xOff="1153294.96856673" yOff="546613.234360818" xSize="59559.1944992597" ySize="58460.1530397765" />
      <NODATA>127</NODATA>
    </ComplexSource>
    <ComplexSource>
      <SourceFilename relativeToVRT="0">./BulkDownload/High_Tide_Flooding/Moderate/LA_CEntral_GCS_Merge_NOS_Mod.tif</SourceFilename>
      <SourceBand>1</SourceBand>
      <SourceProperties RasterXSize="61525" RasterYSize="46752" DataType="Byte" BlockXSize="512" BlockYSize="512" />
      <SrcRect xOff="0" yOff="0" xSize="61525" ySize="46752" />
      <DstRect xOff="1117043.07361147" yOff="552189.535700843" xSize="57942.1814864642" ySize="44029.4655644889" />
      <NODATA>127</NODATA>
    </ComplexSource>
    <ComplexSource>
      <SourceFilename relativeToVRT="0">./BulkDownload/High_Tide_Flooding/Moderate/LA_CentralNorth_Mod.tif</SourceFilename>
      <SourceBand>1</SourceBand>
      <SourceProperties RasterXSize="49220" RasterYSize="26515" DataType="Byte" BlockXSize="512" BlockYSize="512" />
      <SrcRect xOff="0" yOff="0" xSize="49220" ySize="26515" />
      <DstRect xOff="1120703.7888709" yOff="534231.02338584" xSize="46353.7451891713" ySize="24970.9377019682" />
      <NODATA>127</NODATA>
    </ComplexSource>
    <ComplexSource>
      <SourceFilename relativeToVRT="0">./BulkDownload/High_Tide_Flooding/Moderate/LA_Delta_Mod.tif</SourceFilename>
      <SourceBand>1</SourceBand>
      <SourceProperties RasterXSize="71705" RasterYSize="50422" DataType="Byte" BlockXSize="512" BlockYSize="512" />
      <SrcRect xOff="0" yOff="0" xSize="71705" ySize="50422" />
      <DstRect xOff="1188677.23294458" yOff="562169.304583493" xSize="67529.364055049" ySize="47485.7484747741" />
      <NODATA>127</NODATA>
    </ComplexSource>
    <ComplexSource>
      <SourceFilename relativeToVRT="0">./BulkDownload/High_Tide_Flooding/Moderate/LA_LakePontchartrain_GCS_Merge_NOS_Mod.tif</SourceFilename>
      <SourceBand>1</SourceBand>
      <SourceProperties RasterXSize="80111" RasterYSize="40487" DataType="Byte" BlockXSize="512" BlockYSize="512" />
      <SrcRect xOff="0" yOff="0" xSize="80111" ySize="40487" />
      <DstRect xOff="1154676.72637241" yOff="534658.05020827" xSize="75445.8529225861" ySize="38129.2986890284" />
      <NODATA>127</NODATA>
    </ComplexSource>
    <ComplexSource>
      <SourceFilename relativeToVRT="0">./BulkDownload/High_Tide_Flooding/Moderate/LA_West_GCS_Merge_NOS_Mod.tif</SourceFilename>
      <SourceBand>1</SourceBand>
      <SourceProperties RasterXSize="50040" RasterYSize="45013" DataType="Byte" BlockXSize="512" BlockYSize="512" />
      <SrcRect xOff="0" yOff="0" xSize="50040" ySize="45013" />
      <DstRect xOff="1075436.68299401" yOff="543733.901093243" xSize="47125.993686837" ySize="42391.7336895603" />
      <NODATA>127</NODATA>
    </ComplexSource>
    <ComplexSource>
      <SourceFilename relativeToVRT="0">./BulkDownload/High_Tide_Flooding/Moderate/MD_East_GCS_Merge_NOS_Mod.tif</SourceFilename>
      <SourceBand>1</SourceBand>
      <SourceProperties RasterXSize="28460" RasterYSize="44790" DataType="Byte" BlockXSize="512" BlockYSize="512" />
      <SrcRect xOff="0" yOff="0" xSize="28460" ySize="44790" />
      <DstRect xOff="1685727.55794204" yOff="245889.451602522" xSize="26802.673467771" ySize="42181.7197688498" />
      <NODATA>127</NODATA>
    </ComplexSource>
    <ComplexSource>
      <SourceFilename relativeToVRT="0">./BulkDownload/High_Tide_Flooding/Moderate/MD_Southeast_GCS_Merge_NOS_Mod.tif</SourceFilename>
      <SourceBand>1</SourceBand>
      <SourceProperties RasterXSize="46474" RasterYSize="25088" DataType="Byte" BlockXSize="512" BlockYSize="512" />
      <SrcRect xOff="0" yOff="0" xSize="46474" ySize="25088" />
      <DstRect xOff="1693717.78297314" yOff="270416.77086547" xSize="43767.6544884507" ySize="23627.0369627372" />
      <NODATA>127</NODATA>
    </ComplexSource>
    <ComplexSource>
      <SourceFilename relativeToVRT="0">./BulkDownload/High_Tide_Flooding/Moderate/MS_GCS_Merge_NOS_Mod.tif</SourceFilename>
      <SourceBand>1</SourceBand>
      <SourceProperties RasterXSize="48533" RasterYSize="21958" DataType="Byte" BlockXSize="512" BlockYSize="512" />
      <SrcRect xOff="0" yOff="0" xSize="48533" ySize="21958" />
      <DstRect xOff="1223568.34237989" yOff="543861.641284309" xSize="45706.7516307607" ySize="20679.3079411585" />
      <NODATA>127</NODATA>
    </ComplexSource>
    <ComplexSource>
      <SourceFilename relativeToVRT="0">./BulkDownload/High_Tide_Flooding/Moderate/NC_Southern2_HTF_NOS_Moderate_2025.tif</SourceFilename>
      <SourceBand>1</SourceBand>
      <SourceProperties RasterXSize="64168" RasterYSize="50670" DataType="Byte" BlockXSize="512" BlockYSize="512" />
      <SrcRect xOff="0" yOff="0" xSize="64168" ySize="50670" />
      <DstRect xOff="1641510.0390595" yOff="368263.741748348" xSize="60320.3648073399" ySize="47631.7305321642" />
      <NODATA>255</NODATA>
    </ComplexSource>
    <ComplexSource>
      <SourceFilename relativeToVRT="0">./BulkDownload/High_Tide_Flooding/Moderate/NC_Southern1_HTF_NOS_Moderate_2025.tif</SourceFilename>
      <SourceBand>1</SourceBand>
      <SourceProperties RasterXSize="43433" RasterYSize="36476" DataType="Byte" BlockXSize="512" BlockYSize="512" />
      <SrcRect xOff="0" yOff="0" xSize="43433" ySize="36476" />
      <DstRect xOff="1609351.54353049" yOff="404210.824148719" xSize="40828.6748017266" ySize="34288.8297393175" />
      <NODATA>255</NODATA>
    </ComplexSource>
    <ComplexSource>
      <SourceFilename relativeToVRT="0">./BulkDownload/High_Tide_Flooding/Moderate/NJ_MIDDLE_Merge_NOS_Mod.tif</SourceFilename>
      <SourceBand>1</SourceBand>
      <SourceProperties RasterXSize="43704" RasterYSize="39040" DataType="Byte" BlockXSize="512" BlockYSize="512" />
      <SrcRect xOff="0" yOff="0" xSize="43704" ySize="39040" />
      <DstRect xOff="1734810.63540104" yOff="201762.687954809" xSize="41158.9613926764" ySize="36766.5626205858" />
      <NODATA>127</NODATA>
    </ComplexSource>
    <ComplexSource>
      <SourceFilename relativeToVRT="0">./BulkDownload/High_Tide_Flooding/Moderate/NJ_NORTHERN_Merge_NOS_Mod.tif</SourceFilename>
      <SourceBand>1</SourceBand>
      <SourceProperties RasterXSize="33615" RasterYSize="35384" DataType="Byte" BlockXSize="512" BlockYSize="512" />
      <SrcRect xOff="0" yOff="0" xSize="33615" ySize="35384" />
      <DstRect xOff="1744001.34147327" yOff="178090.954989468" xSize="31657.4795720032" ySize="33323.4644407484" />
      <NODATA>127</NODATA>
    </ComplexSource>
    <ComplexSource>
      <SourceFilename relativeToVRT="0">./BulkDownload/High_Tide_Flooding/Moderate/NJ_SOUTHERN_Merge_NOS_Mod.tif</SourceFilename>
      <SourceBand>1</SourceBand>
      <SourceProperties RasterXSize="49776" RasterYSize="44875" DataType="Byte" BlockXSize="512" BlockYSize="512" />
      <SrcRect xOff="0" yOff="0" xSize="49776" ySize="44875" />
      <DstRect xOff="1716965.62625057" yOff="220259.18761844" xSize="46877.3673412476" ySize="42261.7699180025" />
      <NODATA>127</NODATA>
    </ComplexSource>
    <ComplexSource>
      <SourceFilename relativeToVRT="0">./BulkDownload/High_Tide_Flooding/Moderate/NY_Hudson_Merge_NOS_Mod.tif</SourceFilename>
      <SourceBand>1</SourceBand>
      <SourceProperties RasterXSize="18540" RasterYSize="56496" DataType="Byte" BlockXSize="512" BlockYSize="512" />
      <SrcRect xOff="0" yOff="0" xSize="18540" ySize="56496" />
      <DstRect xOff="1767670.37204819" yOff="122410.667648357" xSize="17460.350178936" ySize="53206.0379562658" />
      <NODATA>127</NODATA>
    </ComplexSource>
    <ComplexSource>
      <SourceFilename relativeToVRT="0">./BulkDownload/High_Tide_Flooding/Moderate/NY_Metro_Merge_NOS_Mod.tif</SourceFilename>
      <SourceBand>1</SourceBand>
      <SourceProperties RasterXSize="31106" RasterYSize="31916" DataType="Byte" BlockXSize="512" BlockYSize="512" />
      <SrcRect xOff="0" yOff="0" xSize="31106" ySize="31916" />
      <DstRect xOff="1762816.80686771" yOff="173450.307197274" xSize="29294.5875224374" ySize="30057.4183554978" />
      <NODATA>127</NODATA>
    </ComplexSource>
    <ComplexSource>
      <SourceFilename relativeToVRT="0">./BulkDownload/High_Tide_Flooding/Moderate/NY_Suffolk_Merge_NOS_Mod.tif</SourceFilename>
      <SourceBand>1</SourceBand>
      <SourceProperties RasterXSize="64001" RasterYSize="28866" DataType="Byte" BlockXSize="512" BlockYSize="512" />
      <SrcRect xOff="0" yOff="0" xSize="64001" ySize="28866" />
      <DstRect xOff="1789346.77057168" yOff="174334.491546951" xSize="60273.9952428312" ySize="27185.0306507642" />
      <NODATA>127</NODATA>
    </ComplexSource>
    <ComplexSource>
      <SourceFilename relativeToVRT="0">./BulkDownload/High_Tide_Flooding/Moderate/OR_MFR_Merge_NOS_Mod.tif</SourceFilename>
      <SourceBand>1</SourceBand>
      <SourceProperties RasterXSize="60716" RasterYSize="43367" DataType="Byte" BlockXSize="512" BlockYSize="512" />
      <SrcRect xOff="0" yOff="0" xSize="60716" ySize="43367" />
      <DstRect xOff="0" yOff="82260.920334251" xSize="95479.2155338462" ySize="68196.968510052" />
      <NODATA>127</NODATA>
    </ComplexSource>
    <ComplexSource>
      <SourceFilename relativeToVRT="0">./BulkDownload/High_Tide_Flooding/Moderate/OR_PQR1_Merge_NOS_Mod.tif</SourceFilename>
      <SourceBand>1</SourceBand>
      <SourceProperties RasterXSize="13815" RasterYSize="42822" DataType="Byte" BlockXSize="512" BlockYSize="512" />
      <SrcRect xOff="0" yOff="0" xSize="13815" ySize="42822" />
      <DstRect xOff="16539.4087899274" yOff="18018.3697702823" xSize="21684.1727545849" ySize="67213.8722907588" />
      <NODATA>127</NODATA>
    </ComplexSource>
    <ComplexSource>
      <SourceFilename relativeToVRT="0">./BulkDownload/High_Tide_Flooding/Moderate/OR_PQR2_Merge_NOS_Mod.tif</SourceFilename>
      <SourceBand>1</SourceBand>
      <SourceProperties RasterXSize="52039" RasterYSize="19298" DataType="Byte" BlockXSize="512" BlockYSize="512" />
      <SrcRect xOff="0" yOff="0" xSize="52039" ySize="19298" />
      <DstRect xOff="19007.8003763098" yOff="0" xSize="81834.1606358429" ySize="30347.1556323239" />
      <NODATA>127</NODATA>
    </ComplexSource>
    <ComplexSource>
      <SourceFilename relativeToVRT="0">./BulkDownload/High_Tide_Flooding/Moderate/PA_Merge_NOS_Mod.tif</SourceFilename>
      <SourceBand>1</SourceBand>
      <SourceProperties RasterXSize="32742" RasterYSize="20105" DataType="Byte" BlockXSize="512" BlockYSize="512" />
      <SrcRect xOff="0" yOff="0" xSize="32742" ySize="20105" />
      <DstRect xOff="1715904.06744108" yOff="208181.950491852" xSize="30835.3174519271" ySize="18934.2146897257" />
      <NODATA>127</NODATA>
    </ComplexSource>
    <ComplexSource>
      <SourceFilename relativeToVRT="0">./BulkDownload/High_Tide_Flooding/Moderate/PR_HTF_Mod.tif</SourceFilename>
      <SourceBand>1</SourceBand>
      <SourceProperties RasterXSize="105452" RasterYSize="27559" DataType="Byte" BlockXSize="512" BlockYSize="512" />
      <SrcRect xOff="0" yOff="0" xSize="105452" ySize="27559" />
      <DstRect xOff="1981270.75554299" yOff="969044.587394755" xSize="99311.1567998469" ySize="25954.1418868014" />
      <NODATA>127</NODATA>
    </ComplexSource>
    <ComplexSource>
      <SourceFilename relativeToVRT="0">./BulkDownload/High_Tide_Flooding/Moderate/SC_Merge_NOS_Mod.tif</SourceFilename>
      <SourceBand>1</SourceBand>
      <SourceProperties RasterXSize="56857" RasterYSize="38086" DataType="Byte" BlockXSize="512" BlockYSize="512" />
      <SrcRect xOff="0" yOff="0" xSize="56857" ySize="38086" />
      <DstRect xOff="1534524.72628402" yOff="447022.904720735" xSize="53546.0156485312" ySize="35868.1174172039" />
      <NODATA>127</NODATA>
    </ComplexSource>
    <ComplexSource>
      <SourceFilename relativeToVRT="0">./BulkDownload/High_Tide_Flooding/Moderate/SC_North_NOS_Mod.tif</SourceFilename>
      <SourceBand>1</SourceBand>
      <SourceProperties RasterXSize="59540" RasterYSize="46739" DataType="Byte" BlockXSize="512" BlockYSize="512" />
      <SrcRect xOff="0" yOff="0" xSize="59540" ySize="46739" />
      <DstRect xOff="1558646.50214038" yOff="419051.8933096" xSize="56072.7750622361" ySize="44017.2226005015" />
      <NODATA>127</NODATA>
    </ComplexSource>
    <ComplexSource>
      <SourceFilename relativeToVRT="0">./BulkDownload/High_Tide_Flooding/Moderate/SC_South_NOS_Mod.tif</SourceFilename>
      <SourceBand>1</SourceBand>
      <SourceProperties RasterXSize="44753" RasterYSize="42656" DataType="Byte" BlockXSize="512" BlockYSize="512" />
      <SrcRect xOff="0" yOff="0" xSize="44753" ySize="42656" />
      <DstRect xOff="1512315.15173402" yOff="458414.526019762" xSize="42146.8744098126" ySize="40171.9901420009" />
      <NODATA>127</NODATA>
    </ComplexSource>
    <ComplexSource>
      <SourceFilename relativeToVRT="0">./BulkDownload/High_Tide_Flooding/Moderate/TX_Central_NOS_Mod.tif</SourceFilename>
      <SourceBand>1</SourceBand>
      <SourceProperties RasterXSize="67214" RasterYSize="46118" DataType="Byte" BlockXSize="512" BlockYSize="512" />
      <SrcRect xOff="0" yOff="0" xSize="67214" ySize="46118" />
      <DstRect xOff="957435.710110146" yOff="595307.646398079" xSize="63299.8908734977" ySize="43432.3856235899" />
      <NODATA>127</NODATA>
    </ComplexSource>
    <ComplexSource>
      <SourceFilename relativeToVRT="0">./BulkDownload/High_Tide_Flooding/Moderate/TX_NOrth1_NOS_Mod.tif</SourceFilename>
      <SourceBand>1</SourceBand>
      <SourceProperties RasterXSize="45518" RasterYSize="62416" DataType="Byte" BlockXSize="512" BlockYSize="512" />
      <SrcRect xOff="0" yOff="0" xSize="45518" ySize="62416" />
      <DstRect xOff="1047356.6261863" yOff="528116.742362404" xSize="42867.3257844173" ySize="58781.2954470801" />
      <NODATA>127</NODATA>
    </ComplexSource>
    <ComplexSource>
      <SourceFilename relativeToVRT="0">./BulkDownload/High_Tide_Flooding/Moderate/TX_NOrth2_NOS_Mod.tif</SourceFilename>
      <SourceBand>1</SourceBand>
      <SourceProperties RasterXSize="59722" RasterYSize="64054" DataType="Byte" BlockXSize="512" BlockYSize="512" />
      <SrcRect xOff="0" yOff="0" xSize="59722" ySize="64054" />
      <DstRect xOff="1004441.99621697" yOff="552335.764045055" xSize="56244.1765599609" ySize="60323.9088672807" />
      <NODATA>127</NODATA>
    </ComplexSource>
    <ComplexSource>
      <SourceFilename relativeToVRT="0">./BulkDownload/High_Tide_Flooding/Moderate/TX_South1_NOS_Mod.tif</SourceFilename>
      <SourceBand>1</SourceBand>
      <SourceProperties RasterXSize="43825" RasterYSize="37043" DataType="Byte" BlockXSize="512" BlockYSize="512" />
      <SrcRect xOff="0" yOff="0" xSize="43825" ySize="37043" />
      <DstRect xOff="935202.628473697" yOff="620085.625599805" xSize="41272.9151065835" ySize="34885.8549753149" />
      <NODATA>127</NODATA>
    </ComplexSource>
    <ComplexSource>
      <SourceFilename relativeToVRT="0">./BulkDownload/High_Tide_Flooding/Moderate/TX_South2_NOS_Mod.tif</SourceFilename>
      <SourceBand>1</SourceBand>
      <SourceProperties RasterXSize="36085" RasterYSize="66805" DataType="Byte" BlockXSize="512" BlockYSize="512" />
